Workbook

Sheet Modul Compact Plan Vertikal
I1: Versio: | J1: 42076
C3: Modul Compact Plan Vertikal
A5: =((((D5+F5)/2)-H5)/50)^1.28 -> 0.52003623 | C5: Menolämp. | D5: 60 | E5: Paluulämp. | F5: 40 | G5: Huonelämp. | H5: 20
C8: Pituus 200
D9: Teho (W)
C10: Korkeus (mm) | D10: MCPV10 | E10: MCPV20 | F10: MCPV30
C11: 400 | D11: =Blad1!$C7*((('Modul Compact Plan Vertikal'!$D$5-'Modul Compact Plan Vertikal'!$F$5)/(LN(('Modul Compact Plan Vertikal'!$D$5-'Modul Compact Plan Vertikal'!$H$5)/('Modul Compact Plan Vertikal'!$F$5-'Modul Compact Plan Vertikal'!$H$5))))/49.8329)^Blad1!$D$13 -> 41.990447 | E11: =Blad1!$E7*((('Modul Compact Plan Vertikal'!$D$5-'Modul Compact Plan Vertikal'!$F$5)/(LN(('Modul Compact Plan Vertikal'!$D$5-'Modul Compact Plan Vertikal'!$H$5)/('Modul Compact Plan Vertikal'!$F$5-'Modul Compact Plan Vertikal'!$H$5))))/49.8329)^Blad1!$F$13 -> 57.109143 | F11: =Blad1!$G7*((('Modul Compact Plan Vertikal'!$D$5-'Modul Compact Plan Vertikal'!$F$5)/(LN(('Modul Compact Plan Vertikal'!$D$5-'Modul Compact Plan Vertikal'!$H$5)/('Modul Compact Plan Vertikal'!$F$5-'Modul Compact Plan Vertikal'!$H$5))))/49.8329)^Blad1!$H$13 -> 89.004255
C12: 500 | D12: =Blad1!$C8*((('Modul Compact Plan Vertikal'!$D$5-'Modul Compact Plan Vertikal'!$F$5)/(LN(('Modul Compact Plan Vertikal'!$D$5-'Modul Compact Plan Vertikal'!$H$5)/('Modul Compact Plan Vertikal'!$F$5-'Modul Compact Plan Vertikal'!$H$5))))/49.8329)^Blad1!$D$13 -> 53.626353 | E12: =Blad1!$E8*((('Modul Compact Plan Vertikal'!$D$5-'Modul Compact Plan Vertikal'!$F$5)/(LN(('Modul Compact Plan Vertikal'!$D$5-'Modul Compact Plan Vertikal'!$H$5)/('Modul Compact Plan Vertikal'!$F$5-'Modul Compact Plan Vertikal'!$H$5))))/49.8329)^Blad1!$F$13 -> 74.141694 | F12: =Blad1!$G8*((('Modul Compact Plan Vertikal'!$D$5-'Modul Compact Plan Vertikal'!$F$5)/(LN(('Modul Compact Plan Vertikal'!$D$5-'Modul Compact Plan Vertikal'!$H$5)/('Modul Compact Plan Vertikal'!$F$5-'Modul Compact Plan Vertikal'!$H$5))))/49.8329)^Blad1!$H$13 -> 114.0828
C13: 600 | D13: =Blad1!$C9*((('Modul Compact Plan Vertikal'!$D$5-'Modul Compact Plan Vertikal'!$F$5)/(LN(('Modul Compact Plan Vertikal'!$D$5-'Modul Compact Plan Vertikal'!$H$5)/('Modul Compact Plan Vertikal'!$F$5-'Modul Compact Plan Vertikal'!$H$5))))/49.8329)^Blad1!$D$13 -> 61.720897 | E13: =Blad1!$E9*((('Modul Compact Plan Vertikal'!$D$5-'Modul Compact Plan Vertikal'!$F$5)/(LN(('Modul Compact Plan Vertikal'!$D$5-'Modul Compact Plan Vertikal'!$H$5)/('Modul Compact Plan Vertikal'!$F$5-'Modul Compact Plan Vertikal'!$H$5))))/49.8329)^Blad1!$F$13 -> 87.166587 | F13: =Blad1!$G9*((('Modul Compact Plan Vertikal'!$D$5-'Modul Compact Plan Vertikal'!$F$5)/(LN(('Modul Compact Plan Vertikal'!$D$5-'Modul Compact Plan Vertikal'!$H$5)/('Modul Compact Plan Vertikal'!$F$5-'Modul Compact Plan Vertikal'!$H$5))))/49.8329)^Blad1!$H$13 -> 132.27704
C14: 700 | D14: =Blad1!$C10*((('Modul Compact Plan Vertikal'!$D$5-'Modul Compact Plan Vertikal'!$F$5)/(LN(('Modul Compact Plan Vertikal'!$D$5-'Modul Compact Plan Vertikal'!$H$5)/('Modul Compact Plan Vertikal'!$F$5-'Modul Compact Plan Vertikal'!$H$5))))/49.8329)^Blad1!$D$13 -> 74.368622 | E14: =Blad1!$E10*((('Modul Compact Plan Vertikal'!$D$5-'Modul Compact Plan Vertikal'!$F$5)/(LN(('Modul Compact Plan Vertikal'!$D$5-'Modul Compact Plan Vertikal'!$H$5)/('Modul Compact Plan Vertikal'!$F$5-'Modul Compact Plan Vertikal'!$H$5))))/49.8329)^Blad1!$F$13 -> 118.22595 | F14: =Blad1!$G10*((('Modul Compact Plan Vertikal'!$D$5-'Modul Compact Plan Vertikal'!$F$5)/(LN(('Modul Compact Plan Vertikal'!$D$5-'Modul Compact Plan Vertikal'!$H$5)/('Modul Compact Plan Vertikal'!$F$5-'Modul Compact Plan Vertikal'!$H$5))))/49.8329)^Blad1!$H$13 -> 158.33906
C15: 800 | D15: =Blad1!$C11*((('Modul Compact Plan Vertikal'!$D$5-'Modul Compact Plan Vertikal'!$F$5)/(LN(('Modul Compact Plan Vertikal'!$D$5-'Modul Compact Plan Vertikal'!$H$5)/('Modul Compact Plan Vertikal'!$F$5-'Modul Compact Plan Vertikal'!$H$5))))/49.8329)^Blad1!$D$13 -> 81.957257 | E15: =Blad1!$E11*((('Modul Compact Plan Vertikal'!$D$5-'Modul Compact Plan Vertikal'!$F$5)/(LN(('Modul Compact Plan Vertikal'!$D$5-'Modul Compact Plan Vertikal'!$H$5)/('Modul Compact Plan Vertikal'!$F$5-'Modul Compact Plan Vertikal'!$H$5))))/49.8329)^Blad1!$F$13 -> 131.75179 | F15: =Blad1!$G11*((('Modul Compact Plan Vertikal'!$D$5-'Modul Compact Plan Vertikal'!$F$5)/(LN(('Modul Compact Plan Vertikal'!$D$5-'Modul Compact Plan Vertikal'!$H$5)/('Modul Compact Plan Vertikal'!$F$5-'Modul Compact Plan Vertikal'!$H$5))))/49.8329)^Blad1!$H$13 -> 174.56636
C16: 900 | D16: =Blad1!$C12*((('Modul Compact Plan Vertikal'!$D$5-'Modul Compact Plan Vertikal'!$F$5)/(LN(('Modul Compact Plan Vertikal'!$D$5-'Modul Compact Plan Vertikal'!$H$5)/('Modul Compact Plan Vertikal'!$F$5-'Modul Compact Plan Vertikal'!$H$5))))/49.8329)^Blad1!$D$13 -> 94.099073 | E16: =Blad1!$E12*((('Modul Compact Plan Vertikal'!$D$5-'Modul Compact Plan Vertikal'!$F$5)/(LN(('Modul Compact Plan Vertikal'!$D$5-'Modul Compact Plan Vertikal'!$H$5)/('Modul Compact Plan Vertikal'!$F$5-'Modul Compact Plan Vertikal'!$H$5))))/49.8329)^Blad1!$F$13 -> 151.79009 | F16: =Blad1!$G12*((('Modul Compact Plan Vertikal'!$D$5-'Modul Compact Plan Vertikal'!$F$5)/(LN(('Modul Compact Plan Vertikal'!$D$5-'Modul Compact Plan Vertikal'!$H$5)/('Modul Compact Plan Vertikal'!$F$5-'Modul Compact Plan Vertikal'!$H$5))))/49.8329)^Blad1!$H$13 -> 201.61185
C17: 1000 | D17: =Blad1!$C13*((('Modul Compact Plan Vertikal'!$D$5-'Modul Compact Plan Vertikal'!$F$5)/(LN(('Modul Compact Plan Vertikal'!$D$5-'Modul Compact Plan Vertikal'!$H$5)/('Modul Compact Plan Vertikal'!$F$5-'Modul Compact Plan Vertikal'!$H$5))))/49.8329)^Blad1!$D$13 -> 102.19362 | E17: =Blad1!$E13*((('Modul Compact Plan Vertikal'!$D$5-'Modul Compact Plan Vertikal'!$F$5)/(LN(('Modul Compact Plan Vertikal'!$D$5-'Modul Compact Plan Vertikal'!$H$5)/('Modul Compact Plan Vertikal'!$F$5-'Modul Compact Plan Vertikal'!$H$5))))/49.8329)^Blad1!$F$13 -> 164.31403 | F17: =Blad1!$G13*((('Modul Compact Plan Vertikal'!$D$5-'Modul Compact Plan Vertikal'!$F$5)/(LN(('Modul Compact Plan Vertikal'!$D$5-'Modul Compact Plan Vertikal'!$H$5)/('Modul Compact Plan Vertikal'!$F$5-'Modul Compact Plan Vertikal'!$H$5))))/49.8329)^Blad1!$H$13 -> 218.33088
C18: 1100 | D18: =Blad1!$C14*((('Modul Compact Plan Vertikal'!$D$5-'Modul Compact Plan Vertikal'!$F$5)/(LN(('Modul Compact Plan Vertikal'!$D$5-'Modul Compact Plan Vertikal'!$H$5)/('Modul Compact Plan Vertikal'!$F$5-'Modul Compact Plan Vertikal'!$H$5))))/49.8329)^Blad1!$D$13 -> 114.84134 | E18: =Blad1!$E14*((('Modul Compact Plan Vertikal'!$D$5-'Modul Compact Plan Vertikal'!$F$5)/(LN(('Modul Compact Plan Vertikal'!$D$5-'Modul Compact Plan Vertikal'!$H$5)/('Modul Compact Plan Vertikal'!$F$5-'Modul Compact Plan Vertikal'!$H$5))))/49.8329)^Blad1!$F$13 -> 184.85328 | F18: =Blad1!$G14*((('Modul Compact Plan Vertikal'!$D$5-'Modul Compact Plan Vertikal'!$F$5)/(LN(('Modul Compact Plan Vertikal'!$D$5-'Modul Compact Plan Vertikal'!$H$5)/('Modul Compact Plan Vertikal'!$F$5-'Modul Compact Plan Vertikal'!$H$5))))/49.8329)^Blad1!$H$13 -> 244.3929
C19: 1200 | D19: =Blad1!$C15*((('Modul Compact Plan Vertikal'!$D$5-'Modul Compact Plan Vertikal'!$F$5)/(LN(('Modul Compact Plan Vertikal'!$D$5-'Modul Compact Plan Vertikal'!$H$5)/('Modul Compact Plan Vertikal'!$F$5-'Modul Compact Plan Vertikal'!$H$5))))/49.8329)^Blad1!$D$13 -> 122.93589 | E19: =Blad1!$E15*((('Modul Compact Plan Vertikal'!$D$5-'Modul Compact Plan Vertikal'!$F$5)/(LN(('Modul Compact Plan Vertikal'!$D$5-'Modul Compact Plan Vertikal'!$H$5)/('Modul Compact Plan Vertikal'!$F$5-'Modul Compact Plan Vertikal'!$H$5))))/49.8329)^Blad1!$F$13 -> 197.87817 | F19: =Blad1!$G15*((('Modul Compact Plan Vertikal'!$D$5-'Modul Compact Plan Vertikal'!$F$5)/(LN(('Modul Compact Plan Vertikal'!$D$5-'Modul Compact Plan Vertikal'!$H$5)/('Modul Compact Plan Vertikal'!$F$5-'Modul Compact Plan Vertikal'!$H$5))))/49.8329)^Blad1!$H$13 -> 261.60367
C20: 1300 | D20: =Blad1!$C16*((('Modul Compact Plan Vertikal'!$D$5-'Modul Compact Plan Vertikal'!$F$5)/(LN(('Modul Compact Plan Vertikal'!$D$5-'Modul Compact Plan Vertikal'!$H$5)/('Modul Compact Plan Vertikal'!$F$5-'Modul Compact Plan Vertikal'!$H$5))))/49.8329)^Blad1!$D$13 -> 133.05407 | E20: =Blad1!$E16*((('Modul Compact Plan Vertikal'!$D$5-'Modul Compact Plan Vertikal'!$F$5)/(LN(('Modul Compact Plan Vertikal'!$D$5-'Modul Compact Plan Vertikal'!$H$5)/('Modul Compact Plan Vertikal'!$F$5-'Modul Compact Plan Vertikal'!$H$5))))/49.8329)^Blad1!$F$13 -> 214.40977 | F20: =Blad1!$G16*((('Modul Compact Plan Vertikal'!$D$5-'Modul Compact Plan Vertikal'!$F$5)/(LN(('Modul Compact Plan Vertikal'!$D$5-'Modul Compact Plan Vertikal'!$H$5)/('Modul Compact Plan Vertikal'!$F$5-'Modul Compact Plan Vertikal'!$H$5))))/49.8329)^Blad1!$H$13 -> 283.24006
C21: 1400 | D21: =Blad1!$C17*((('Modul Compact Plan Vertikal'!$D$5-'Modul Compact Plan Vertikal'!$F$5)/(LN(('Modul Compact Plan Vertikal'!$D$5-'Modul Compact Plan Vertikal'!$H$5)/('Modul Compact Plan Vertikal'!$F$5-'Modul Compact Plan Vertikal'!$H$5))))/49.8329)^Blad1!$D$13 -> 143.17225 | E21: =Blad1!$E17*((('Modul Compact Plan Vertikal'!$D$5-'Modul Compact Plan Vertikal'!$F$5)/(LN(('Modul Compact Plan Vertikal'!$D$5-'Modul Compact Plan Vertikal'!$H$5)/('Modul Compact Plan Vertikal'!$F$5-'Modul Compact Plan Vertikal'!$H$5))))/49.8329)^Blad1!$F$13 -> 230.94136 | F21: =Blad1!$G17*((('Modul Compact Plan Vertikal'!$D$5-'Modul Compact Plan Vertikal'!$F$5)/(LN(('Modul Compact Plan Vertikal'!$D$5-'Modul Compact Plan Vertikal'!$H$5)/('Modul Compact Plan Vertikal'!$F$5-'Modul Compact Plan Vertikal'!$H$5))))/49.8329)^Blad1!$H$13 -> 304.87646
C22: 1600 | D22: =Blad1!$C18*((('Modul Compact Plan Vertikal'!$D$5-'Modul Compact Plan Vertikal'!$F$5)/(LN(('Modul Compact Plan Vertikal'!$D$5-'Modul Compact Plan Vertikal'!$H$5)/('Modul Compact Plan Vertikal'!$F$5-'Modul Compact Plan Vertikal'!$H$5))))/49.8329)^Blad1!$D$13 -> 171.50315 | E22: =Blad1!$E18*((('Modul Compact Plan Vertikal'!$D$5-'Modul Compact Plan Vertikal'!$F$5)/(LN(('Modul Compact Plan Vertikal'!$D$5-'Modul Compact Plan Vertikal'!$H$5)/('Modul Compact Plan Vertikal'!$F$5-'Modul Compact Plan Vertikal'!$H$5))))/49.8329)^Blad1!$F$13 -> 276.52848 | F22: =Blad1!$G18*((('Modul Compact Plan Vertikal'!$D$5-'Modul Compact Plan Vertikal'!$F$5)/(LN(('Modul Compact Plan Vertikal'!$D$5-'Modul Compact Plan Vertikal'!$H$5)/('Modul Compact Plan Vertikal'!$F$5-'Modul Compact Plan Vertikal'!$H$5))))/49.8329)^Blad1!$H$13 -> 364.86827
... C25: 2300 | D25: =Blad1!$C21*((('Modul Compact Plan Vertikal'!$D$5-'Modul Compact Plan Vertikal'!$F$5)/(LN(('Modul Compact Plan Vertikal'!$D$5-'Modul Compact Plan Vertikal'!$H$5)/('Modul Compact Plan Vertikal'!$F$5-'Modul Compact Plan Vertikal'!$H$5))))/49.8329)^Blad1!$D$13 -> 224.62359 | E25: =Blad1!$E21*((('Modul Compact Plan Vertikal'!$D$5-'Modul Compact Plan Vertikal'!$F$5)/(LN(('Modul Compact Plan Vertikal'!$D$5-'Modul Compact Plan Vertikal'!$H$5)/('Modul Compact Plan Vertikal'!$F$5-'Modul Compact Plan Vertikal'!$H$5))))/49.8329)^Blad1!$F$13 -> 379.22475 | F25: =Blad1!$G21*((('Modul Compact Plan Vertikal'!$D$5-'Modul Compact Plan Vertikal'!$F$5)/(LN(('Modul Compact Plan Vertikal'!$D$5-'Modul Compact Plan Vertikal'!$H$5)/('Modul Compact Plan Vertikal'!$F$5-'Modul Compact Plan Vertikal'!$H$5))))/49.8329)^Blad1!$H$13 -> 535.50074
C26: 2600 | D26: =($C26/1000)*Blad1!$C$13*((('Modul Compact Plan Vertikal'!$D$5-'Modul Compact Plan Vertikal'!$F$5)/(LN(('Modul Compact Plan Vertikal'!$D$5-'Modul Compact Plan Vertikal'!$H$5)/('Modul Compact Plan Vertikal'!$F$5-'Modul Compact Plan Vertikal'!$H$5))))/49.8329)^Blad1!$D$13 -> 265.7034 | E26: =($C26/1000)*Blad1!$E$13*((('Modul Compact Plan Vertikal'!$D$5-'Modul Compact Plan Vertikal'!$F$5)/(LN(('Modul Compact Plan Vertikal'!$D$5-'Modul Compact Plan Vertikal'!$H$5)/('Modul Compact Plan Vertikal'!$F$5-'Modul Compact Plan Vertikal'!$H$5))))/49.8329)^Blad1!$F$13 -> 427.21647 | F26: =($C26/1000)*Blad1!$G$13*((('Modul Compact Plan Vertikal'!$D$5-'Modul Compact Plan Vertikal'!$F$5)/(LN(('Modul Compact Plan Vertikal'!$D$5-'Modul Compact Plan Vertikal'!$H$5)/('Modul Compact Plan Vertikal'!$F$5-'Modul Compact Plan Vertikal'!$H$5))))/49.8329)^Blad1!$H$13 -> 567.66029
C27: 3000 | D27: =($C27/1000)*Blad1!$C$13*((('Modul Compact Plan Vertikal'!$D$5-'Modul Compact Plan Vertikal'!$F$5)/(LN(('Modul Compact Plan Vertikal'!$D$5-'Modul Compact Plan Vertikal'!$H$5)/('Modul Compact Plan Vertikal'!$F$5-'Modul Compact Plan Vertikal'!$H$5))))/49.8329)^Blad1!$D$13 -> 306.58085 | E27: =($C27/1000)*Blad1!$E$13*((('Modul Compact Plan Vertikal'!$D$5-'Modul Compact Plan Vertikal'!$F$5)/(LN(('Modul Compact Plan Vertikal'!$D$5-'Modul Compact Plan Vertikal'!$H$5)/('Modul Compact Plan Vertikal'!$F$5-'Modul Compact Plan Vertikal'!$H$5))))/49.8329)^Blad1!$F$13 -> 492.94208 | F27: =($C27/1000)*Blad1!$G$13*((('Modul Compact Plan Vertikal'!$D$5-'Modul Compact Plan Vertikal'!$F$5)/(LN(('Modul Compact Plan Vertikal'!$D$5-'Modul Compact Plan Vertikal'!$H$5)/('Modul Compact Plan Vertikal'!$F$5-'Modul Compact Plan Vertikal'!$H$5))))/49.8329)^Blad1!$H$13 -> 654.99264
C31: Pituus 300
D32: Teho (W)
C33: Korkeus (mm) | D33: MCPV10 | E33: MCPV20 | F33: MCPV30
C34: 400 | D34: =Blad1!$C28*((('Modul Compact Plan Vertikal'!$D$5-'Modul Compact Plan Vertikal'!$F$5)/(LN(('Modul Compact Plan Vertikal'!$D$5-'Modul Compact Plan Vertikal'!$H$5)/('Modul Compact Plan Vertikal'!$F$5-'Modul Compact Plan Vertikal'!$H$5))))/49.8329)^Blad1!$D$34 -> 56.661807 | E34: =Blad1!$E28*((('Modul Compact Plan Vertikal'!$D$5-'Modul Compact Plan Vertikal'!$F$5)/(LN(('Modul Compact Plan Vertikal'!$D$5-'Modul Compact Plan Vertikal'!$H$5)/('Modul Compact Plan Vertikal'!$F$5-'Modul Compact Plan Vertikal'!$H$5))))/49.8329)^Blad1!$F$34 -> 89.671374 | F34: =Blad1!$G28*((('Modul Compact Plan Vertikal'!$D$5-'Modul Compact Plan Vertikal'!$F$5)/(LN(('Modul Compact Plan Vertikal'!$D$5-'Modul Compact Plan Vertikal'!$H$5)/('Modul Compact Plan Vertikal'!$F$5-'Modul Compact Plan Vertikal'!$H$5))))/49.8329)^Blad1!$H$34 -> 120.47537
C35: 500 | D35: =Blad1!$C29*((('Modul Compact Plan Vertikal'!$D$5-'Modul Compact Plan Vertikal'!$F$5)/(LN(('Modul Compact Plan Vertikal'!$D$5-'Modul Compact Plan Vertikal'!$H$5)/('Modul Compact Plan Vertikal'!$F$5-'Modul Compact Plan Vertikal'!$H$5))))/49.8329)^Blad1!$D$34 -> 72.850895 | E35: =Blad1!$E29*((('Modul Compact Plan Vertikal'!$D$5-'Modul Compact Plan Vertikal'!$F$5)/(LN(('Modul Compact Plan Vertikal'!$D$5-'Modul Compact Plan Vertikal'!$H$5)/('Modul Compact Plan Vertikal'!$F$5-'Modul Compact Plan Vertikal'!$H$5))))/49.8329)^Blad1!$F$34 -> 115.2202 | F35: =Blad1!$G29*((('Modul Compact Plan Vertikal'!$D$5-'Modul Compact Plan Vertikal'!$F$5)/(LN(('Modul Compact Plan Vertikal'!$D$5-'Modul Compact Plan Vertikal'!$H$5)/('Modul Compact Plan Vertikal'!$F$5-'Modul Compact Plan Vertikal'!$H$5))))/49.8329)^Blad1!$H$34 -> 154.89691
C36: 600 | D36: =Blad1!$C30*((('Modul Compact Plan Vertikal'!$D$5-'Modul Compact Plan Vertikal'!$F$5)/(LN(('Modul Compact Plan Vertikal'!$D$5-'Modul Compact Plan Vertikal'!$H$5)/('Modul Compact Plan Vertikal'!$F$5-'Modul Compact Plan Vertikal'!$H$5))))/49.8329)^Blad1!$D$34 -> 83.980893 | E36: =Blad1!$E30*((('Modul Compact Plan Vertikal'!$D$5-'Modul Compact Plan Vertikal'!$F$5)/(LN(('Modul Compact Plan Vertikal'!$D$5-'Modul Compact Plan Vertikal'!$H$5)/('Modul Compact Plan Vertikal'!$F$5-'Modul Compact Plan Vertikal'!$H$5))))/49.8329)^Blad1!$F$34 -> 133.25467 | F36: =Blad1!$G30*((('Modul Compact Plan Vertikal'!$D$5-'Modul Compact Plan Vertikal'!$F$5)/(LN(('Modul Compact Plan Vertikal'!$D$5-'Modul Compact Plan Vertikal'!$H$5)/('Modul Compact Plan Vertikal'!$F$5-'Modul Compact Plan Vertikal'!$H$5))))/49.8329)^Blad1!$H$34 -> 178.99198
C37: 700 | D37: =Blad1!$C31*((('Modul Compact Plan Vertikal'!$D$5-'Modul Compact Plan Vertikal'!$F$5)/(LN(('Modul Compact Plan Vertikal'!$D$5-'Modul Compact Plan Vertikal'!$H$5)/('Modul Compact Plan Vertikal'!$F$5-'Modul Compact Plan Vertikal'!$H$5))))/49.8329)^Blad1!$D$34 -> 100.67589 | E37: =Blad1!$E31*((('Modul Compact Plan Vertikal'!$D$5-'Modul Compact Plan Vertikal'!$F$5)/(LN(('Modul Compact Plan Vertikal'!$D$5-'Modul Compact Plan Vertikal'!$H$5)/('Modul Compact Plan Vertikal'!$F$5-'Modul Compact Plan Vertikal'!$H$5))))/49.8329)^Blad1!$F$34 -> 159.30445 | F37: =Blad1!$G31*((('Modul Compact Plan Vertikal'!$D$5-'Modul Compact Plan Vertikal'!$F$5)/(LN(('Modul Compact Plan Vertikal'!$D$5-'Modul Compact Plan Vertikal'!$H$5)/('Modul Compact Plan Vertikal'!$F$5-'Modul Compact Plan Vertikal'!$H$5))))/49.8329)^Blad1!$H$34 -> 214.39699
C38: 800 | D38: =Blad1!$C32*((('Modul Compact Plan Vertikal'!$D$5-'Modul Compact Plan Vertikal'!$F$5)/(LN(('Modul Compact Plan Vertikal'!$D$5-'Modul Compact Plan Vertikal'!$H$5)/('Modul Compact Plan Vertikal'!$F$5-'Modul Compact Plan Vertikal'!$H$5))))/49.8329)^Blad1!$D$34 -> 111.80589 | E38: =Blad1!$E32*((('Modul Compact Plan Vertikal'!$D$5-'Modul Compact Plan Vertikal'!$F$5)/(LN(('Modul Compact Plan Vertikal'!$D$5-'Modul Compact Plan Vertikal'!$H$5)/('Modul Compact Plan Vertikal'!$F$5-'Modul Compact Plan Vertikal'!$H$5))))/49.8329)^Blad1!$F$34 -> 176.83796 | F38: =Blad1!$G32*((('Modul Compact Plan Vertikal'!$D$5-'Modul Compact Plan Vertikal'!$F$5)/(LN(('Modul Compact Plan Vertikal'!$D$5-'Modul Compact Plan Vertikal'!$H$5)/('Modul Compact Plan Vertikal'!$F$5-'Modul Compact Plan Vertikal'!$H$5))))/49.8329)^Blad1!$H$34 -> 237.01686
C39: 900 | D39: =Blad1!$C33*((('Modul Compact Plan Vertikal'!$D$5-'Modul Compact Plan Vertikal'!$F$5)/(LN(('Modul Compact Plan Vertikal'!$D$5-'Modul Compact Plan Vertikal'!$H$5)/('Modul Compact Plan Vertikal'!$F$5-'Modul Compact Plan Vertikal'!$H$5))))/49.8329)^Blad1!$D$34 -> 77.909985 | E39: =Blad1!$E33*((('Modul Compact Plan Vertikal'!$D$5-'Modul Compact Plan Vertikal'!$F$5)/(LN(('Modul Compact Plan Vertikal'!$D$5-'Modul Compact Plan Vertikal'!$H$5)/('Modul Compact Plan Vertikal'!$F$5-'Modul Compact Plan Vertikal'!$H$5))))/49.8329)^Blad1!$F$34 -> 203.3887 | F39: =Blad1!$G33*((('Modul Compact Plan Vertikal'!$D$5-'Modul Compact Plan Vertikal'!$F$5)/(LN(('Modul Compact Plan Vertikal'!$D$5-'Modul Compact Plan Vertikal'!$H$5)/('Modul Compact Plan Vertikal'!$F$5-'Modul Compact Plan Vertikal'!$H$5))))/49.8329)^Blad1!$H$34 -> 272.42186
C40: 1000 | D40: =Blad1!$C34*((('Modul Compact Plan Vertikal'!$D$5-'Modul Compact Plan Vertikal'!$F$5)/(LN(('Modul Compact Plan Vertikal'!$D$5-'Modul Compact Plan Vertikal'!$H$5)/('Modul Compact Plan Vertikal'!$F$5-'Modul Compact Plan Vertikal'!$H$5))))/49.8329)^Blad1!$D$34 -> 138.61906 | E40: =Blad1!$E34*((('Modul Compact Plan Vertikal'!$D$5-'Modul Compact Plan Vertikal'!$F$5)/(LN(('Modul Compact Plan Vertikal'!$D$5-'Modul Compact Plan Vertikal'!$H$5)/('Modul Compact Plan Vertikal'!$F$5-'Modul Compact Plan Vertikal'!$H$5))))/49.8329)^Blad1!$F$34 -> 220.42125 | F40: =Blad1!$G34*((('Modul Compact Plan Vertikal'!$D$5-'Modul Compact Plan Vertikal'!$F$5)/(LN(('Modul Compact Plan Vertikal'!$D$5-'Modul Compact Plan Vertikal'!$H$5)/('Modul Compact Plan Vertikal'!$F$5-'Modul Compact Plan Vertikal'!$H$5))))/49.8329)^Blad1!$H$34 -> 296.0252
C41: 1100 | D41: =Blad1!$C35*((('Modul Compact Plan Vertikal'!$D$5-'Modul Compact Plan Vertikal'!$F$5)/(LN(('Modul Compact Plan Vertikal'!$D$5-'Modul Compact Plan Vertikal'!$H$5)/('Modul Compact Plan Vertikal'!$F$5-'Modul Compact Plan Vertikal'!$H$5))))/49.8329)^Blad1!$D$34 -> 155.31406 | E41: =Blad1!$E35*((('Modul Compact Plan Vertikal'!$D$5-'Modul Compact Plan Vertikal'!$F$5)/(LN(('Modul Compact Plan Vertikal'!$D$5-'Modul Compact Plan Vertikal'!$H$5)/('Modul Compact Plan Vertikal'!$F$5-'Modul Compact Plan Vertikal'!$H$5))))/49.8329)^Blad1!$F$34 -> 246.47104 | F41: =Blad1!$G35*((('Modul Compact Plan Vertikal'!$D$5-'Modul Compact Plan Vertikal'!$F$5)/(LN(('Modul Compact Plan Vertikal'!$D$5-'Modul Compact Plan Vertikal'!$H$5)/('Modul Compact Plan Vertikal'!$F$5-'Modul Compact Plan Vertikal'!$H$5))))/49.8329)^Blad1!$H$34 -> 331.43021
C42: 1200 | D42: =Blad1!$C36*((('Modul Compact Plan Vertikal'!$D$5-'Modul Compact Plan Vertikal'!$F$5)/(LN(('Modul Compact Plan Vertikal'!$D$5-'Modul Compact Plan Vertikal'!$H$5)/('Modul Compact Plan Vertikal'!$F$5-'Modul Compact Plan Vertikal'!$H$5))))/49.8329)^Blad1!$D$34 -> 166.94997 | E42: =Blad1!$E36*((('Modul Compact Plan Vertikal'!$D$5-'Modul Compact Plan Vertikal'!$F$5)/(LN(('Modul Compact Plan Vertikal'!$D$5-'Modul Compact Plan Vertikal'!$H$5)/('Modul Compact Plan Vertikal'!$F$5-'Modul Compact Plan Vertikal'!$H$5))))/49.8329)^Blad1!$F$34 -> 264.00455 | F42: =Blad1!$G36*((('Modul Compact Plan Vertikal'!$D$5-'Modul Compact Plan Vertikal'!$F$5)/(LN(('Modul Compact Plan Vertikal'!$D$5-'Modul Compact Plan Vertikal'!$H$5)/('Modul Compact Plan Vertikal'!$F$5-'Modul Compact Plan Vertikal'!$H$5))))/49.8329)^Blad1!$H$34 -> 355.03355
C43: 1300 | D43: =Blad1!$C37*((('Modul Compact Plan Vertikal'!$D$5-'Modul Compact Plan Vertikal'!$F$5)/(LN(('Modul Compact Plan Vertikal'!$D$5-'Modul Compact Plan Vertikal'!$H$5)/('Modul Compact Plan Vertikal'!$F$5-'Modul Compact Plan Vertikal'!$H$5))))/49.8329)^Blad1!$D$34 -> 180.60951 | E43: =Blad1!$E37*((('Modul Compact Plan Vertikal'!$D$5-'Modul Compact Plan Vertikal'!$F$5)/(LN(('Modul Compact Plan Vertikal'!$D$5-'Modul Compact Plan Vertikal'!$H$5)/('Modul Compact Plan Vertikal'!$F$5-'Modul Compact Plan Vertikal'!$H$5))))/49.8329)^Blad1!$F$34 -> 286.04667 | F43: =Blad1!$G37*((('Modul Compact Plan Vertikal'!$D$5-'Modul Compact Plan Vertikal'!$F$5)/(LN(('Modul Compact Plan Vertikal'!$D$5-'Modul Compact Plan Vertikal'!$H$5)/('Modul Compact Plan Vertikal'!$F$5-'Modul Compact Plan Vertikal'!$H$5))))/49.8329)^Blad1!$H$34 -> 384.04599
C44: 1400 | D44: =Blad1!$C38*((('Modul Compact Plan Vertikal'!$D$5-'Modul Compact Plan Vertikal'!$F$5)/(LN(('Modul Compact Plan Vertikal'!$D$5-'Modul Compact Plan Vertikal'!$H$5)/('Modul Compact Plan Vertikal'!$F$5-'Modul Compact Plan Vertikal'!$H$5))))/49.8329)^Blad1!$D$34 -> 194.26905 | E44: =Blad1!$E38*((('Modul Compact Plan Vertikal'!$D$5-'Modul Compact Plan Vertikal'!$F$5)/(LN(('Modul Compact Plan Vertikal'!$D$5-'Modul Compact Plan Vertikal'!$H$5)/('Modul Compact Plan Vertikal'!$F$5-'Modul Compact Plan Vertikal'!$H$5))))/49.8329)^Blad1!$F$34 -> 307.58784 | F44: =Blad1!$G38*((('Modul Compact Plan Vertikal'!$D$5-'Modul Compact Plan Vertikal'!$F$5)/(LN(('Modul Compact Plan Vertikal'!$D$5-'Modul Compact Plan Vertikal'!$H$5)/('Modul Compact Plan Vertikal'!$F$5-'Modul Compact Plan Vertikal'!$H$5))))/49.8329)^Blad1!$H$34 -> 413.55016
C45: 1600 | D45: =Blad1!$C39*((('Modul Compact Plan Vertikal'!$D$5-'Modul Compact Plan Vertikal'!$F$5)/(LN(('Modul Compact Plan Vertikal'!$D$5-'Modul Compact Plan Vertikal'!$H$5)/('Modul Compact Plan Vertikal'!$F$5-'Modul Compact Plan Vertikal'!$H$5))))/49.8329)^Blad1!$D$34 -> 221.58814 | E45: =Blad1!$E39*((('Modul Compact Plan Vertikal'!$D$5-'Modul Compact Plan Vertikal'!$F$5)/(LN(('Modul Compact Plan Vertikal'!$D$5-'Modul Compact Plan Vertikal'!$H$5)/('Modul Compact Plan Vertikal'!$F$5-'Modul Compact Plan Vertikal'!$H$5))))/49.8329)^Blad1!$F$34 -> 351.17113 | F45: =Blad1!$G39*((('Modul Compact Plan Vertikal'!$D$5-'Modul Compact Plan Vertikal'!$F$5)/(LN(('Modul Compact Plan Vertikal'!$D$5-'Modul Compact Plan Vertikal'!$H$5)/('Modul Compact Plan Vertikal'!$F$5-'Modul Compact Plan Vertikal'!$H$5))))/49.8329)^Blad1!$H$34 -> 472.06677
... C48: 2300 | D48: =Blad1!$C42*((('Modul Compact Plan Vertikal'!$D$5-'Modul Compact Plan Vertikal'!$F$5)/(LN(('Modul Compact Plan Vertikal'!$D$5-'Modul Compact Plan Vertikal'!$H$5)/('Modul Compact Plan Vertikal'!$F$5-'Modul Compact Plan Vertikal'!$H$5))))/49.8329)^Blad1!$D$34 -> 304.55722 | E48: =Blad1!$E42*((('Modul Compact Plan Vertikal'!$D$5-'Modul Compact Plan Vertikal'!$F$5)/(LN(('Modul Compact Plan Vertikal'!$D$5-'Modul Compact Plan Vertikal'!$H$5)/('Modul Compact Plan Vertikal'!$F$5-'Modul Compact Plan Vertikal'!$H$5))))/49.8329)^Blad1!$F$34 -> 481.92101 | F48: =Blad1!$G42*((('Modul Compact Plan Vertikal'!$D$5-'Modul Compact Plan Vertikal'!$F$5)/(LN(('Modul Compact Plan Vertikal'!$D$5-'Modul Compact Plan Vertikal'!$H$5)/('Modul Compact Plan Vertikal'!$F$5-'Modul Compact Plan Vertikal'!$H$5))))/49.8329)^Blad1!$H$34 -> 648.10834
C49: 2600 | D49: =($C49/1000)*Blad1!$C$34*((('Modul Compact Plan Vertikal'!$D$5-'Modul Compact Plan Vertikal'!$F$5)/(LN(('Modul Compact Plan Vertikal'!$D$5-'Modul Compact Plan Vertikal'!$H$5)/('Modul Compact Plan Vertikal'!$F$5-'Modul Compact Plan Vertikal'!$H$5))))/49.8329)^Blad1!$D$34 -> 360.40957 | E49: =Blad1!$E43*((('Modul Compact Plan Vertikal'!$D$5-'Modul Compact Plan Vertikal'!$F$5)/(LN(('Modul Compact Plan Vertikal'!$D$5-'Modul Compact Plan Vertikal'!$H$5)/('Modul Compact Plan Vertikal'!$F$5-'Modul Compact Plan Vertikal'!$H$5))))/49.8329)^Blad1!$F$34 -> 0 | F49: =Blad1!$G43*((('Modul Compact Plan Vertikal'!$D$5-'Modul Compact Plan Vertikal'!$F$5)/(LN(('Modul Compact Plan Vertikal'!$D$5-'Modul Compact Plan Vertikal'!$H$5)/('Modul Compact Plan Vertikal'!$F$5-'Modul Compact Plan Vertikal'!$H$5))))/49.8329)^Blad1!$H$34 -> 0
C50: 3000 | D50: =($C50/1000)*Blad1!$C$34*((('Modul Compact Plan Vertikal'!$D$5-'Modul Compact Plan Vertikal'!$F$5)/(LN(('Modul Compact Plan Vertikal'!$D$5-'Modul Compact Plan Vertikal'!$H$5)/('Modul Compact Plan Vertikal'!$F$5-'Modul Compact Plan Vertikal'!$H$5))))/49.8329)^Blad1!$D$34 -> 415.85719 | E50: =Blad1!$E44*((('Modul Compact Plan Vertikal'!$D$5-'Modul Compact Plan Vertikal'!$F$5)/(LN(('Modul Compact Plan Vertikal'!$D$5-'Modul Compact Plan Vertikal'!$H$5)/('Modul Compact Plan Vertikal'!$F$5-'Modul Compact Plan Vertikal'!$H$5))))/49.8329)^Blad1!$F$34 -> 0 | F50: =Blad1!$G44*((('Modul Compact Plan Vertikal'!$D$5-'Modul Compact Plan Vertikal'!$F$5)/(LN(('Modul Compact Plan Vertikal'!$D$5-'Modul Compact Plan Vertikal'!$H$5)/('Modul Compact Plan Vertikal'!$F$5-'Modul Compact Plan Vertikal'!$H$5))))/49.8329)^Blad1!$H$34 -> 0
C54: Pituus 400
D55: Teho (W)
C56: Korkeus (mm) | D56: MCPV10 | E56: MCPV20 | F56: MCPV30
C57: 400 | D57: =Blad1!$C49*((('Modul Compact Plan Vertikal'!$D$5-'Modul Compact Plan Vertikal'!$F$5)/(LN(('Modul Compact Plan Vertikal'!$D$5-'Modul Compact Plan Vertikal'!$H$5)/('Modul Compact Plan Vertikal'!$F$5-'Modul Compact Plan Vertikal'!$H$5))))/49.8329)^Blad1!$D$55 -> 69.309532 | E57: =Blad1!$E49*((('Modul Compact Plan Vertikal'!$D$5-'Modul Compact Plan Vertikal'!$F$5)/(LN(('Modul Compact Plan Vertikal'!$D$5-'Modul Compact Plan Vertikal'!$H$5)/('Modul Compact Plan Vertikal'!$F$5-'Modul Compact Plan Vertikal'!$H$5))))/49.8329)^Blad1!$F$55 -> 109.20871 | F57: =Blad1!$G49*((('Modul Compact Plan Vertikal'!$D$5-'Modul Compact Plan Vertikal'!$F$5)/(LN(('Modul Compact Plan Vertikal'!$D$5-'Modul Compact Plan Vertikal'!$H$5)/('Modul Compact Plan Vertikal'!$F$5-'Modul Compact Plan Vertikal'!$H$5))))/49.8329)^Blad1!$H$55 -> 147.02913
C58: 500 | D58: =Blad1!$C50*((('Modul Compact Plan Vertikal'!$D$5-'Modul Compact Plan Vertikal'!$F$5)/(LN(('Modul Compact Plan Vertikal'!$D$5-'Modul Compact Plan Vertikal'!$H$5)/('Modul Compact Plan Vertikal'!$F$5-'Modul Compact Plan Vertikal'!$H$5))))/49.8329)^Blad1!$D$55 -> 89.545892 | E58: =Blad1!$E50*((('Modul Compact Plan Vertikal'!$D$5-'Modul Compact Plan Vertikal'!$F$5)/(LN(('Modul Compact Plan Vertikal'!$D$5-'Modul Compact Plan Vertikal'!$H$5)/('Modul Compact Plan Vertikal'!$F$5-'Modul Compact Plan Vertikal'!$H$5))))/49.8329)^Blad1!$F$55 -> 141.26999 | F58: =Blad1!$G50*((('Modul Compact Plan Vertikal'!$D$5-'Modul Compact Plan Vertikal'!$F$5)/(LN(('Modul Compact Plan Vertikal'!$D$5-'Modul Compact Plan Vertikal'!$H$5)/('Modul Compact Plan Vertikal'!$F$5-'Modul Compact Plan Vertikal'!$H$5))))/49.8329)^Blad1!$H$55 -> 189.81018
C59: 600 | D59: =Blad1!$C51*((('Modul Compact Plan Vertikal'!$D$5-'Modul Compact Plan Vertikal'!$F$5)/(LN(('Modul Compact Plan Vertikal'!$D$5-'Modul Compact Plan Vertikal'!$H$5)/('Modul Compact Plan Vertikal'!$F$5-'Modul Compact Plan Vertikal'!$H$5))))/49.8329)^Blad1!$D$55 -> 102.69953 | E59: =Blad1!$E51*((('Modul Compact Plan Vertikal'!$D$5-'Modul Compact Plan Vertikal'!$F$5)/(LN(('Modul Compact Plan Vertikal'!$D$5-'Modul Compact Plan Vertikal'!$H$5)/('Modul Compact Plan Vertikal'!$F$5-'Modul Compact Plan Vertikal'!$H$5))))/49.8329)^Blad1!$F$55 -> 162.81115 | F59: =Blad1!$G51*((('Modul Compact Plan Vertikal'!$D$5-'Modul Compact Plan Vertikal'!$F$5)/(LN(('Modul Compact Plan Vertikal'!$D$5-'Modul Compact Plan Vertikal'!$H$5)/('Modul Compact Plan Vertikal'!$F$5-'Modul Compact Plan Vertikal'!$H$5))))/49.8329)^Blad1!$H$55 -> 218.82262
C60: 700 | D60: =Blad1!$C52*((('Modul Compact Plan Vertikal'!$D$5-'Modul Compact Plan Vertikal'!$F$5)/(LN(('Modul Compact Plan Vertikal'!$D$5-'Modul Compact Plan Vertikal'!$H$5)/('Modul Compact Plan Vertikal'!$F$5-'Modul Compact Plan Vertikal'!$H$5))))/49.8329)^Blad1!$D$55 -> 122.93589 | E60: =Blad1!$E52*((('Modul Compact Plan Vertikal'!$D$5-'Modul Compact Plan Vertikal'!$F$5)/(LN(('Modul Compact Plan Vertikal'!$D$5-'Modul Compact Plan Vertikal'!$H$5)/('Modul Compact Plan Vertikal'!$F$5-'Modul Compact Plan Vertikal'!$H$5))))/49.8329)^Blad1!$F$55 -> 194.87243 | F60: =Blad1!$G52*((('Modul Compact Plan Vertikal'!$D$5-'Modul Compact Plan Vertikal'!$F$5)/(LN(('Modul Compact Plan Vertikal'!$D$5-'Modul Compact Plan Vertikal'!$H$5)/('Modul Compact Plan Vertikal'!$F$5-'Modul Compact Plan Vertikal'!$H$5))))/49.8329)^Blad1!$H$55 -> 261.60367
C61: 800 | D61: =Blad1!$C53*((('Modul Compact Plan Vertikal'!$D$5-'Modul Compact Plan Vertikal'!$F$5)/(LN(('Modul Compact Plan Vertikal'!$D$5-'Modul Compact Plan Vertikal'!$H$5)/('Modul Compact Plan Vertikal'!$F$5-'Modul Compact Plan Vertikal'!$H$5))))/49.8329)^Blad1!$D$55 -> 136.59543 | E61: =Blad1!$E53*((('Modul Compact Plan Vertikal'!$D$5-'Modul Compact Plan Vertikal'!$F$5)/(LN(('Modul Compact Plan Vertikal'!$D$5-'Modul Compact Plan Vertikal'!$H$5)/('Modul Compact Plan Vertikal'!$F$5-'Modul Compact Plan Vertikal'!$H$5))))/49.8329)^Blad1!$F$55 -> 216.41359 | F61: =Blad1!$G53*((('Modul Compact Plan Vertikal'!$D$5-'Modul Compact Plan Vertikal'!$F$5)/(LN(('Modul Compact Plan Vertikal'!$D$5-'Modul Compact Plan Vertikal'!$H$5)/('Modul Compact Plan Vertikal'!$F$5-'Modul Compact Plan Vertikal'!$H$5))))/49.8329)^Blad1!$H$55 -> 290.12437
C62: 900 | D62: =Blad1!$C54*((('Modul Compact Plan Vertikal'!$D$5-'Modul Compact Plan Vertikal'!$F$5)/(LN(('Modul Compact Plan Vertikal'!$D$5-'Modul Compact Plan Vertikal'!$H$5)/('Modul Compact Plan Vertikal'!$F$5-'Modul Compact Plan Vertikal'!$H$5))))/49.8329)^Blad1!$D$55 -> 156.83179 | E62: =Blad1!$E54*((('Modul Compact Plan Vertikal'!$D$5-'Modul Compact Plan Vertikal'!$F$5)/(LN(('Modul Compact Plan Vertikal'!$D$5-'Modul Compact Plan Vertikal'!$H$5)/('Modul Compact Plan Vertikal'!$F$5-'Modul Compact Plan Vertikal'!$H$5))))/49.8329)^Blad1!$F$55 -> 248.47487 | F62: =Blad1!$G54*((('Modul Compact Plan Vertikal'!$D$5-'Modul Compact Plan Vertikal'!$F$5)/(LN(('Modul Compact Plan Vertikal'!$D$5-'Modul Compact Plan Vertikal'!$H$5)/('Modul Compact Plan Vertikal'!$F$5-'Modul Compact Plan Vertikal'!$H$5))))/49.8329)^Blad1!$H$55 -> 333.88889
C63: 1000 | D63: =Blad1!$C55*((('Modul Compact Plan Vertikal'!$D$5-'Modul Compact Plan Vertikal'!$F$5)/(LN(('Modul Compact Plan Vertikal'!$D$5-'Modul Compact Plan Vertikal'!$H$5)/('Modul Compact Plan Vertikal'!$F$5-'Modul Compact Plan Vertikal'!$H$5))))/49.8329)^Blad1!$D$55 -> 169.98542 | E63: =Blad1!$E55*((('Modul Compact Plan Vertikal'!$D$5-'Modul Compact Plan Vertikal'!$F$5)/(LN(('Modul Compact Plan Vertikal'!$D$5-'Modul Compact Plan Vertikal'!$H$5)/('Modul Compact Plan Vertikal'!$F$5-'Modul Compact Plan Vertikal'!$H$5))))/49.8329)^Blad1!$F$55 -> 269.51508 | F63: =Blad1!$G55*((('Modul Compact Plan Vertikal'!$D$5-'Modul Compact Plan Vertikal'!$F$5)/(LN(('Modul Compact Plan Vertikal'!$D$5-'Modul Compact Plan Vertikal'!$H$5)/('Modul Compact Plan Vertikal'!$F$5-'Modul Compact Plan Vertikal'!$H$5))))/49.8329)^Blad1!$H$55 -> 362.40959
C64: 1100 | D64: =Blad1!$C56*((('Modul Compact Plan Vertikal'!$D$5-'Modul Compact Plan Vertikal'!$F$5)/(LN(('Modul Compact Plan Vertikal'!$D$5-'Modul Compact Plan Vertikal'!$H$5)/('Modul Compact Plan Vertikal'!$F$5-'Modul Compact Plan Vertikal'!$H$5))))/49.8329)^Blad1!$D$55 -> 190.72769 | E64: =Blad1!$E56*((('Modul Compact Plan Vertikal'!$D$5-'Modul Compact Plan Vertikal'!$F$5)/(LN(('Modul Compact Plan Vertikal'!$D$5-'Modul Compact Plan Vertikal'!$H$5)/('Modul Compact Plan Vertikal'!$F$5-'Modul Compact Plan Vertikal'!$H$5))))/49.8329)^Blad1!$F$55 -> 301.57635 | F64: =Blad1!$G56*((('Modul Compact Plan Vertikal'!$D$5-'Modul Compact Plan Vertikal'!$F$5)/(LN(('Modul Compact Plan Vertikal'!$D$5-'Modul Compact Plan Vertikal'!$H$5)/('Modul Compact Plan Vertikal'!$F$5-'Modul Compact Plan Vertikal'!$H$5))))/49.8329)^Blad1!$H$55 -> 405.68238
C65: 1200 | D65: =Blad1!$C57*((('Modul Compact Plan Vertikal'!$D$5-'Modul Compact Plan Vertikal'!$F$5)/(LN(('Modul Compact Plan Vertikal'!$D$5-'Modul Compact Plan Vertikal'!$H$5)/('Modul Compact Plan Vertikal'!$F$5-'Modul Compact Plan Vertikal'!$H$5))))/49.8329)^Blad1!$D$55 -> 203.88133 | E65: =Blad1!$E57*((('Modul Compact Plan Vertikal'!$D$5-'Modul Compact Plan Vertikal'!$F$5)/(LN(('Modul Compact Plan Vertikal'!$D$5-'Modul Compact Plan Vertikal'!$H$5)/('Modul Compact Plan Vertikal'!$F$5-'Modul Compact Plan Vertikal'!$H$5))))/49.8329)^Blad1!$F$55 -> 323.11752 | F65: =Blad1!$G57*((('Modul Compact Plan Vertikal'!$D$5-'Modul Compact Plan Vertikal'!$F$5)/(LN(('Modul Compact Plan Vertikal'!$D$5-'Modul Compact Plan Vertikal'!$H$5)/('Modul Compact Plan Vertikal'!$F$5-'Modul Compact Plan Vertikal'!$H$5))))/49.8329)^Blad1!$H$55 -> 433.71134
C66: 1300 | D66: =Blad1!$C58*((('Modul Compact Plan Vertikal'!$D$5-'Modul Compact Plan Vertikal'!$F$5)/(LN(('Modul Compact Plan Vertikal'!$D$5-'Modul Compact Plan Vertikal'!$H$5)/('Modul Compact Plan Vertikal'!$F$5-'Modul Compact Plan Vertikal'!$H$5))))/49.8329)^Blad1!$D$55 -> 220.57632 | E66: =Blad1!$E58*((('Modul Compact Plan Vertikal'!$D$5-'Modul Compact Plan Vertikal'!$F$5)/(LN(('Modul Compact Plan Vertikal'!$D$5-'Modul Compact Plan Vertikal'!$H$5)/('Modul Compact Plan Vertikal'!$F$5-'Modul Compact Plan Vertikal'!$H$5))))/49.8329)^Blad1!$F$55 -> 349.66826 | F66: =Blad1!$G58*((('Modul Compact Plan Vertikal'!$D$5-'Modul Compact Plan Vertikal'!$F$5)/(LN(('Modul Compact Plan Vertikal'!$D$5-'Modul Compact Plan Vertikal'!$H$5)/('Modul Compact Plan Vertikal'!$F$5-'Modul Compact Plan Vertikal'!$H$5))))/49.8329)^Blad1!$H$55 -> 470.09982
C67: 1400 | D67: =Blad1!$C59*((('Modul Compact Plan Vertikal'!$D$5-'Modul Compact Plan Vertikal'!$F$5)/(LN(('Modul Compact Plan Vertikal'!$D$5-'Modul Compact Plan Vertikal'!$H$5)/('Modul Compact Plan Vertikal'!$F$5-'Modul Compact Plan Vertikal'!$H$5))))/49.8329)^Blad1!$D$55 -> 237.77723 | E67: =Blad1!$E59*((('Modul Compact Plan Vertikal'!$D$5-'Modul Compact Plan Vertikal'!$F$5)/(LN(('Modul Compact Plan Vertikal'!$D$5-'Modul Compact Plan Vertikal'!$H$5)/('Modul Compact Plan Vertikal'!$F$5-'Modul Compact Plan Vertikal'!$H$5))))/49.8329)^Blad1!$F$55 -> 376.71996 | F67: =Blad1!$G59*((('Modul Compact Plan Vertikal'!$D$5-'Modul Compact Plan Vertikal'!$F$5)/(LN(('Modul Compact Plan Vertikal'!$D$5-'Modul Compact Plan Vertikal'!$H$5)/('Modul Compact Plan Vertikal'!$F$5-'Modul Compact Plan Vertikal'!$H$5))))/49.8329)^Blad1!$H$55 -> 505.99657
C68: 1600 | D68: =Blad1!$C60*((('Modul Compact Plan Vertikal'!$D$5-'Modul Compact Plan Vertikal'!$F$5)/(LN(('Modul Compact Plan Vertikal'!$D$5-'Modul Compact Plan Vertikal'!$H$5)/('Modul Compact Plan Vertikal'!$F$5-'Modul Compact Plan Vertikal'!$H$5))))/49.8329)^Blad1!$D$55 -> 271.67313 | E68: =Blad1!$E60*((('Modul Compact Plan Vertikal'!$D$5-'Modul Compact Plan Vertikal'!$F$5)/(LN(('Modul Compact Plan Vertikal'!$D$5-'Modul Compact Plan Vertikal'!$H$5)/('Modul Compact Plan Vertikal'!$F$5-'Modul Compact Plan Vertikal'!$H$5))))/49.8329)^Blad1!$F$55 -> 429.82145 | F68: =Blad1!$G60*((('Modul Compact Plan Vertikal'!$D$5-'Modul Compact Plan Vertikal'!$F$5)/(LN(('Modul Compact Plan Vertikal'!$D$5-'Modul Compact Plan Vertikal'!$H$5)/('Modul Compact Plan Vertikal'!$F$5-'Modul Compact Plan Vertikal'!$H$5))))/49.8329)^Blad1!$H$55 -> 577.79006
... C71: 2300 | D71: =Blad1!$C63*((('Modul Compact Plan Vertikal'!$D$5-'Modul Compact Plan Vertikal'!$F$5)/(LN(('Modul Compact Plan Vertikal'!$D$5-'Modul Compact Plan Vertikal'!$H$5)/('Modul Compact Plan Vertikal'!$F$5-'Modul Compact Plan Vertikal'!$H$5))))/49.8329)^Blad1!$D$55 -> 372.34902 | E71: =Blad1!$E63*((('Modul Compact Plan Vertikal'!$D$5-'Modul Compact Plan Vertikal'!$F$5)/(LN(('Modul Compact Plan Vertikal'!$D$5-'Modul Compact Plan Vertikal'!$H$5)/('Modul Compact Plan Vertikal'!$F$5-'Modul Compact Plan Vertikal'!$H$5))))/49.8329)^Blad1!$F$55 -> 590.12781 | F71: =Blad1!$G63*((('Modul Compact Plan Vertikal'!$D$5-'Modul Compact Plan Vertikal'!$F$5)/(LN(('Modul Compact Plan Vertikal'!$D$5-'Modul Compact Plan Vertikal'!$H$5)/('Modul Compact Plan Vertikal'!$F$5-'Modul Compact Plan Vertikal'!$H$5))))/49.8329)^Blad1!$H$55 -> 792.67878
C72: 2600 | D72: =($C72/1000)*Blad1!$C$55*((('Modul Compact Plan Vertikal'!$D$5-'Modul Compact Plan Vertikal'!$F$5)/(LN(('Modul Compact Plan Vertikal'!$D$5-'Modul Compact Plan Vertikal'!$H$5)/('Modul Compact Plan Vertikal'!$F$5-'Modul Compact Plan Vertikal'!$H$5))))/49.8329)^Blad1!$D$55 -> 441.9621 | E72: =($C72/1000)*Blad1!$E$55*((('Modul Compact Plan Vertikal'!$D$5-'Modul Compact Plan Vertikal'!$F$5)/(LN(('Modul Compact Plan Vertikal'!$D$5-'Modul Compact Plan Vertikal'!$H$5)/('Modul Compact Plan Vertikal'!$F$5-'Modul Compact Plan Vertikal'!$H$5))))/49.8329)^Blad1!$F$55 -> 700.7392 | F72: =($C72/1000)*Blad1!$G$55*((('Modul Compact Plan Vertikal'!$D$5-'Modul Compact Plan Vertikal'!$F$5)/(LN(('Modul Compact Plan Vertikal'!$D$5-'Modul Compact Plan Vertikal'!$H$5)/('Modul Compact Plan Vertikal'!$F$5-'Modul Compact Plan Vertikal'!$H$5))))/49.8329)^Blad1!$H$55 -> 942.26494
C73: 3000 | D73: =($C73/1000)*Blad1!$C$55*((('Modul Compact Plan Vertikal'!$D$5-'Modul Compact Plan Vertikal'!$F$5)/(LN(('Modul Compact Plan Vertikal'!$D$5-'Modul Compact Plan Vertikal'!$H$5)/('Modul Compact Plan Vertikal'!$F$5-'Modul Compact Plan Vertikal'!$H$5))))/49.8329)^Blad1!$D$55 -> 509.95627 | E73: =($C73/1000)*Blad1!$E$55*((('Modul Compact Plan Vertikal'!$D$5-'Modul Compact Plan Vertikal'!$F$5)/(LN(('Modul Compact Plan Vertikal'!$D$5-'Modul Compact Plan Vertikal'!$H$5)/('Modul Compact Plan Vertikal'!$F$5-'Modul Compact Plan Vertikal'!$H$5))))/49.8329)^Blad1!$F$55 -> 808.54524 | F73: =($C73/1000)*Blad1!$G$55*((('Modul Compact Plan Vertikal'!$D$5-'Modul Compact Plan Vertikal'!$F$5)/(LN(('Modul Compact Plan Vertikal'!$D$5-'Modul Compact Plan Vertikal'!$H$5)/('Modul Compact Plan Vertikal'!$F$5-'Modul Compact Plan Vertikal'!$H$5))))/49.8329)^Blad1!$H$55 -> 1087.2288
C77: Pituus 500
D78: Teho (W)
C79: Korkeus (mm) | D79: MCPV10 | E79: MCPV20 | F79: MCPV30
C80: 400 | D80: =Blad1!$C70*((('Modul Compact Plan Vertikal'!$D$5-'Modul Compact Plan Vertikal'!$F$5)/(LN(('Modul Compact Plan Vertikal'!$D$5-'Modul Compact Plan Vertikal'!$H$5)/('Modul Compact Plan Vertikal'!$F$5-'Modul Compact Plan Vertikal'!$H$5))))/49.8329)^Blad1!$D$76 -> 81.957257 | E80: =Blad1!$E70*((('Modul Compact Plan Vertikal'!$D$5-'Modul Compact Plan Vertikal'!$F$5)/(LN(('Modul Compact Plan Vertikal'!$D$5-'Modul Compact Plan Vertikal'!$H$5)/('Modul Compact Plan Vertikal'!$F$5-'Modul Compact Plan Vertikal'!$H$5))))/49.8329)^Blad1!$F$76 -> 129.74797 | F80: =Blad1!$G70*((('Modul Compact Plan Vertikal'!$D$5-'Modul Compact Plan Vertikal'!$F$5)/(LN(('Modul Compact Plan Vertikal'!$D$5-'Modul Compact Plan Vertikal'!$H$5)/('Modul Compact Plan Vertikal'!$F$5-'Modul Compact Plan Vertikal'!$H$5))))/49.8329)^Blad1!$H$76 -> 174.56636
C81: 500 | D81: =Blad1!$C71*((('Modul Compact Plan Vertikal'!$D$5-'Modul Compact Plan Vertikal'!$F$5)/(LN(('Modul Compact Plan Vertikal'!$D$5-'Modul Compact Plan Vertikal'!$H$5)/('Modul Compact Plan Vertikal'!$F$5-'Modul Compact Plan Vertikal'!$H$5))))/49.8329)^Blad1!$D$76 -> 106.24089 | E81: =Blad1!$E71*((('Modul Compact Plan Vertikal'!$D$5-'Modul Compact Plan Vertikal'!$F$5)/(LN(('Modul Compact Plan Vertikal'!$D$5-'Modul Compact Plan Vertikal'!$H$5)/('Modul Compact Plan Vertikal'!$F$5-'Modul Compact Plan Vertikal'!$H$5))))/49.8329)^Blad1!$F$76 -> 167.82073 | F81: =Blad1!$G71*((('Modul Compact Plan Vertikal'!$D$5-'Modul Compact Plan Vertikal'!$F$5)/(LN(('Modul Compact Plan Vertikal'!$D$5-'Modul Compact Plan Vertikal'!$H$5)/('Modul Compact Plan Vertikal'!$F$5-'Modul Compact Plan Vertikal'!$H$5))))/49.8329)^Blad1!$H$76 -> 225.70692
C82: 600 | D82: =Blad1!$C72*((('Modul Compact Plan Vertikal'!$D$5-'Modul Compact Plan Vertikal'!$F$5)/(LN(('Modul Compact Plan Vertikal'!$D$5-'Modul Compact Plan Vertikal'!$H$5)/('Modul Compact Plan Vertikal'!$F$5-'Modul Compact Plan Vertikal'!$H$5))))/49.8329)^Blad1!$D$76 -> 122.42998 | E82: =Blad1!$E72*((('Modul Compact Plan Vertikal'!$D$5-'Modul Compact Plan Vertikal'!$F$5)/(LN(('Modul Compact Plan Vertikal'!$D$5-'Modul Compact Plan Vertikal'!$H$5)/('Modul Compact Plan Vertikal'!$F$5-'Modul Compact Plan Vertikal'!$H$5))))/49.8329)^Blad1!$F$76 -> 193.36955 | F82: =Blad1!$G72*((('Modul Compact Plan Vertikal'!$D$5-'Modul Compact Plan Vertikal'!$F$5)/(LN(('Modul Compact Plan Vertikal'!$D$5-'Modul Compact Plan Vertikal'!$H$5)/('Modul Compact Plan Vertikal'!$F$5-'Modul Compact Plan Vertikal'!$H$5))))/49.8329)^Blad1!$H$76 -> 259.63672
C83: 700 | D83: =Blad1!$C73*((('Modul Compact Plan Vertikal'!$D$5-'Modul Compact Plan Vertikal'!$F$5)/(LN(('Modul Compact Plan Vertikal'!$D$5-'Modul Compact Plan Vertikal'!$H$5)/('Modul Compact Plan Vertikal'!$F$5-'Modul Compact Plan Vertikal'!$H$5))))/49.8329)^Blad1!$D$76 -> 146.71361 | E83: =Blad1!$E73*((('Modul Compact Plan Vertikal'!$D$5-'Modul Compact Plan Vertikal'!$F$5)/(LN(('Modul Compact Plan Vertikal'!$D$5-'Modul Compact Plan Vertikal'!$H$5)/('Modul Compact Plan Vertikal'!$F$5-'Modul Compact Plan Vertikal'!$H$5))))/49.8329)^Blad1!$F$76 -> 231.44232 | F83: =Blad1!$G73*((('Modul Compact Plan Vertikal'!$D$5-'Modul Compact Plan Vertikal'!$F$5)/(LN(('Modul Compact Plan Vertikal'!$D$5-'Modul Compact Plan Vertikal'!$H$5)/('Modul Compact Plan Vertikal'!$F$5-'Modul Compact Plan Vertikal'!$H$5))))/49.8329)^Blad1!$H$76 -> 311.76076
C84: 800 | D84: =Blad1!$C74*((('Modul Compact Plan Vertikal'!$D$5-'Modul Compact Plan Vertikal'!$F$5)/(LN(('Modul Compact Plan Vertikal'!$D$5-'Modul Compact Plan Vertikal'!$H$5)/('Modul Compact Plan Vertikal'!$F$5-'Modul Compact Plan Vertikal'!$H$5))))/49.8329)^Blad1!$D$76 -> 162.39679 | E84: =Blad1!$E74*((('Modul Compact Plan Vertikal'!$D$5-'Modul Compact Plan Vertikal'!$F$5)/(LN(('Modul Compact Plan Vertikal'!$D$5-'Modul Compact Plan Vertikal'!$H$5)/('Modul Compact Plan Vertikal'!$F$5-'Modul Compact Plan Vertikal'!$H$5))))/49.8329)^Blad1!$F$76 -> 257.4921 | F84: =Blad1!$G74*((('Modul Compact Plan Vertikal'!$D$5-'Modul Compact Plan Vertikal'!$F$5)/(LN(('Modul Compact Plan Vertikal'!$D$5-'Modul Compact Plan Vertikal'!$H$5)/('Modul Compact Plan Vertikal'!$F$5-'Modul Compact Plan Vertikal'!$H$5))))/49.8329)^Blad1!$H$76 -> 345.19883
C85: 900 | D85: =Blad1!$C75*((('Modul Compact Plan Vertikal'!$D$5-'Modul Compact Plan Vertikal'!$F$5)/(LN(('Modul Compact Plan Vertikal'!$D$5-'Modul Compact Plan Vertikal'!$H$5)/('Modul Compact Plan Vertikal'!$F$5-'Modul Compact Plan Vertikal'!$H$5))))/49.8329)^Blad1!$D$76 -> 186.17451 | E85: =Blad1!$E75*((('Modul Compact Plan Vertikal'!$D$5-'Modul Compact Plan Vertikal'!$F$5)/(LN(('Modul Compact Plan Vertikal'!$D$5-'Modul Compact Plan Vertikal'!$H$5)/('Modul Compact Plan Vertikal'!$F$5-'Modul Compact Plan Vertikal'!$H$5))))/49.8329)^Blad1!$F$76 -> 295.56486 | F85: =Blad1!$G75*((('Modul Compact Plan Vertikal'!$D$5-'Modul Compact Plan Vertikal'!$F$5)/(LN(('Modul Compact Plan Vertikal'!$D$5-'Modul Compact Plan Vertikal'!$H$5)/('Modul Compact Plan Vertikal'!$F$5-'Modul Compact Plan Vertikal'!$H$5))))/49.8329)^Blad1!$H$76 -> 396.33939
C86: 1000 | D86: =Blad1!$C76*((('Modul Compact Plan Vertikal'!$D$5-'Modul Compact Plan Vertikal'!$F$5)/(LN(('Modul Compact Plan Vertikal'!$D$5-'Modul Compact Plan Vertikal'!$H$5)/('Modul Compact Plan Vertikal'!$F$5-'Modul Compact Plan Vertikal'!$H$5))))/49.8329)^Blad1!$D$76 -> 202.3636 | E86: =Blad1!$E76*((('Modul Compact Plan Vertikal'!$D$5-'Modul Compact Plan Vertikal'!$F$5)/(LN(('Modul Compact Plan Vertikal'!$D$5-'Modul Compact Plan Vertikal'!$H$5)/('Modul Compact Plan Vertikal'!$F$5-'Modul Compact Plan Vertikal'!$H$5))))/49.8329)^Blad1!$F$76 -> 320.61273 | F86: =Blad1!$G76*((('Modul Compact Plan Vertikal'!$D$5-'Modul Compact Plan Vertikal'!$F$5)/(LN(('Modul Compact Plan Vertikal'!$D$5-'Modul Compact Plan Vertikal'!$H$5)/('Modul Compact Plan Vertikal'!$F$5-'Modul Compact Plan Vertikal'!$H$5))))/49.8329)^Blad1!$H$76 -> 430.76093
C87: 1100 | D87: =Blad1!$C77*((('Modul Compact Plan Vertikal'!$D$5-'Modul Compact Plan Vertikal'!$F$5)/(LN(('Modul Compact Plan Vertikal'!$D$5-'Modul Compact Plan Vertikal'!$H$5)/('Modul Compact Plan Vertikal'!$F$5-'Modul Compact Plan Vertikal'!$H$5))))/49.8329)^Blad1!$D$76 -> 226.14132 | E87: =Blad1!$E77*((('Modul Compact Plan Vertikal'!$D$5-'Modul Compact Plan Vertikal'!$F$5)/(LN(('Modul Compact Plan Vertikal'!$D$5-'Modul Compact Plan Vertikal'!$H$5)/('Modul Compact Plan Vertikal'!$F$5-'Modul Compact Plan Vertikal'!$H$5))))/49.8329)^Blad1!$F$76 -> 358.68549 | F87: =Blad1!$G77*((('Modul Compact Plan Vertikal'!$D$5-'Modul Compact Plan Vertikal'!$F$5)/(LN(('Modul Compact Plan Vertikal'!$D$5-'Modul Compact Plan Vertikal'!$H$5)/('Modul Compact Plan Vertikal'!$F$5-'Modul Compact Plan Vertikal'!$H$5))))/49.8329)^Blad1!$H$76 -> 481.90149
C88: 1200 | D88: =Blad1!$C78*((('Modul Compact Plan Vertikal'!$D$5-'Modul Compact Plan Vertikal'!$F$5)/(LN(('Modul Compact Plan Vertikal'!$D$5-'Modul Compact Plan Vertikal'!$H$5)/('Modul Compact Plan Vertikal'!$F$5-'Modul Compact Plan Vertikal'!$H$5))))/49.8329)^Blad1!$D$76 -> 242.33041 | E88: =Blad1!$E78*((('Modul Compact Plan Vertikal'!$D$5-'Modul Compact Plan Vertikal'!$F$5)/(LN(('Modul Compact Plan Vertikal'!$D$5-'Modul Compact Plan Vertikal'!$H$5)/('Modul Compact Plan Vertikal'!$F$5-'Modul Compact Plan Vertikal'!$H$5))))/49.8329)^Blad1!$F$76 -> 383.73336 | F88: =Blad1!$G78*((('Modul Compact Plan Vertikal'!$D$5-'Modul Compact Plan Vertikal'!$F$5)/(LN(('Modul Compact Plan Vertikal'!$D$5-'Modul Compact Plan Vertikal'!$H$5)/('Modul Compact Plan Vertikal'!$F$5-'Modul Compact Plan Vertikal'!$H$5))))/49.8329)^Blad1!$H$76 -> 515.83129
C89: 1300 | D89: =Blad1!$C79*((('Modul Compact Plan Vertikal'!$D$5-'Modul Compact Plan Vertikal'!$F$5)/(LN(('Modul Compact Plan Vertikal'!$D$5-'Modul Compact Plan Vertikal'!$H$5)/('Modul Compact Plan Vertikal'!$F$5-'Modul Compact Plan Vertikal'!$H$5))))/49.8329)^Blad1!$D$76 -> 262.56677 | E89: =Blad1!$E79*((('Modul Compact Plan Vertikal'!$D$5-'Modul Compact Plan Vertikal'!$F$5)/(LN(('Modul Compact Plan Vertikal'!$D$5-'Modul Compact Plan Vertikal'!$H$5)/('Modul Compact Plan Vertikal'!$F$5-'Modul Compact Plan Vertikal'!$H$5))))/49.8329)^Blad1!$F$76 -> 415.79464 | F89: =Blad1!$G79*((('Modul Compact Plan Vertikal'!$D$5-'Modul Compact Plan Vertikal'!$F$5)/(LN(('Modul Compact Plan Vertikal'!$D$5-'Modul Compact Plan Vertikal'!$H$5)/('Modul Compact Plan Vertikal'!$F$5-'Modul Compact Plan Vertikal'!$H$5))))/49.8329)^Blad1!$H$76 -> 558.61234
C90: 1400 | D90: =Blad1!$C80*((('Modul Compact Plan Vertikal'!$D$5-'Modul Compact Plan Vertikal'!$F$5)/(LN(('Modul Compact Plan Vertikal'!$D$5-'Modul Compact Plan Vertikal'!$H$5)/('Modul Compact Plan Vertikal'!$F$5-'Modul Compact Plan Vertikal'!$H$5))))/49.8329)^Blad1!$D$76 -> 282.29722 | E90: =Blad1!$E80*((('Modul Compact Plan Vertikal'!$D$5-'Modul Compact Plan Vertikal'!$F$5)/(LN(('Modul Compact Plan Vertikal'!$D$5-'Modul Compact Plan Vertikal'!$H$5)/('Modul Compact Plan Vertikal'!$F$5-'Modul Compact Plan Vertikal'!$H$5))))/49.8329)^Blad1!$F$76 -> 447.35495 | F90: =Blad1!$G80*((('Modul Compact Plan Vertikal'!$D$5-'Modul Compact Plan Vertikal'!$F$5)/(LN(('Modul Compact Plan Vertikal'!$D$5-'Modul Compact Plan Vertikal'!$H$5)/('Modul Compact Plan Vertikal'!$F$5-'Modul Compact Plan Vertikal'!$H$5))))/49.8329)^Blad1!$H$76 -> 600.90166
C91: 1600 | D91: =Blad1!$C81*((('Modul Compact Plan Vertikal'!$D$5-'Modul Compact Plan Vertikal'!$F$5)/(LN(('Modul Compact Plan Vertikal'!$D$5-'Modul Compact Plan Vertikal'!$H$5)/('Modul Compact Plan Vertikal'!$F$5-'Modul Compact Plan Vertikal'!$H$5))))/49.8329)^Blad1!$D$76 -> 322.76994 | E91: =Blad1!$E81*((('Modul Compact Plan Vertikal'!$D$5-'Modul Compact Plan Vertikal'!$F$5)/(LN(('Modul Compact Plan Vertikal'!$D$5-'Modul Compact Plan Vertikal'!$H$5)/('Modul Compact Plan Vertikal'!$F$5-'Modul Compact Plan Vertikal'!$H$5))))/49.8329)^Blad1!$F$76 -> 510.97654 | F91: =Blad1!$G81*((('Modul Compact Plan Vertikal'!$D$5-'Modul Compact Plan Vertikal'!$F$5)/(LN(('Modul Compact Plan Vertikal'!$D$5-'Modul Compact Plan Vertikal'!$H$5)/('Modul Compact Plan Vertikal'!$F$5-'Modul Compact Plan Vertikal'!$H$5))))/49.8329)^Blad1!$H$76 -> 686.46376
... C94: 2300 | D94: =Blad1!$C84*((('Modul Compact Plan Vertikal'!$D$5-'Modul Compact Plan Vertikal'!$F$5)/(LN(('Modul Compact Plan Vertikal'!$D$5-'Modul Compact Plan Vertikal'!$H$5)/('Modul Compact Plan Vertikal'!$F$5-'Modul Compact Plan Vertikal'!$H$5))))/49.8329)^Blad1!$D$76 -> 442.16446 | E94: =Blad1!$E84*((('Modul Compact Plan Vertikal'!$D$5-'Modul Compact Plan Vertikal'!$F$5)/(LN(('Modul Compact Plan Vertikal'!$D$5-'Modul Compact Plan Vertikal'!$H$5)/('Modul Compact Plan Vertikal'!$F$5-'Modul Compact Plan Vertikal'!$H$5))))/49.8329)^Blad1!$F$76 -> 701.34035 | F94: =Blad1!$G84*((('Modul Compact Plan Vertikal'!$D$5-'Modul Compact Plan Vertikal'!$F$5)/(LN(('Modul Compact Plan Vertikal'!$D$5-'Modul Compact Plan Vertikal'!$H$5)/('Modul Compact Plan Vertikal'!$F$5-'Modul Compact Plan Vertikal'!$H$5))))/49.8329)^Blad1!$H$76 -> 942.16659
C95: 2600 | D95: =($C95/1000)*Blad1!$C$76*((('Modul Compact Plan Vertikal'!$D$5-'Modul Compact Plan Vertikal'!$F$5)/(LN(('Modul Compact Plan Vertikal'!$D$5-'Modul Compact Plan Vertikal'!$H$5)/('Modul Compact Plan Vertikal'!$F$5-'Modul Compact Plan Vertikal'!$H$5))))/49.8329)^Blad1!$D$76 -> 526.14535 | E95: =($C95/1000)*Blad1!$E$76*((('Modul Compact Plan Vertikal'!$D$5-'Modul Compact Plan Vertikal'!$F$5)/(LN(('Modul Compact Plan Vertikal'!$D$5-'Modul Compact Plan Vertikal'!$H$5)/('Modul Compact Plan Vertikal'!$F$5-'Modul Compact Plan Vertikal'!$H$5))))/49.8329)^Blad1!$F$76 -> 833.59311 | F95: =($C95/1000)*Blad1!$G$76*((('Modul Compact Plan Vertikal'!$D$5-'Modul Compact Plan Vertikal'!$F$5)/(LN(('Modul Compact Plan Vertikal'!$D$5-'Modul Compact Plan Vertikal'!$H$5)/('Modul Compact Plan Vertikal'!$F$5-'Modul Compact Plan Vertikal'!$H$5))))/49.8329)^Blad1!$H$76 -> 1119.9784
C96: 3000 | D96: =($C96/1000)*Blad1!$C$76*((('Modul Compact Plan Vertikal'!$D$5-'Modul Compact Plan Vertikal'!$F$5)/(LN(('Modul Compact Plan Vertikal'!$D$5-'Modul Compact Plan Vertikal'!$H$5)/('Modul Compact Plan Vertikal'!$F$5-'Modul Compact Plan Vertikal'!$H$5))))/49.8329)^Blad1!$D$76 -> 607.09079 | E96: =($C96/1000)*Blad1!$E$76*((('Modul Compact Plan Vertikal'!$D$5-'Modul Compact Plan Vertikal'!$F$5)/(LN(('Modul Compact Plan Vertikal'!$D$5-'Modul Compact Plan Vertikal'!$H$5)/('Modul Compact Plan Vertikal'!$F$5-'Modul Compact Plan Vertikal'!$H$5))))/49.8329)^Blad1!$F$76 -> 961.8382 | F96: =($C96/1000)*Blad1!$G$76*((('Modul Compact Plan Vertikal'!$D$5-'Modul Compact Plan Vertikal'!$F$5)/(LN(('Modul Compact Plan Vertikal'!$D$5-'Modul Compact Plan Vertikal'!$H$5)/('Modul Compact Plan Vertikal'!$F$5-'Modul Compact Plan Vertikal'!$H$5))))/49.8329)^Blad1!$H$76 -> 1292.2828
C100: Pituus 600
D101: Teho (W)
C102: Korkeus (mm) | D102: MCPV10 | E102: MCPV20 | F102: MCPV30
C103: 400 | D103: =Blad1!$C91*((('Modul Compact Plan Vertikal'!$D$5-'Modul Compact Plan Vertikal'!$F$5)/(LN(('Modul Compact Plan Vertikal'!$D$5-'Modul Compact Plan Vertikal'!$H$5)/('Modul Compact Plan Vertikal'!$F$5-'Modul Compact Plan Vertikal'!$H$5))))/49.8329)^Blad1!$D$97 -> 95.6168 | E103: =Blad1!$E91*((('Modul Compact Plan Vertikal'!$D$5-'Modul Compact Plan Vertikal'!$F$5)/(LN(('Modul Compact Plan Vertikal'!$D$5-'Modul Compact Plan Vertikal'!$H$5)/('Modul Compact Plan Vertikal'!$F$5-'Modul Compact Plan Vertikal'!$H$5))))/49.8329)^Blad1!$F$97 -> 151.28913 | F103: =Blad1!$G91*((('Modul Compact Plan Vertikal'!$D$5-'Modul Compact Plan Vertikal'!$F$5)/(LN(('Modul Compact Plan Vertikal'!$D$5-'Modul Compact Plan Vertikal'!$H$5)/('Modul Compact Plan Vertikal'!$F$5-'Modul Compact Plan Vertikal'!$H$5))))/49.8329)^Blad1!$H$97 -> 203.57879
C104: 500 | D104: =Blad1!$C92*((('Modul Compact Plan Vertikal'!$D$5-'Modul Compact Plan Vertikal'!$F$5)/(LN(('Modul Compact Plan Vertikal'!$D$5-'Modul Compact Plan Vertikal'!$H$5)/('Modul Compact Plan Vertikal'!$F$5-'Modul Compact Plan Vertikal'!$H$5))))/49.8329)^Blad1!$D$97 -> 123.9477 | E104: =Blad1!$E92*((('Modul Compact Plan Vertikal'!$D$5-'Modul Compact Plan Vertikal'!$F$5)/(LN(('Modul Compact Plan Vertikal'!$D$5-'Modul Compact Plan Vertikal'!$H$5)/('Modul Compact Plan Vertikal'!$F$5-'Modul Compact Plan Vertikal'!$H$5))))/49.8329)^Blad1!$F$97 -> 195.87434 | F104: =Blad1!$G92*((('Modul Compact Plan Vertikal'!$D$5-'Modul Compact Plan Vertikal'!$F$5)/(LN(('Modul Compact Plan Vertikal'!$D$5-'Modul Compact Plan Vertikal'!$H$5)/('Modul Compact Plan Vertikal'!$F$5-'Modul Compact Plan Vertikal'!$H$5))))/49.8329)^Blad1!$H$97 -> 263.07888
C105: 600 | D105: =Blad1!$C93*((('Modul Compact Plan Vertikal'!$D$5-'Modul Compact Plan Vertikal'!$F$5)/(LN(('Modul Compact Plan Vertikal'!$D$5-'Modul Compact Plan Vertikal'!$H$5)/('Modul Compact Plan Vertikal'!$F$5-'Modul Compact Plan Vertikal'!$H$5))))/49.8329)^Blad1!$D$97 -> 142.66634 | E105: =Blad1!$E93*((('Modul Compact Plan Vertikal'!$D$5-'Modul Compact Plan Vertikal'!$F$5)/(LN(('Modul Compact Plan Vertikal'!$D$5-'Modul Compact Plan Vertikal'!$H$5)/('Modul Compact Plan Vertikal'!$F$5-'Modul Compact Plan Vertikal'!$H$5))))/49.8329)^Blad1!$F$97 -> 225.43083 | F105: =Blad1!$G93*((('Modul Compact Plan Vertikal'!$D$5-'Modul Compact Plan Vertikal'!$F$5)/(LN(('Modul Compact Plan Vertikal'!$D$5-'Modul Compact Plan Vertikal'!$H$5)/('Modul Compact Plan Vertikal'!$F$5-'Modul Compact Plan Vertikal'!$H$5))))/49.8329)^Blad1!$H$97 -> 303.40125
C106: 700 | D106: =Blad1!$C94*((('Modul Compact Plan Vertikal'!$D$5-'Modul Compact Plan Vertikal'!$F$5)/(LN(('Modul Compact Plan Vertikal'!$D$5-'Modul Compact Plan Vertikal'!$H$5)/('Modul Compact Plan Vertikal'!$F$5-'Modul Compact Plan Vertikal'!$H$5))))/49.8329)^Blad1!$D$97 -> 170.49133 | E106: =Blad1!$E94*((('Modul Compact Plan Vertikal'!$D$5-'Modul Compact Plan Vertikal'!$F$5)/(LN(('Modul Compact Plan Vertikal'!$D$5-'Modul Compact Plan Vertikal'!$H$5)/('Modul Compact Plan Vertikal'!$F$5-'Modul Compact Plan Vertikal'!$H$5))))/49.8329)^Blad1!$F$97 -> 270.01604 | F106: =Blad1!$G94*((('Modul Compact Plan Vertikal'!$D$5-'Modul Compact Plan Vertikal'!$F$5)/(LN(('Modul Compact Plan Vertikal'!$D$5-'Modul Compact Plan Vertikal'!$H$5)/('Modul Compact Plan Vertikal'!$F$5-'Modul Compact Plan Vertikal'!$H$5))))/49.8329)^Blad1!$H$97 -> 362.90133
C107: 800 | D107: =Blad1!$C95*((('Modul Compact Plan Vertikal'!$D$5-'Modul Compact Plan Vertikal'!$F$5)/(LN(('Modul Compact Plan Vertikal'!$D$5-'Modul Compact Plan Vertikal'!$H$5)/('Modul Compact Plan Vertikal'!$F$5-'Modul Compact Plan Vertikal'!$H$5))))/49.8329)^Blad1!$D$97 -> 189.20996 | E107: =Blad1!$E95*((('Modul Compact Plan Vertikal'!$D$5-'Modul Compact Plan Vertikal'!$F$5)/(LN(('Modul Compact Plan Vertikal'!$D$5-'Modul Compact Plan Vertikal'!$H$5)/('Modul Compact Plan Vertikal'!$F$5-'Modul Compact Plan Vertikal'!$H$5))))/49.8329)^Blad1!$F$97 -> 299.57252 | F107: =Blad1!$G95*((('Modul Compact Plan Vertikal'!$D$5-'Modul Compact Plan Vertikal'!$F$5)/(LN(('Modul Compact Plan Vertikal'!$D$5-'Modul Compact Plan Vertikal'!$H$5)/('Modul Compact Plan Vertikal'!$F$5-'Modul Compact Plan Vertikal'!$H$5))))/49.8329)^Blad1!$H$97 -> 402.73196
C108: 900 | D108: =Blad1!$C96*((('Modul Compact Plan Vertikal'!$D$5-'Modul Compact Plan Vertikal'!$F$5)/(LN(('Modul Compact Plan Vertikal'!$D$5-'Modul Compact Plan Vertikal'!$H$5)/('Modul Compact Plan Vertikal'!$F$5-'Modul Compact Plan Vertikal'!$H$5))))/49.8329)^Blad1!$D$97 -> 217.54087 | E108: =Blad1!$E96*((('Modul Compact Plan Vertikal'!$D$5-'Modul Compact Plan Vertikal'!$F$5)/(LN(('Modul Compact Plan Vertikal'!$D$5-'Modul Compact Plan Vertikal'!$H$5)/('Modul Compact Plan Vertikal'!$F$5-'Modul Compact Plan Vertikal'!$H$5))))/49.8329)^Blad1!$F$97 -> 344.15773 | F108: =Blad1!$G96*((('Modul Compact Plan Vertikal'!$D$5-'Modul Compact Plan Vertikal'!$F$5)/(LN(('Modul Compact Plan Vertikal'!$D$5-'Modul Compact Plan Vertikal'!$H$5)/('Modul Compact Plan Vertikal'!$F$5-'Modul Compact Plan Vertikal'!$H$5))))/49.8329)^Blad1!$H$97 -> 462.72378
C109: 1000 | D109: =Blad1!$C97*((('Modul Compact Plan Vertikal'!$D$5-'Modul Compact Plan Vertikal'!$F$5)/(LN(('Modul Compact Plan Vertikal'!$D$5-'Modul Compact Plan Vertikal'!$H$5)/('Modul Compact Plan Vertikal'!$F$5-'Modul Compact Plan Vertikal'!$H$5))))/49.8329)^Blad1!$D$97 -> 235.75359 | E109: =Blad1!$E97*((('Modul Compact Plan Vertikal'!$D$5-'Modul Compact Plan Vertikal'!$F$5)/(LN(('Modul Compact Plan Vertikal'!$D$5-'Modul Compact Plan Vertikal'!$H$5)/('Modul Compact Plan Vertikal'!$F$5-'Modul Compact Plan Vertikal'!$H$5))))/49.8329)^Blad1!$F$97 -> 373.71422 | F109: =Blad1!$G97*((('Modul Compact Plan Vertikal'!$D$5-'Modul Compact Plan Vertikal'!$F$5)/(LN(('Modul Compact Plan Vertikal'!$D$5-'Modul Compact Plan Vertikal'!$H$5)/('Modul Compact Plan Vertikal'!$F$5-'Modul Compact Plan Vertikal'!$H$5))))/49.8329)^Blad1!$H$97 -> 502.06268
C110: 1100 | D110: =Blad1!$C98*((('Modul Compact Plan Vertikal'!$D$5-'Modul Compact Plan Vertikal'!$F$5)/(LN(('Modul Compact Plan Vertikal'!$D$5-'Modul Compact Plan Vertikal'!$H$5)/('Modul Compact Plan Vertikal'!$F$5-'Modul Compact Plan Vertikal'!$H$5))))/49.8329)^Blad1!$D$97 -> 264.0845 | E110: =Blad1!$E98*((('Modul Compact Plan Vertikal'!$D$5-'Modul Compact Plan Vertikal'!$F$5)/(LN(('Modul Compact Plan Vertikal'!$D$5-'Modul Compact Plan Vertikal'!$H$5)/('Modul Compact Plan Vertikal'!$F$5-'Modul Compact Plan Vertikal'!$H$5))))/49.8329)^Blad1!$F$97 -> 417.79847 | F110: =Blad1!$G98*((('Modul Compact Plan Vertikal'!$D$5-'Modul Compact Plan Vertikal'!$F$5)/(LN(('Modul Compact Plan Vertikal'!$D$5-'Modul Compact Plan Vertikal'!$H$5)/('Modul Compact Plan Vertikal'!$F$5-'Modul Compact Plan Vertikal'!$H$5))))/49.8329)^Blad1!$H$97 -> 561.56276
C111: 1200 | D111: =Blad1!$C99*((('Modul Compact Plan Vertikal'!$D$5-'Modul Compact Plan Vertikal'!$F$5)/(LN(('Modul Compact Plan Vertikal'!$D$5-'Modul Compact Plan Vertikal'!$H$5)/('Modul Compact Plan Vertikal'!$F$5-'Modul Compact Plan Vertikal'!$H$5))))/49.8329)^Blad1!$D$97 -> 282.29722 | E111: =Blad1!$E99*((('Modul Compact Plan Vertikal'!$D$5-'Modul Compact Plan Vertikal'!$F$5)/(LN(('Modul Compact Plan Vertikal'!$D$5-'Modul Compact Plan Vertikal'!$H$5)/('Modul Compact Plan Vertikal'!$F$5-'Modul Compact Plan Vertikal'!$H$5))))/49.8329)^Blad1!$F$97 -> 447.85591 | F111: =Blad1!$G99*((('Modul Compact Plan Vertikal'!$D$5-'Modul Compact Plan Vertikal'!$F$5)/(LN(('Modul Compact Plan Vertikal'!$D$5-'Modul Compact Plan Vertikal'!$H$5)/('Modul Compact Plan Vertikal'!$F$5-'Modul Compact Plan Vertikal'!$H$5))))/49.8329)^Blad1!$H$97 -> 601.39339
C112: 1300 | D112: =Blad1!$C100*((('Modul Compact Plan Vertikal'!$D$5-'Modul Compact Plan Vertikal'!$F$5)/(LN(('Modul Compact Plan Vertikal'!$D$5-'Modul Compact Plan Vertikal'!$H$5)/('Modul Compact Plan Vertikal'!$F$5-'Modul Compact Plan Vertikal'!$H$5))))/49.8329)^Blad1!$D$97 -> 306.07494 | E112: =Blad1!$E100*((('Modul Compact Plan Vertikal'!$D$5-'Modul Compact Plan Vertikal'!$F$5)/(LN(('Modul Compact Plan Vertikal'!$D$5-'Modul Compact Plan Vertikal'!$H$5)/('Modul Compact Plan Vertikal'!$F$5-'Modul Compact Plan Vertikal'!$H$5))))/49.8329)^Blad1!$F$97 -> 484.4258 | F112: =Blad1!$G100*((('Modul Compact Plan Vertikal'!$D$5-'Modul Compact Plan Vertikal'!$F$5)/(LN(('Modul Compact Plan Vertikal'!$D$5-'Modul Compact Plan Vertikal'!$H$5)/('Modul Compact Plan Vertikal'!$F$5-'Modul Compact Plan Vertikal'!$H$5))))/49.8329)^Blad1!$H$97 -> 651.05875
C113: 1400 | D113: =Blad1!$C101*((('Modul Compact Plan Vertikal'!$D$5-'Modul Compact Plan Vertikal'!$F$5)/(LN(('Modul Compact Plan Vertikal'!$D$5-'Modul Compact Plan Vertikal'!$H$5)/('Modul Compact Plan Vertikal'!$F$5-'Modul Compact Plan Vertikal'!$H$5))))/49.8329)^Blad1!$D$97 -> 329.34676 | E113: =Blad1!$E101*((('Modul Compact Plan Vertikal'!$D$5-'Modul Compact Plan Vertikal'!$F$5)/(LN(('Modul Compact Plan Vertikal'!$D$5-'Modul Compact Plan Vertikal'!$H$5)/('Modul Compact Plan Vertikal'!$F$5-'Modul Compact Plan Vertikal'!$H$5))))/49.8329)^Blad1!$F$97 -> 521.99761 | F113: =Blad1!$G101*((('Modul Compact Plan Vertikal'!$D$5-'Modul Compact Plan Vertikal'!$F$5)/(LN(('Modul Compact Plan Vertikal'!$D$5-'Modul Compact Plan Vertikal'!$H$5)/('Modul Compact Plan Vertikal'!$F$5-'Modul Compact Plan Vertikal'!$H$5))))/49.8329)^Blad1!$H$97 -> 701.21585
C114: 1600 | D114: =Blad1!$C102*((('Modul Compact Plan Vertikal'!$D$5-'Modul Compact Plan Vertikal'!$F$5)/(LN(('Modul Compact Plan Vertikal'!$D$5-'Modul Compact Plan Vertikal'!$H$5)/('Modul Compact Plan Vertikal'!$F$5-'Modul Compact Plan Vertikal'!$H$5))))/49.8329)^Blad1!$D$97 -> 375.89038 | E114: =Blad1!$E102*((('Modul Compact Plan Vertikal'!$D$5-'Modul Compact Plan Vertikal'!$F$5)/(LN(('Modul Compact Plan Vertikal'!$D$5-'Modul Compact Plan Vertikal'!$H$5)/('Modul Compact Plan Vertikal'!$F$5-'Modul Compact Plan Vertikal'!$H$5))))/49.8329)^Blad1!$F$97 -> 596.1393 | F114: =Blad1!$G102*((('Modul Compact Plan Vertikal'!$D$5-'Modul Compact Plan Vertikal'!$F$5)/(LN(('Modul Compact Plan Vertikal'!$D$5-'Modul Compact Plan Vertikal'!$H$5)/('Modul Compact Plan Vertikal'!$F$5-'Modul Compact Plan Vertikal'!$H$5))))/49.8329)^Blad1!$H$97 -> 800.54656
... C117: 2300 | D117: =Blad1!$C105*((('Modul Compact Plan Vertikal'!$D$5-'Modul Compact Plan Vertikal'!$F$5)/(LN(('Modul Compact Plan Vertikal'!$D$5-'Modul Compact Plan Vertikal'!$H$5)/('Modul Compact Plan Vertikal'!$F$5-'Modul Compact Plan Vertikal'!$H$5))))/49.8329)^Blad1!$D$97 -> 516.02718 | E117: =Blad1!$E105*((('Modul Compact Plan Vertikal'!$D$5-'Modul Compact Plan Vertikal'!$F$5)/(LN(('Modul Compact Plan Vertikal'!$D$5-'Modul Compact Plan Vertikal'!$H$5)/('Modul Compact Plan Vertikal'!$F$5-'Modul Compact Plan Vertikal'!$H$5))))/49.8329)^Blad1!$F$97 -> 818.06343 | F117: =Blad1!$G105*((('Modul Compact Plan Vertikal'!$D$5-'Modul Compact Plan Vertikal'!$F$5)/(LN(('Modul Compact Plan Vertikal'!$D$5-'Modul Compact Plan Vertikal'!$H$5)/('Modul Compact Plan Vertikal'!$F$5-'Modul Compact Plan Vertikal'!$H$5))))/49.8329)^Blad1!$H$97 -> 1098.5387
C118: 2600 | D118: =($C118/1000)*Blad1!$C$97*((('Modul Compact Plan Vertikal'!$D$5-'Modul Compact Plan Vertikal'!$F$5)/(LN(('Modul Compact Plan Vertikal'!$D$5-'Modul Compact Plan Vertikal'!$H$5)/('Modul Compact Plan Vertikal'!$F$5-'Modul Compact Plan Vertikal'!$H$5))))/49.8329)^Blad1!$D$97 -> 612.95934 | E118: =($C118/1000)*Blad1!$E$97*((('Modul Compact Plan Vertikal'!$D$5-'Modul Compact Plan Vertikal'!$F$5)/(LN(('Modul Compact Plan Vertikal'!$D$5-'Modul Compact Plan Vertikal'!$H$5)/('Modul Compact Plan Vertikal'!$F$5-'Modul Compact Plan Vertikal'!$H$5))))/49.8329)^Blad1!$F$97 -> 971.65696 | F118: =Blad1!$G106*((('Modul Compact Plan Vertikal'!$D$5-'Modul Compact Plan Vertikal'!$F$5)/(LN(('Modul Compact Plan Vertikal'!$D$5-'Modul Compact Plan Vertikal'!$H$5)/('Modul Compact Plan Vertikal'!$F$5-'Modul Compact Plan Vertikal'!$H$5))))/49.8329)^Blad1!$H$97 -> 0
C119: 3000 | D119: =($C119/1000)*Blad1!$C$97*((('Modul Compact Plan Vertikal'!$D$5-'Modul Compact Plan Vertikal'!$F$5)/(LN(('Modul Compact Plan Vertikal'!$D$5-'Modul Compact Plan Vertikal'!$H$5)/('Modul Compact Plan Vertikal'!$F$5-'Modul Compact Plan Vertikal'!$H$5))))/49.8329)^Blad1!$D$97 -> 707.26078 | E119: =($C119/1000)*Blad1!$E$97*((('Modul Compact Plan Vertikal'!$D$5-'Modul Compact Plan Vertikal'!$F$5)/(LN(('Modul Compact Plan Vertikal'!$D$5-'Modul Compact Plan Vertikal'!$H$5)/('Modul Compact Plan Vertikal'!$F$5-'Modul Compact Plan Vertikal'!$H$5))))/49.8329)^Blad1!$F$97 -> 1121.1427 | F119: =Blad1!$G107*((('Modul Compact Plan Vertikal'!$D$5-'Modul Compact Plan Vertikal'!$F$5)/(LN(('Modul Compact Plan Vertikal'!$D$5-'Modul Compact Plan Vertikal'!$H$5)/('Modul Compact Plan Vertikal'!$F$5-'Modul Compact Plan Vertikal'!$H$5))))/49.8329)^Blad1!$H$97 -> 0
C122: Stravent Oy pidättää oikeuden tehdä muutoksia tähän taulukkoon ilman erillistä ilmoitusta.
C125: Stravent Oy | F125: Puhelin: | G125: 09 4241 3630
C126: Piispantilankuja 4 | F126: Email: | G126: etunimi.sukunimi@stravent.fi
C127: 02240 Espoo | F127: www: | G127: www.stravent.fi

Sheet Blad1
C3: L200
A4: Höjd 200mm | B4: MCPV10 | E4: MCPV20 | G4: MCPV30
B5: Höjd | C5: Avgiven effekt (W) vid ΔT: | E5: Avgiven effekt (W) vid ΔT: | G5: Avgiven effekt (W) vid ΔT:
B6: (mm) | C6: 75/65/20 | D6: n-faktor | E6: 75/65/20 | F6: n-faktor | G6: 75/65/20 | H6: n-faktor
B7: 400 | C7: 83 | E7: 114 | G7: 181
B8: 500 | C8: 106 | E8: 148 | G8: 232
B9: 600 | C9: 122 | E9: 174 | G9: 269
B10: 700 | C10: 147 | E10: 236 | G10: 322
B11: 800 | C11: 162 | E11: 263 | G11: 355
B12: 900 | C12: 186 | E12: 303 | G12: 410
B13: 1000 | C13: 202 | D13: 1.247 | E13: 328 | F13: 1.265 | G13: 444 | H13: 1.299
B14: 1100 | C14: 227 | E14: 369 | G14: 497
B15: 1200 | C15: 243 | E15: 395 | G15: 532
B16: 1300 | C16: 263 | E16: 428 | G16: 576
B17: 1400 | C17: 283 | E17: 461 | G17: 620
B18: 1600 | C18: 339 | E18: 552 | G18: 742
B19: 1800 | C19: 364 | E19: 592 | G19: 795
B20: 2000 | C20: 404 | E20: 658 | G20: 883
B21: 2300 | C21: 444 | E21: 757 | G21: 1089
C24: L300
A25: Höjd 300mm | B25: MCPV10 | E25: MCPV20 | G25: MCPV30
B26: höjd | C26: Avgiven effekt (W) vid ΔT: | E26: Avgiven effekt (W) vid ΔT: | G26: Avgiven effekt (W) vid ΔT:
B27: (mm) | C27: 75/65/20 | D27: n-faktor | E27: 75/65/20 | F27: n-faktor | G27: 75/65/20 | H27: n-faktor
B28: 400 | C28: 112 | E28: 179 | G28: 245
B29: 500 | C29: 144 | E29: 230 | G29: 315
B30: 600 | C30: 166 | E30: 266 | G30: 364
B31: 700 | C31: 199 | E31: 318 | G31: 436
B32: 800 | C32: 221 | E32: 353 | G32: 482
B33: 900 | C33: 154 | E33: 406 | G33: 554
B34: 1000 | C34: 274 | D34: 1.247 | E34: 440 | F34: 1.265 | G34: 602 | H34: 1.299
B35: 1100 | C35: 307 | E35: 492 | G35: 674
B36: 1200 | C36: 330 | E36: 527 | G36: 722
B37: 1300 | C37: 357 | E37: 571 | G37: 781
B38: 1400 | C38: 384 | E38: 614 | G38: 841
B39: 1600 | C39: 438 | E39: 701 | G39: 960
B40: 1800 | C40: 493 | E40: 788 | G40: 1078
B41: 2000 | C41: 547 | E41: 876 | G41: 1198
B42: 2300 | C42: 602 | E42: 962 | G42: 1318
C45: L400
A46: Höjd 400mm | B46: MCPV10 | E46: MCPV20 | G46: MCPV30
B47: höjd | C47: Avgiven effekt (W) vid ΔT: | E47: Avgiven effekt (W) vid ΔT: | G47: Avgiven effekt (W) vid ΔT:
B48: (mm) | C48: 75/65/20 | D48: n-faktor | E48: 75/65/20 | F48: n-faktor | G48: 75/65/20 | H48: n-faktor
B49: 400 | C49: 137 | E49: 218 | G49: 299
B50: 500 | C50: 177 | E50: 282 | G50: 386
B51: 600 | C51: 203 | E51: 325 | G51: 445
B52: 700 | C52: 243 | E52: 389 | G52: 532
B53: 800 | C53: 270 | E53: 432 | G53: 590
B54: 900 | C54: 310 | E54: 496 | G54: 679
B55: 1000 | C55: 336 | D55: 1.247 | E55: 538 | F55: 1.265 | G55: 737 | H55: 1.299
B56: 1100 | C56: 377 | E56: 602 | G56: 825
B57: 1200 | C57: 403 | E57: 645 | G57: 882
B58: 1300 | C58: 436 | E58: 698 | G58: 956
B59: 1400 | C59: 470 | E59: 752 | G59: 1029
B60: 1600 | C60: 537 | E60: 858 | G60: 1175
B61: 1800 | C61: 603 | E61: 965 | G61: 1321
B62: 2000 | C62: 670 | E62: 1071 | G62: 1466
B63: 2300 | C63: 736 | E63: 1178 | G63: 1612
C66: L500
A67: Höjd 500mm | B67: MCPV10 | E67: MCPV20 | G67: MCPV30
B68: höjd | C68: Avgiven effekt (W) vid ΔT: | E68: Avgiven effekt (W) vid ΔT: | G68: Avgiven effekt (W) vid ΔT:
B69: (mm) | C69: 75/65/20 | D69: n-faktor | E69: 75/65/20 | F69: n-faktor | G69: 75/65/20 | H69: n-faktor
B70: 400 | C70: 162 | E70: 259 | G70: 355
B71: 500 | C71: 210 | E71: 335 | G71: 459
B72: 600 | C72: 242 | E72: 386 | G72: 528
B73: 700 | C73: 290 | E73: 462 | G73: 634
B74: 800 | C74: 321 | E74: 514 | G74: 702
B75: 900 | C75: 368 | E75: 590 | G75: 806
B76: 1000 | C76: 400 | D76: 1.247 | E76: 640 | F76: 1.265 | G76: 876 | H76: 1.299
B77: 1100 | C77: 447 | E77: 716 | G77: 980
B78: 1200 | C78: 479 | E78: 766 | G78: 1049
B79: 1300 | C79: 519 | E79: 830 | G79: 1136
B80: 1400 | C80: 558 | E80: 893 | G80: 1222
B81: 1600 | C81: 638 | E81: 1020 | G81: 1396
B82: 1800 | C82: 717 | E82: 1146 | G82: 1570
B83: 2000 | C83: 796 | E83: 1273 | G83: 1742
B84: 2300 | C84: 874 | E84: 1400 | G84: 1916
C87: L600
A88: Höjd 600mm | B88: MCPV10 | E88: MCPV20 | G88: MCPV30
B89: höjd | C89: Avgiven effekt (W) vid ΔT: | E89: Avgiven effekt (W) vid ΔT: | G89: Avgiven effekt (W) vid ΔT:
B90: (mm) | C90: 75/65/20 | D90: n-faktor | E90: 75/65/20 | F90: n-faktor | G90: 75/65/20 | H90: n-faktor
B91: 400 | C91: 189 | E91: 302 | G91: 414
B92: 500 | C92: 245 | E92: 391 | G92: 535
B93: 600 | C93: 282 | E93: 450 | G93: 617
B94: 700 | C94: 337 | E94: 539 | G94: 738
B95: 800 | C95: 374 | E95: 598 | G95: 819
B96: 900 | C96: 430 | E96: 687 | G96: 941
B97: 1000 | C97: 466 | D97: 1.247 | E97: 746 | F97: 1.265 | G97: 1021 | H97: 1.299
B98: 1100 | C98: 522 | E98: 834 | G98: 1142
B99: 1200 | C99: 558 | E99: 894 | G99: 1223
B100: 1300 | C100: 605 | E100: 967 | G100: 1324
B101: 1400 | C101: 651 | E101: 1042 | G101: 1426
B102: 1600 | C102: 743 | E102: 1190 | G102: 1628
B103: 1800 | C103: 835 | E103: 1337 | G103: 1830
B104: 2000 | C104: 928 | E104: 1485 | G104: 2032
B105: 2300 | C105: 1020 | E105: 1633 | G105: 2234
