Workbook

Sheet Modul Compact Plan Vertikal
I1: Versio: | J1: 42076
C3: Modul Compact Plan Vertikal
A5: =((((D5+F5)/2)-H5)/50)^1.28 -> 0.52003623 | C5: Menolämp. | D5: 60 | E5: Paluulämp. | F5: 40 | G5: Huonelämp. | H5: 20
C8: Pituus 200
D9: Teho (W)
C10: Korkeus (mm) | D10: MCPV10 | E10: MCPV20 | F10: MCPV30
C11: 400 | D11: =Blad1!$C7*((('Modul Compact Plan Vertikal'!$D$5-'Modul Compact Plan Vertikal'!$F$5)/(LN(('Modul Compact Plan Vertikal'!$D$5-'Modul Compact Plan Vertikal'!$H$5)/('Modul Compact Plan Vertikal'!$F$5-'Modul Compact Plan Vertikal'!$H$5))))/49.8329)^Blad1!$D$13 -> 41.990447 | E11: =Blad1!$E7*((('Modul Compact Plan Vertikal'!$D$5-'Modul Compact Plan Vertikal'!$F$5)/(LN(('Modul Compact Plan Vertikal'!$D$5-'Modul Compact Plan Vertikal'!$H$5)/('Modul Compact Plan Vertikal'!$F$5-'Modul Compact Plan Vertikal'!$H$5))))/49.8329)^Blad1!$F$13 -> 57.109143 | F11: =Blad1!$G7*((('Modul Compact Plan Vertikal'!$D$5-'Modul Compact Plan Vertikal'!$F$5)/(LN(('Modul Compact Plan Vertikal'!$D$5-'Modul Compact Plan Vertikal'!$H$5)/('Modul Compact Plan Vertikal'!$F$5-'Modul Compact Plan Vertikal'!$H$5))))/49.8329)^Blad1!$H$13 -> 89.004255
C12: 500 | D12: =Blad1!$C8*((('Modul Compact Plan Vertikal'!$D$5-'Modul Compact Plan Vertikal'!$F$5)/(LN(('Modul Compact Plan Vertikal'!$D$5-'Modul Compact Plan Vertikal'!$H$5)/('Modul Compact Plan Vertikal'!$F$5-'Modul Compact Plan Vertikal'!$H$5))))/49.8329)^Blad1!$D$13 -> 53.626353 | E12: =Blad1!$E8*((('Modul Compact Plan Vertikal'!$D$5-'Modul Compact Plan Vertikal'!$F$5)/(LN(('Modul Compact Plan Vertikal'!$D$5-'Modul Compact Plan Vertikal'!$H$5)/('Modul Compact Plan Vertikal'!$F$5-'Modul Compact Plan Vertikal'!$H$5))))/49.8329)^Blad1!$F$13 -> 74.141694 | F12: =Blad1!$G8*((('Modul Compact Plan Vertikal'!$D$5-'Modul Compact Plan Vertikal'!$F$5)/(LN(('Modul Compact Plan Vertikal'!$D$5-'Modul Compact Plan Vertikal'!$H$5)/('Modul Compact Plan Vertikal'!$F$5-'Modul Compact Plan Vertikal'!$H$5))))/49.8329)^Blad1!$H$13 -> 114.0828
C13: 600 | D13: =Blad1!$C9*((('Modul Compact Plan Vertikal'!$D$5-'Modul Compact Plan Vertikal'!$F$5)/(LN(('Modul Compact Plan Vertikal'!$D$5-'Modul Compact Plan Vertikal'!$H$5)/('Modul Compact Plan Vertikal'!$F$5-'Modul Compact Plan Vertikal'!$H$5))))/49.8329)^Blad1!$D$13 -> 61.720897 | E13: =Blad1!$E9*((('Modul Compact Plan Vertikal'!$D$5-'Modul Compact Plan Vertikal'!$F$5)/(LN(('Modul Compact Plan Vertikal'!$D$5-'Modul Compact Plan Vertikal'!$H$5)/('Modul Compact Plan Vertikal'!$F$5-'Modul Compact Plan Vertikal'!$H$5))))/49.8329)^Blad1!$F$13 -> 87.166587 | F13: =Blad1!$G9*((('Modul Compact Plan Vertikal'!$D$5-'Modul Compact Plan Vertikal'!$F$5)/(LN(('Modul Compact Plan Vertikal'!$D$5-'Modul Compact Plan Vertikal'!$H$5)/('Modul Compact Plan Vertikal'!$F$5-'Modul Compact Plan Vertikal'!$H$5))))/49.8329)^Blad1!$H$13 -> 132.27704
C14: 700 | D14: =Blad1!$C10*((('Modul Compact Plan Vertikal'!$D$5-'Modul Compact Plan Vertikal'!$F$5)/(LN(('Modul Compact Plan Vertikal'!$D$5-'Modul Compact Plan Vertikal'!$H$5)/('Modul Compact Plan Vertikal'!$F$5-'Modul Compact Plan Vertikal'!$H$5))))/49.8329)^Blad1!$D$13 -> 74.368622 | E14: =Blad1!$E10*((('Modul Compact Plan Vertikal'!$D$5-'Modul Compact Plan Vertikal'!$F$5)/(LN(('Modul Compact Plan Vertikal'!$D$5-'Modul Compact Plan Vertikal'!$H$5)/('Modul Compact Plan Vertikal'!$F$5-'Modul Compact Plan Vertikal'!$H$5))))/49.8329)^Blad1!$F$13 -> 118.22595 | F14: =Blad1!$G10*((('Modul Compact Plan Vertikal'!$D$5-'Modul Compact Plan Vertikal'!$F$5)/(LN(('Modul Compact Plan Vertikal'!$D$5-'Modul Compact Plan Vertikal'!$H$5)/('Modul Compact Plan Vertikal'!$F$5-'Modul Compact Plan Vertikal'!$H$5))))/49.8329)^Blad1!$H$13 -> 158.33906
C15: 800 | D15: =Blad1!$C11*((('Modul Compact Plan Vertikal'!$D$5-'Modul Compact Plan Vertikal'!$F$5)/(LN(('Modul Compact Plan Vertikal'!$D$5-'Modul Compact Plan Vertikal'!$H$5)/('Modul Compact Plan Vertikal'!$F$5-'Modul Compact Plan Vertikal'!$H$5))))/49.8329)^Blad1!$D$13 -> 81.957257 | E15: =Blad1!$E11*((('Modul Compact Plan Vertikal'!$D$5-'Modul Compact Plan Vertikal'!$F$5)/(LN(('Modul Compact Plan Vertikal'!$D$5-'Modul Compact Plan Vertikal'!$H$5)/('Modul Compact Plan Vertikal'!$F$5-'Modul Compact Plan Vertikal'!$H$5))))/49.8329)^Blad1!$F$13 -> 131.75179 | F15: =Blad1!$G11*((('Modul Compact Plan Vertikal'!$D$5-'Modul Compact Plan Vertikal'!$F$5)/(LN(('Modul Compact Plan Vertikal'!$D$5-'Modul Compact Plan Vertikal'!$H$5)/('Modul Compact Plan Vertikal'!$F$5-'Modul Compact Plan Vertikal'!$H$5))))/49.8329)^Blad1!$H$13 -> 174.56636
C16: 900 | D16: =Blad1!$C12*((('Modul Compact Plan Vertikal'!$D$5-'Modul Compact Plan Vertikal'!$F$5)/(LN(('Modul Compact Plan Vertikal'!$D$5-'Modul Compact Plan Vertikal'!$H$5)/('Modul Compact Plan Vertikal'!$F$5-'Modul Compact Plan Vertikal'!$H$5))))/49.8329)^Blad1!$D$13 -> 94.099073 | E16: =Blad1!$E12*((('Modul Compact Plan Vertikal'!$D$5-'Modul Compact Plan Vertikal'!$F$5)/(LN(('Modul Compact Plan Vertikal'!$D$5-'Modul Compact Plan Vertikal'!$H$5)/('Modul Compact Plan Vertikal'!$F$5-'Modul Compact Plan Vertikal'!$H$5))))/49.8329)^Blad1!$F$13 -> 151.79009 | F16: =Blad1!$G12*((('Modul Compact Plan Vertikal'!$D$5-'Modul Compact Plan Vertikal'!$F$5)/(LN(('Modul Compact Plan Vertikal'!$D$5-'Modul Compact Plan Vertikal'!$H$5)/('Modul Compact Plan Vertikal'!$F$5-'Modul Compact Plan Vertikal'!$H$5))))/49.8329)^Blad1!$H$13 -> 201.61185
C17: 1000 | D17: =Blad1!$C13*((('Modul Compact Plan Vertikal'!$D$5-'Modul Compact Plan Vertikal'!$F$5)/(LN(('Modul Compact Plan Vertikal'!$D$5-'Modul Compact Plan Vertikal'!$H$5)/('Modul Compact Plan Vertikal'!$F$5-'Modul Compact Plan Vertikal'!$H$5))))/49.8329)^Blad1!$D$13 -> 102.19362 | E17: =Blad1!$E13*((('Modul Compact Plan Vertikal'!$D$5-'Modul Compact Plan Vertikal'!$F$5)/(LN(('Modul Compact Plan Vertikal'!$D$5-'Modul Compact Plan Vertikal'!$H$5)/('Modul Compact Plan Vertikal'!$F$5-'Modul Compact Plan Vertikal'!$H$5))))/49.8329)^Blad1!$F$13 -> 164.31403 | F17: =Blad1!$G13*((('Modul Compact Plan Vertikal'!$D$5-'Modul Compact Plan Vertikal'!$F$5)/(LN(('Modul Compact Plan Vertikal'!$D$5-'Modul Compact Plan Vertikal'!$H$5)/('Modul Compact Plan Vertikal'!$F$5-'Modul Compact Plan Vertikal'!$H$5))))/49.8329)^Blad1!$H$13 -> 218.33088
C18: 1100 | D18: =Blad1!$C14*((('Modul Compact Plan Vertikal'!$D$5-'Modul Compact Plan Vertikal'!$F$5)/(LN(('Modul Compact Plan Vertikal'!$D$5-'Modul Compact Plan Vertikal'!$H$5)/('Modul Compact Plan Vertikal'!$F$5-'Modul Compact Plan Vertikal'!$H$5))))/49.8329)^Blad1!$D$13 -> 114.84134 | E18: =Blad1!$E14*((('Modul Compact Plan Vertikal'!$D$5-'Modul Compact Plan Vertikal'!$F$5)/(LN(('Modul Compact Plan Vertikal'!$D$5-'Modul Compact Plan Vertikal'!$H$5)/('Modul Compact Plan Vertikal'!$F$5-'Modul Compact Plan Vertikal'!$H$5))))/49.8329)^Blad1!$F$13 -> 184.85328 | F18: =Blad1!$G14*((('Modul Compact Plan Vertikal'!$D$5-'Modul Compact Plan Vertikal'!$F$5)/(LN(('Modul Compact Plan Vertikal'!$D$5-'Modul Compact Plan Vertikal'!$H$5)/('Modul Compact Plan Vertikal'!$F$5-'Modul Compact Plan Vertikal'!$H$5))))/49.8329)^Blad1!$H$13 -> 244.3929
C19: 1200 | D19: =Blad1!$C15*((('Modul Compact Plan Vertikal'!$D$5-'Modul Compact Plan Vertikal'!$F$5)/(LN(('Modul Compact Plan Vertikal'!$D$5-'Modul Compact Plan Vertikal'!$H$5)/('Modul Compact Plan Vertikal'!$F$5-'Modul Compact Plan Vertikal'!$H$5))))/49.8329)^Blad1!$D$13 -> 122.93589 | E19: =Blad1!$E15*((('Modul Compact Plan Vertikal'!$D$5-'Modul Compact Plan Vertikal'!$F$5)/(LN(('Modul Compact Plan Vertikal'!$D$5-'Modul Compact Plan Vertikal'!$H$5)/('Modul Compact Plan Vertikal'!$F$5-'Modul Compact Plan Vertikal'!$H$5))))/49.8329)^Blad1!$F$13 -> 197.87817 | F19: =Blad1!$G15*((('Modul Compact Plan Vertikal'!$D$5-'Modul Compact Plan Vertikal'!$F$5)/(LN(('Modul Compact Plan Vertikal'!$D$5-'Modul Compact Plan Vertikal'!$H$5)/('Modul Compact Plan Vertikal'!$F$5-'Modul Compact Plan Vertikal'!$H$5))))/49.8329)^Blad1!$H$13 -> 261.60367
C20: 1300 | D20: =Blad1!$C16*((('Modul Compact Plan Vertikal'!$D$5-'Modul Compact Plan Vertikal'!$F$5)/(LN(('Modul Compact Plan Vertikal'!$D$5-'Modul Compact Plan Vertikal'!$H$5)/('Modul Compact Plan Vertikal'!$F$5-'Modul Compact Plan Vertikal'!$H$5))))/49.8329)^Blad1!$D$13 -> 133.05407 | E20: =Blad1!$E16*((('Modul Compact Plan Vertikal'!$D$5-'Modul Compact Plan Vertikal'!$F$5)/(LN(('Modul Compact Plan Vertikal'!$D$5-'Modul Compact Plan Vertikal'!$H$5)/('Modul Compact Plan Vertikal'!$F$5-'Modul Compact Plan Vertikal'!$H$5))))/49.8329)^Blad1!$F$13 -> 214.40977 | F20: =Blad1!$G16*((('Modul Compact Plan Vertikal'!$D$5-'Modul Compact Plan Vertikal'!$F$5)/(LN(('Modul Compact Plan Vertikal'!$D$5-'Modul Compact Plan Vertikal'!$H$5)/('Modul Compact Plan Vertikal'!$F$5-'Modul Compact Plan Vertikal'!$H$5))))/49.8329)^Blad1!$H$13 -> 283.24006
C21: 1400 | D21: =Blad1!$C17*((('Modul Compact Plan Vertikal'!$D$5-'Modul Compact Plan Vertikal'!$F$5)/(LN(('Modul Compact Plan Vertikal'!$D$5-'Modul Compact Plan Vertikal'!$H$5)/('Modul Compact Plan Vertikal'!$F$5-'Modul Compact Plan Vertikal'!$H$5))))/49.8329)^Blad1!$D$13 -> 143.17225 | E21: =Blad1!$E17*((('Modul Compact Plan Vertikal'!$D$5-'Modul Compact Plan Vertikal'!$F$5)/(LN(('Modul Compact Plan Vertikal'!$D$5-'Modul Compact Plan Vertikal'!$H$5)/('Modul Compact Plan Vertikal'!$F$5-'Modul Compact Plan Vertikal'!$H$5))))/49.8329)^Blad1!$F$13 -> 230.94136 | F21: =Blad1!$G17*((('Modul Compact Plan Vertikal'!$D$5-'Modul Compact Plan Vertikal'!$F$5)/(LN(('Modul Compact Plan Vertikal'!$D$5-'Modul Compact Plan Vertikal'!$H$5)/('Modul Compact Plan Vertikal'!$F$5-'Modul Compact Plan Vertikal'!$H$5))))/49.8329)^Blad1!$H$13 -> 304.87646
C22: 1600 | D22: =Blad1!$C18*((('Modul Compact Plan Vertikal'!$D$5-'Modul Compact Plan Vertikal'!$F$5)/(LN(('Modul Compact Plan Vertikal'!$D$5-'Modul Compact Plan Vertikal'!$H$5)/('Modul Compact Plan Vertikal'!$F$5-'Modul Compact Plan Vertikal'!$H$5))))/49.8329)^Blad1!$D$13 -> 171.50315 | E22: =Blad1!$E18*((('Modul Compact Plan Vertikal'!$D$5-'Modul Compact Plan Vertikal'!$F$5)/(LN(('Modul Compact Plan Vertikal'!$D$5-'Modul Compact Plan Vertikal'!$H$5)/('Modul Compact Plan Vertikal'!$F$5-'Modul Compact Plan Vertikal'!$H$5))))/49.8329)^Blad1!$F$13 -> 276.52848 | F22: =Blad1!$G18*((('Modul Compact Plan Vertikal'!$D$5-'Modul Compact Plan Vertikal'!$F$5)/(LN(('Modul Compact Plan Vertikal'!$D$5-'Modul Compact Plan Vertikal'!$H$5)/('Modul Compact Plan Vertikal'!$F$5-'Modul Compact Plan Vertikal'!$H$5))))/49.8329)^Blad1!$H$13 -> 364.86827
... C25: 2300 | D25: =Blad1!$C21*((('Modul Compact Plan Vertikal'!$D$5-'Modul Compact Plan Vertikal'!$F$5)/(LN(('Modul Compact Plan Vertikal'!$D$5-'Modul Compact Plan Vertikal'!$H$5)/('Modul Compact Plan Vertikal'!$F$5-'Modul Compact Plan Vertikal'!$H$5))))/49.8329)^Blad1!$D$13 -> 224.62359 | E25: =Blad1!$E21*((('Modul Compact Plan Vertikal'!$D$5-'Modul Compact Plan Vertikal'!$F$5)/(LN(('Modul Compact Plan Vertikal'!$D$5-'Modul Compact Plan Vertikal'!$H$5)/('Modul Compact Plan Vertikal'!$F$5-'Modul Compact Plan Vertikal'!$H$5))))/49.8329)^Blad1!$F$13 -> 379.22475 | F25: =Blad1!$G21*((('Modul Compact Plan Vertikal'!$D$5-'Modul Compact Plan Vertikal'!$F$5)/(LN(('Modul Compact Plan Vertikal'!$D$5-'Modul Compact Plan Vertikal'!$H$5)/('Modul Compact Plan Vertikal'!$F$5-'Modul Compact Plan Vertikal'!$H$5))))/49.8329)^Blad1!$H$13 -> 535.50074
C26: 2600 | D26: =($C26/1000)*Blad1!$C$13*((('Modul Compact Plan Vertikal'!$D$5-'Modul Compact Plan Vertikal'!$F$5)/(LN(('Modul Compact Plan Vertikal'!$D$5-'Modul Compact Plan Vertikal'!$H$5)/('Modul Compact Plan Vertikal'!$F$5-'Modul Compact Plan Vertikal'!$H$5))))/49.8329)^Blad1!$D$13 -> 265.7034 | E26: =($C26/1000)*Blad1!$E$13*((('Modul Compact Plan Vertikal'!$D$5-'Modul Compact Plan Vertikal'!$F$5)/(LN(('Modul Compact Plan Vertikal'!$D$5-'Modul Compact Plan Vertikal'!$H$5)/('Modul Compact Plan Vertikal'!$F$5-'Modul Compact Plan Vertikal'!$H$5))))/49.8329)^Blad1!$F$13 -> 427.21647 | F26: =($C26/1000)*Blad1!$G$13*((('Modul Compact Plan Vertikal'!$D$5-'Modul Compact Plan Vertikal'!$F$5)/(LN(('Modul Compact Plan Vertikal'!$D$5-'Modul Compact Plan Vertikal'!$H$5)/('Modul Compact Plan Vertikal'!$F$5-'Modul Compact Plan Vertikal'!$H$5))))/49.8329)^Blad1!$H$13 -> 567.66029
C27: 3000 | D27: =($C27/1000)*Blad1!$C$13*((('Modul Compact Plan Vertikal'!$D$5-'Modul Compact Plan Vertikal'!$F$5)/(LN(('Modul Compact Plan Vertikal'!$D$5-'Modul Compact Plan Vertikal'!$H$5)/('Modul Compact Plan Vertikal'!$F$5-'Modul Compact Plan Vertikal'!$H$5))))/49.8329)^Blad1!$D$13 -> 306.58085 | E27: =($C27/1000)*Blad1!$E$13*((('Modul Compact Plan Vertikal'!$D$5-'Modul Compact Plan Vertikal'!$F$5)/(LN(('Modul Compact Plan Vertikal'!$D$5-'Modul Compact Plan Vertikal'!$H$5)/('Modul Compact Plan Vertikal'!$F$5-'Modul Compact Plan Vertikal'!$H$5))))/49.8329)^Blad1!$F$13 -> 492.94208 | F27: =($C27/1000)*Blad1!$G$13*((('Modul Compact Plan Vertikal'!$D$5-'Modul Compact Plan Vertikal'!$F$5)/(LN(('Modul Compact Plan Vertikal'!$D$5-'Modul Compact Plan Vertikal'!$H$5)/('Modul Compact Plan Vertikal'!$F$5-'Modul Compact Plan Vertikal'!$H$5))))/49.8329)^Blad1!$H$13 -> 654.99264
C31: Pituus 300
D32: Teho (W)
C33: Korkeus (mm) | D33: MCPV10 | E33: MCPV20 | F33: MCPV30
C34: 400 | D34: =Blad1!$C28*((('Modul Compact Plan Vertikal'!$D$5-'Modul Compact Plan Vertikal'!$F$5)/(LN(('Modul Compact Plan Vertikal'!$D$5-'Modul Compact Plan Vertikal'!$H$5)/('Modul Compact Plan Vertikal'!$F$5-'Modul Compact Plan Vertikal'!$H$5))))/49.8329)^Blad1!$D$34 -> 56.661807 | E34: =Blad1!$E28*((('Modul Compact Plan Vertikal'!$D$5-'Modul Compact Plan Vertikal'!$F$5)/(LN(('Modul Compact Plan Vertikal'!$D$5-'Modul Compact Plan Vertikal'!$H$5)/('Modul Compact Plan Vertikal'!$F$5-'Modul Compact Plan Vertikal'!$H$5))))/49.8329)^Blad1!$F$34 -> 89.671374 | F34: =Blad1!$G28*((('Modul Compact Plan Vertikal'!$D$5-'Modul Compact Plan Vertikal'!$F$5)/(LN(('Modul Compact Plan Vertikal'!$D$5-'Modul Compact Plan Vertikal'!$H$5)/('Modul Compact Plan Vertikal'!$F$5-'Modul Compact Plan Vertikal'!$H$5))))/49.8329)^Blad1!$H$34 -> 120.47537
C35: 500 | D35: =Blad1!$C29*((('Modul Compact Plan Vertikal'!$D$5-'Modul Compact Plan Vertikal'!$F$5)/(LN(('Modul Compact Plan Vertikal'!$D$5-'Modul Compact Plan Vertikal'!$H$5)/('Modul Compact Plan Vertikal'!$F$5-'Modul Compact Plan Vertikal'!$H$5))))/49.8329)^Blad1!$D$34 -> 72.850895 | E35: =Blad1!$E29*((('Modul Compact Plan Vertikal'!$D$5-'Modul Compact Plan Vertikal'!$F$5)/(LN(('Modul Compact Plan Vertikal'!$D$5-'Modul Compact Plan Vertikal'!$H$5)/('Modul Compact Plan Vertikal'!$F$5-'Modul Compact Plan Vertikal'!$H$5))))/49.8329)^Blad1!$F$34 -> 115.2202 | F35: =Blad1!$G29*((('Modul Compact Plan Vertikal'!$D$5-'Modul Compact Plan Vertikal'!$F$5)/(LN(('Modul Compact Plan Vertikal'!$D$5-'Modul Compact Plan Vertikal'!$H$5)/('Modul Compact Plan Vertikal'!$F$5-'Modul Compact Plan Vertikal'!$H$5))))/49.8329)^Blad1!$H$34 -> 154.89691
C36: 600 | D36: =Blad1!$C30*((('Modul Compact Plan Vertikal'!$D$5-'Modul Compact Plan Vertikal'!$F$5)/(LN(('Modul Compact Plan Vertikal'!$D$5-'Modul Compact Plan Vertikal'!$H$5)/('Modul Compact Plan Vertikal'!$F$5-'Modul Compact Plan Vertikal'!$H$5))))/49.8329)^Blad1!$D$34 -> 83.980893 | E36: =Blad1!$E30*((('Modul Compact Plan Vertikal'!$D$5-'Modul Compact Plan Vertikal'!$F$5)/(LN(('Modul Compact Plan Vertikal'!$D$5-'Modul Compact Plan Vertikal'!$H$5)/('Modul Compact Plan Vertikal'!$F$5-'Modul Compact Plan Vertikal'!$H$5))))/49.8329)^Blad1!$F$34 -> 133.25467 | F36: =Blad1!$G30*((('Modul Compact Plan Vertikal'!$D$5-'Modul Compact Plan Vertikal'!$F$5)/(LN(('Modul Compact Plan Vertikal'!$D$5-'Modul Compact Plan Vertikal'!$H$5)/('Modul Compact Plan Vertikal'!$F$5-'Modul Compact Plan Vertikal'!$H$5))))/49.8329)^Blad1!$H$34 -> 178.99198
C37: 700 | D37: =Blad1!$C31*((('Modul Compact Plan Vertikal'!$D$5-'Modul Compact Plan Vertikal'!$F$5)/(LN(('Modul Compact Plan Vertikal'!$D$5-'Modul Compact Plan Vertikal'!$H$5)/('Modul Compact Plan Vertikal'!$F$5-'Modul Compact Plan Vertikal'!$H$5))))/49.8329)^Blad1!$D$34 -> 100.67589 | E37: =Blad1!$E31*((('Modul Compact Plan Vertikal'!$D$5-'Modul Compact Plan Vertikal'!$F$5)/(LN(('Modul Compact Plan Vertikal'!$D$5-'Modul Compact Plan Vertikal'!$H$5)/('Modul Compact Plan Vertikal'!$F$5-'Modul Compact Plan Vertikal'!$H$5))))/49.8329)^Blad1!$F$34 -> 159.30445 | F37: =Blad1!$G31*((('Modul Compact Plan Vertikal'!$D$5-'Modul Compact Plan Vertikal'!$F$5)/(LN(('Modul Compact Plan Vertikal'!$D$5-'Modul Compact Plan Vertikal'!$H$5)/('Modul Compact Plan Vertikal'!$F$5-'Modul Compact Plan Vertikal'!$H$5))))/49.8329)^Blad1!$H$34 -> 214.39699
C38: 800 | D38: =Blad1!$C32*((('Modul Compact Plan Vertikal'!$D$5-'Modul Compact Plan Vertikal'!$F$5)/(LN(('Modul Compact Plan Vertikal'!$D$5-'Modul Compact Plan Vertikal'!$H$5)/('Modul Compact Plan Vertikal'!$F$5-'Modul Compact Plan Vertikal'!$H$5))))/49.8329)^Blad1!$D$34 -> 111.80589 | E38: =Blad1!$E32*((('Modul Compact Plan Vertikal'!$D$5-'Modul Compact Plan Vertikal'!$F$5)/(LN(('Modul Compact Plan Vertikal'!$D$5-'Modul Compact Plan Vertikal'!$H$5)/('Modul Compact Plan Vertikal'!$F$5-'Modul Compact Plan Vertikal'!$H$5))))/49.8329)^Blad1!$F$34 -> 176.83796 | F38: =Blad1!$G32*((('Modul Compact Plan Vertikal'!$D$5-'Modul Compact Plan Vertikal'!$F$5)/(LN(('Modul Compact Plan Vertikal'!$D$5-'Modul Compact Plan Vertikal'!$H$5)/('Modul Compact Plan Vertikal'!$F$5-'Modul Compact Plan Vertikal'!$H$5))))/49.8329)^Blad1!$H$34 -> 237.01686
C39: 900 | D39: =Blad1!$C33*((('Modul Compact Plan Vertikal'!$D$5-'Modul Compact Plan Vertikal'!$F$5)/(LN(('Modul Compact Plan Vertikal'!$D$5-'Modul Compact Plan Vertikal'!$H$5)/('Modul Compact Plan Vertikal'!$F$5-'Modul Compact Plan Vertikal'!$H$5))))/49.8329)^Blad1!$D$34 -> 77.909985 | E39: =Blad1!$E33*((('Modul Compact Plan Vertikal'!$D$5-'Modul Compact Plan Vertikal'!$F$5)/(LN(('Modul Compact Plan Vertikal'!$D$5-'Modul Compact Plan Vertikal'!$H$5)/('Modul Compact Plan Vertikal'!$F$5-'Modul Compact Plan Vertikal'!$H$5))))/49.8329)^Blad1!$F$34 -> 203.3887 | F39: =Blad1!$G33*((('Modul Compact Plan Vertikal'!$D$5-'Modul Compact Plan Vertikal'!$F$5)/(LN(('Modul Compact Plan Vertikal'!$D$5-'Modul Compact Plan Vertikal'!$H$5)/('Modul Compact Plan Vertikal'!$F$5-'Modul Compact Plan Vertikal'!$H$5))))/49.8329)^Blad1!$H$34 -> 272.42186
C40: 1000 | D40: =Blad1!$C34*((('Modul Compact Plan Vertikal'!$D$5-'Modul Compact Plan Vertikal'!$F$5)/(LN(('Modul Compact Plan Vertikal'!$D$5-'Modul Compact Plan Vertikal'!$H$5)/('Modul Compact Plan Vertikal'!$F$5-'Modul Compact Plan Vertikal'!$H$5))))/49.8329)^Blad1!$D$34 -> 138.61906 | E40: =Blad1!$E34*((('Modul Compact Plan Vertikal'!$D$5-'Modul Compact Plan Vertikal'!$F$5)/(LN(('Modul Compact Plan Vertikal'!$D$5-'Modul Compact Plan Vertikal'!$H$5)/('Modul Compact Plan Vertikal'!$F$5-'Modul Compact Plan Vertikal'!$H$5))))/49.8329)^Blad1!$F$34 -> 220.42125 | F40: =Blad1!$G34*((('Modul Compact Plan Vertikal'!$D$5-'Modul Compact Plan Vertikal'!$F$5)/(LN(('Modul Compact Plan Vertikal'!$D$5-'Modul Compact Plan Vertikal'!$H$5)/('Modul Compact Plan Vertikal'!$F$5-'Modul Compact Plan Vertikal'!$H$5))))/49.8329)^Blad1!$H$34 -> 296.0252
C41: 1100 | D41: =Blad1!$C35*((('Modul Compact Plan Vertikal'!$D$5-'Modul Compact Plan Vertikal'!$F$5)/(LN(('Modul Compact Plan Vertikal'!$D$5-'Modul Compact Plan Vertikal'!$H$5)/('Modul Compact Plan Vertikal'!$F$5-'Modul Compact Plan Vertikal'!$H$5))))/49.8329)^Blad1!$D$34 -> 155.31406 | E41: =Blad1!$E35*((('Modul Compact Plan Vertikal'!$D$5-'Modul Compact Plan Vertikal'!$F$5)/(LN(('Modul Compact Plan Vertikal'!$D$5-'Modul Compact Plan Vertikal'!$H$5)/('Modul Compact Plan Vertikal'!$F$5-'Modul Compact Plan Vertikal'!$H$5))))/49.8329)^Blad1!$F$34 -> 246.47104 | F41: =Blad1!$G35*((('Modul Compact Plan Vertikal'!$D$5-'Modul Compact Plan Vertikal'!$F$5)/(LN(('Modul Compact Plan Vertikal'!$D$5-'Modul Compact Plan Vertikal'!$H$5)/('Modul Compact Plan Vertikal'!$F$5-'Modul Compact Plan Vertikal'!$H$5))))/49.8329)^Blad1!$H$34 -> 331.43021
C42: 1200 | D42: =Blad1!$C36*((('Modul Compact Plan Vertikal'!$D$5-'Modul Compact Plan Vertikal'!$F$5)/(LN(('Modul Compact Plan Vertikal'!$D$5-'Modul Compact Plan Vertikal'!$H$5)/('Modul Compact Plan Vertikal'!$F$5-'Modul Compact Plan Vertikal'!$H$5))))/49.8329)^Blad1!$D$34 -> 166.94997 | E42: =Blad1!$E36*((('Modul Compact Plan Vertikal'!$D$5-'Modul Compact Plan Vertikal'!$F$5)/(LN(('Modul Compact Plan Vertikal'!$D$5-'Modul Compact Plan Vertikal'!$H$5)/('Modul Compact Plan Vertikal'!$F$5-'Modul Compact Plan Vertikal'!$H$5))))/49.8329)^Blad1!$F$34 -> 264.00455 | F42: =Blad1!$G36*((('Modul Compact Plan Vertikal'!$D$5-'Modul Compact Plan Vertikal'!$F$5)/(LN(('Modul Compact Plan Vertikal'!$D$5-'Modul Compact Plan Vertikal'!$H$5)/('Modul Compact Plan Vertikal'!$F$5-'Modul Compact Plan Vertikal'!$H$5))))/49.8329)^Blad1!$H$34 -> 355.03355
C43: 1300 | D43: =Blad1!$C37*((('Modul Compact Plan Vertikal'!$D$5-'Modul Compact Plan Vertikal'!$F$5)/(LN(('Modul Compact Plan Vertikal'!$D$5-'Modul Compact Plan Vertikal'!$H$5)/('Modul Compact Plan Vertikal'!$F$5-'Modul Compact Plan Vertikal'!$H$5))))/49.8329)^Blad1!$D$34 -> 180.60951 | E43: =Blad1!$E37*((('Modul Compact Plan Vertikal'!$D$5-'Modul Compact Plan Vertikal'!$F$5)/(LN(('Modul Compact Plan Vertikal'!$D$5-'Modul Compact Plan Vertikal'!$H$5)/('Modul Compact Plan Vertikal'!$F$5-'Modul Compact Plan Vertikal'!$H$5))))/49.8329)^Blad1!$F$34 -> 286.04667 | F43: =Blad1!$G37*((('Modul Compact Plan Vertikal'!$D$5-'Modul Compact Plan Vertikal'!$F$5)/(LN(('Modul Compact Plan Vertikal'!$D$5-'Modul Compact Plan Vertikal'!$H$5)/('Modul Compact Plan Vertikal'!$F$5-'Modul Compact Plan Vertikal'!$H$5))))/49.8329)^Blad1!$H$34 -> 384.04599
C44: 1400 | D44: =Blad1!$C38*((('Modul Compact Plan Vertikal'!$D$5-'Modul Compact Plan Vertikal'!$F$5)/(LN(('Modul Compact Plan Vertikal'!$D$5-'Modul Compact Plan Vertikal'!$H$5)/('Modul Compact Plan Vertikal'!$F$5-'Modul Compact Plan Vertikal'!$H$5))))/49.8329)^Blad1!$D$34 -> 194.26905 | E44: =Blad1!$E38*((('Modul Compact Plan Vertikal'!$D$5-'Modul Compact Plan Vertikal'!$F$5)/(LN(('Modul Compact Plan Vertikal'!$D$5-'Modul Compact Plan Vertikal'!$H$5)/('Modul Compact Plan Vertikal'!$F$5-'Modul Compact Plan Vertikal'!$H$5))))/49.8329)^Blad1!$F$34 -> 307.58784 | F44: =Blad1!$G38*((('Modul Compact Plan Vertikal'!$D$5-'Modul Compact Plan Vertikal'!$F$5)/(LN(('Modul Compact Plan Vertikal'!$D$5-'Modul Compact Plan Vertikal'!$H$5)/('Modul Compact Plan Vertikal'!$F$5-'Modul Compact Plan Vertikal'!$H$5))))/49.8329)^Blad1!$H$34 -> 413.55016
C45: 1600 | D45: =Blad1!$C39*((('Modul Compact Plan Vertikal'!$D$5-'Modul Compact Plan Vertikal'!$F$5)/(LN(('Modul Compact Plan Vertikal'!$D$5-'Modul Compact Plan Vertikal'!$H$5)/('Modul Compact Plan Vertikal'!$F$5-'Modul Compact Plan Vertikal'!$H$5))))/49.8329)^Blad1!$D$34 -> 221.58814 | E45: =Blad1!$E39*((('Modul Compact Plan Vertikal'!$D$5-'Modul Compact Plan Vertikal'!$F$5)/(LN(('Modul Compact Plan Vertikal'!$D$5-'Modul Compact Plan Vertikal'!$H$5)/('Modul Compact Plan Vertikal'!$F$5-'Modul Compact Plan Vertikal'!$H$5))))/49.8329)^Blad1!$F$34 -> 351.17113 | F45: =Blad1!$G39*((('Modul Compact Plan Vertikal'!$D$5-'Modul Compact Plan Vertikal'!$F$5)/(LN(('Modul Compact Plan Vertikal'!$D$5-'Modul Compact Plan Vertikal'!$H$5)/('Modul Compact Plan Vertikal'!$F$5-'Modul Compact Plan Vertikal'!$H$5))))/49.8329)^Blad1!$H$34 -> 472.06677
... C48: 2300 | D48: =Blad1!$C42*((('Modul Compact Plan Vertikal'!$D$5-'Modul Compact Plan Vertikal'!$F$5)/(LN(('Modul Compact Plan Vertikal'!$D$5-'Modul Compact Plan Vertikal'!$H$5)/('Modul Compact Plan Vertikal'!$F$5-'Modul Compact Plan Vertikal'!$H$5))))/49.8329)^Blad1!$D$34 -> 304.55722 | E48: =Blad1!$E42*((('Modul Compact Plan Vertikal'!$D$5-'Modul Compact Plan Vertikal'!$F$5)/(LN(('Modul Compact Plan Vertikal'!$D$5-'Modul Compact Plan Vertikal'!$H$5)/('Modul Compact Plan Vertikal'!$F$5-'Modul Compact Plan Vertikal'!$H$5))))/49.8329)^Blad1!$F$34 -> 481.92101 | F48: =Blad1!$G42*((('Modul Compact Plan Vertikal'!$D$5-'Modul Compact Plan Vertikal'!$F$5)/(LN(('Modul Compact Plan Vertikal'!$D$5-'Modul Compact Plan Vertikal'!$H$5)/('Modul Compact Plan Vertikal'!$F$5-'Modul Compact Plan Vertikal'!$H$5))))/49.8329)^Blad1!$H$34 -> 648.10834
C49: 2600 | D49: =($C49/1000)*Blad1!$C$34*((('Modul Compact Plan Vertikal'!$D$5-'Modul Compact Plan Vertikal'!$F$5)/(LN(('Modul Compact Plan Vertikal'!$D$5-'Modul Compact Plan Vertikal'!$H$5)/('Modul Compact Plan Vertikal'!$F$5-'Modul Compact Plan Vertikal'!$H$5))))/49.8329)^Blad1!$D$34 -> 360.40957 | E49: =Blad1!$E43*((('Modul Compact Plan Vertikal'!$D$5-'Modul Compact Plan Vertikal'!$F$5)/(LN(('Modul Compact Plan Vertikal'!$D$5-'Modul Compact Plan Vertikal'!$H$5)/('Modul Compact Plan Vertikal'!$F$5-'Modul Compact Plan Vertikal'!$H$5))))/49.8329)^Blad1!$F$34 -> 0 | F49: =Blad1!$G43*((('Modul Compact Plan Vertikal'!$D$5-'Modul Compact Plan Vertikal'!$F$5)/(LN(('Modul Compact Plan Vertikal'!$D$5-'Modul Compact Plan Vertikal'!$H$5)/('Modul Compact Plan Vertikal'!$F$5-'Modul Compact Plan Vertikal'!$H$5))))/49.8329)^Blad1!$H$34 -> 0
C50: 3000 | D50: =($C50/1000)*Blad1!$C$34*((('Modul Compact Plan Vertikal'!$D$5-'Modul Compact Plan Vertikal'!$F$5)/(LN(('Modul Compact Plan Vertikal'!$D$5-'Modul Compact Plan Vertikal'!$H$5)/('Modul Compact Plan Vertikal'!$F$5-'Modul Compact Plan Vertikal'!$H$5))))/49.8329)^Blad1!$D$34 -> 415.85719 | E50: =Blad1!$E44*((('Modul Compact Plan Vertikal'!$D$5-'Modul Compact Plan Vertikal'!$F$5)/(LN(('Modul Compact Plan Vertikal'!$D$5-'Modul Compact Plan Vertikal'!$H$5)/('Modul Compact Plan Vertikal'!$F$5-'Modul Compact Plan Vertikal'!$H$5))))/49.8329)^Blad1!$F$34 -> 0 | F50: =Blad1!$G44*((('Modul Compact Plan Vertikal'!$D$5-'Modul Compact Plan Vertikal'!$F$5)/(LN(('Modul Compact Plan Vertikal'!$D$5-'Modul Compact Plan Vertikal'!$H$5)/('Modul Compact Plan Vertikal'!$F$5-'Modul Compact Plan Vertikal'!$H$5))))/49.8329)^Blad1!$H$34 -> 0
C54: Pituus 400
...

Sheet Blad1
C3: L200
A4: Höjd 200mm | B4: MCPV10 | E4: MCPV20 | G4: MCPV30
B5: Höjd | C5: Avgiven effekt (W) vid ΔT: | E5: Avgiven effekt (W) vid ΔT: | G5: Avgiven effekt (W) vid ΔT:
B6: (mm) | C6: 75/65/20 | D6: n-faktor | E6: 75/65/20 | F6: n-faktor | G6: 75/65/20 | H6: n-faktor
B7: 400 | C7: 83 | E7: 114 | G7: 181
B8: 500 | C8: 106 | E8: 148 | G8: 232
B9: 600 | C9: 122 | E9: 174 | G9: 269
B10: 700 | C10: 147 | E10: 236 | G10: 322
B11: 800 | C11: 162 | E11: 263 | G11: 355
B12: 900 | C12: 186 | E12: 303 | G12: 410
B13: 1000 | C13: 202 | D13: 1.247 | E13: 328 | F13: 1.265 | G13: 444 | H13: 1.299
B14: 1100 | C14: 227 | E14: 369 | G14: 497
B15: 1200 | C15: 243 | E15: 395 | G15: 532
B16: 1300 | C16: 263 | E16: 428 | G16: 576
B17: 1400 | C17: 283 | E17: 461 | G17: 620
B18: 1600 | C18: 339 | E18: 552 | G18: 742
B19: 1800 | C19: 364 | E19: 592 | G19: 795
B20: 2000 | C20: 404 | E20: 658 | G20: 883
B21: 2300 | C21: 444 | E21: 757 | G21: 1089
C24: L300
A25: Höjd 300mm | B25: MCPV10 | E25: MCPV20 | G25: MCPV30
B26: höjd | C26: Avgiven effekt (W) vid ΔT: | E26: Avgiven effekt (W) vid ΔT: | G26: Avgiven effekt (W) vid ΔT:
B27: (mm) | C27: 75/65/20 | D27: n-faktor | E27: 75/65/20 | F27: n-faktor | G27: 75/65/20 | H27: n-faktor
B28: 400 | C28: 112 | E28: 179 | G28: 245
B29: 500 | C29: 144 | E29: 230 | G29: 315
B30: 600 | C30: 166 | E30: 266 | G30: 364
B31: 700 | C31: 199 | E31: 318 | G31: 436
B32: 800 | C32: 221 | E32: 353 | G32: 482
B33: 900 | C33: 154 | E33: 406 | G33: 554
B34: 1000 | C34: 274 | D34: 1.247 | E34: 440 | F34: 1.265 | G34: 602 | H34: 1.299
B35: 1100 | C35: 307 | E35: 492 | G35: 674
B36: 1200 | C36: 330 | E36: 527 | G36: 722
B37: 1300 | C37: 357 | E37: 571 | G37: 781
B38: 1400 | C38: 384 | E38: 614 | G38: 841
B39: 1600 | C39: 438 | E39: 701 | G39: 960
B40: 1800 | C40: 493 | E40: 788 | G40: 1078
B41: 2000 | C41: 547 | E41: 876 | G41: 1198
B42: 2300 | C42: 602 | E42: 962 | G42: 1318
C45: L400
A46: Höjd 400mm | B46: MCPV10 | E46: MCPV20 | G46: MCPV30
...
