Workbook

Sheet PRE-sarja Hygien Plan
F1: Versio: | G1: 44046
B2: PRE-sarja Hygien Plan
B4: Menolämp. | C4: 60 | D4: Paluulämp. | E4: 30 | F4: Huonelämp. | G4: 20
B8: Korkeus 200
C9: Teho (W)
B10: Pituus (mm) | C10: 10 | D10: 20 | E10: 30
B11: 400 | C11: =Blad1!B9*((('PRE-sarja Hygien Plan'!$C$4-'PRE-sarja Hygien Plan'!$E$4)/(LN(('PRE-sarja Hygien Plan'!$C$4-'PRE-sarja Hygien Plan'!$G$4)/('PRE-sarja Hygien Plan'!$E$4-'PRE-sarja Hygien Plan'!$G$4))))/49.8329)^Blad1!$C$15 -> 35.675294 | D11: =Blad1!D9*((('PRE-sarja Hygien Plan'!$C$4-'PRE-sarja Hygien Plan'!$E$4)/(LN(('PRE-sarja Hygien Plan'!$C$4-'PRE-sarja Hygien Plan'!$G$4)/('PRE-sarja Hygien Plan'!$E$4-'PRE-sarja Hygien Plan'!$G$4))))/49.8329)^Blad1!$E$15 -> 61.940572 | E11: =Blad1!F9*((('PRE-sarja Hygien Plan'!$C$4-'PRE-sarja Hygien Plan'!$E$4)/(LN(('PRE-sarja Hygien Plan'!$C$4-'PRE-sarja Hygien Plan'!$G$4)/('PRE-sarja Hygien Plan'!$E$4-'PRE-sarja Hygien Plan'!$G$4))))/49.8329)^Blad1!$G$15 -> 92.676763
B12: 500 | C12: =Blad1!B10*((('PRE-sarja Hygien Plan'!$C$4-'PRE-sarja Hygien Plan'!$E$4)/(LN(('PRE-sarja Hygien Plan'!$C$4-'PRE-sarja Hygien Plan'!$G$4)/('PRE-sarja Hygien Plan'!$E$4-'PRE-sarja Hygien Plan'!$G$4))))/49.8329)^Blad1!$C$15 -> 44.594117 | D12: =Blad1!D10*((('PRE-sarja Hygien Plan'!$C$4-'PRE-sarja Hygien Plan'!$E$4)/(LN(('PRE-sarja Hygien Plan'!$C$4-'PRE-sarja Hygien Plan'!$G$4)/('PRE-sarja Hygien Plan'!$E$4-'PRE-sarja Hygien Plan'!$G$4))))/49.8329)^Blad1!$E$15 -> 77.425715 | E12: =Blad1!F10*((('PRE-sarja Hygien Plan'!$C$4-'PRE-sarja Hygien Plan'!$E$4)/(LN(('PRE-sarja Hygien Plan'!$C$4-'PRE-sarja Hygien Plan'!$G$4)/('PRE-sarja Hygien Plan'!$E$4-'PRE-sarja Hygien Plan'!$G$4))))/49.8329)^Blad1!$G$15 -> 115.84595
B13: 600 | C13: =Blad1!B11*((('PRE-sarja Hygien Plan'!$C$4-'PRE-sarja Hygien Plan'!$E$4)/(LN(('PRE-sarja Hygien Plan'!$C$4-'PRE-sarja Hygien Plan'!$G$4)/('PRE-sarja Hygien Plan'!$E$4-'PRE-sarja Hygien Plan'!$G$4))))/49.8329)^Blad1!$C$15 -> 53.512941 | D13: =Blad1!D11*((('PRE-sarja Hygien Plan'!$C$4-'PRE-sarja Hygien Plan'!$E$4)/(LN(('PRE-sarja Hygien Plan'!$C$4-'PRE-sarja Hygien Plan'!$G$4)/('PRE-sarja Hygien Plan'!$E$4-'PRE-sarja Hygien Plan'!$G$4))))/49.8329)^Blad1!$E$15 -> 92.910858 | E13: =Blad1!F11*((('PRE-sarja Hygien Plan'!$C$4-'PRE-sarja Hygien Plan'!$E$4)/(LN(('PRE-sarja Hygien Plan'!$C$4-'PRE-sarja Hygien Plan'!$G$4)/('PRE-sarja Hygien Plan'!$E$4-'PRE-sarja Hygien Plan'!$G$4))))/49.8329)^Blad1!$G$15 -> 139.01515
B14: 700 | C14: =Blad1!B12*((('PRE-sarja Hygien Plan'!$C$4-'PRE-sarja Hygien Plan'!$E$4)/(LN(('PRE-sarja Hygien Plan'!$C$4-'PRE-sarja Hygien Plan'!$G$4)/('PRE-sarja Hygien Plan'!$E$4-'PRE-sarja Hygien Plan'!$G$4))))/49.8329)^Blad1!$C$15 -> 62.431764 | D14: =Blad1!D12*((('PRE-sarja Hygien Plan'!$C$4-'PRE-sarja Hygien Plan'!$E$4)/(LN(('PRE-sarja Hygien Plan'!$C$4-'PRE-sarja Hygien Plan'!$G$4)/('PRE-sarja Hygien Plan'!$E$4-'PRE-sarja Hygien Plan'!$G$4))))/49.8329)^Blad1!$E$15 -> 108.396 | E14: =Blad1!F12*((('PRE-sarja Hygien Plan'!$C$4-'PRE-sarja Hygien Plan'!$E$4)/(LN(('PRE-sarja Hygien Plan'!$C$4-'PRE-sarja Hygien Plan'!$G$4)/('PRE-sarja Hygien Plan'!$E$4-'PRE-sarja Hygien Plan'!$G$4))))/49.8329)^Blad1!$G$15 -> 162.18434
B15: 800 | C15: =Blad1!B13*((('PRE-sarja Hygien Plan'!$C$4-'PRE-sarja Hygien Plan'!$E$4)/(LN(('PRE-sarja Hygien Plan'!$C$4-'PRE-sarja Hygien Plan'!$G$4)/('PRE-sarja Hygien Plan'!$E$4-'PRE-sarja Hygien Plan'!$G$4))))/49.8329)^Blad1!$C$15 -> 71.350588 | D15: =Blad1!D13*((('PRE-sarja Hygien Plan'!$C$4-'PRE-sarja Hygien Plan'!$E$4)/(LN(('PRE-sarja Hygien Plan'!$C$4-'PRE-sarja Hygien Plan'!$G$4)/('PRE-sarja Hygien Plan'!$E$4-'PRE-sarja Hygien Plan'!$G$4))))/49.8329)^Blad1!$E$15 -> 123.88114 | E15: =Blad1!F13*((('PRE-sarja Hygien Plan'!$C$4-'PRE-sarja Hygien Plan'!$E$4)/(LN(('PRE-sarja Hygien Plan'!$C$4-'PRE-sarja Hygien Plan'!$G$4)/('PRE-sarja Hygien Plan'!$E$4-'PRE-sarja Hygien Plan'!$G$4))))/49.8329)^Blad1!$G$15 -> 185.35353
B16: 900 | C16: =Blad1!B14*((('PRE-sarja Hygien Plan'!$C$4-'PRE-sarja Hygien Plan'!$E$4)/(LN(('PRE-sarja Hygien Plan'!$C$4-'PRE-sarja Hygien Plan'!$G$4)/('PRE-sarja Hygien Plan'!$E$4-'PRE-sarja Hygien Plan'!$G$4))))/49.8329)^Blad1!$C$15 -> 80.269411 | D16: =Blad1!D14*((('PRE-sarja Hygien Plan'!$C$4-'PRE-sarja Hygien Plan'!$E$4)/(LN(('PRE-sarja Hygien Plan'!$C$4-'PRE-sarja Hygien Plan'!$G$4)/('PRE-sarja Hygien Plan'!$E$4-'PRE-sarja Hygien Plan'!$G$4))))/49.8329)^Blad1!$E$15 -> 139.36629 | E16: =Blad1!F14*((('PRE-sarja Hygien Plan'!$C$4-'PRE-sarja Hygien Plan'!$E$4)/(LN(('PRE-sarja Hygien Plan'!$C$4-'PRE-sarja Hygien Plan'!$G$4)/('PRE-sarja Hygien Plan'!$E$4-'PRE-sarja Hygien Plan'!$G$4))))/49.8329)^Blad1!$G$15 -> 208.52272
B17: 1000 | C17: =Blad1!B15*((('PRE-sarja Hygien Plan'!$C$4-'PRE-sarja Hygien Plan'!$E$4)/(LN(('PRE-sarja Hygien Plan'!$C$4-'PRE-sarja Hygien Plan'!$G$4)/('PRE-sarja Hygien Plan'!$E$4-'PRE-sarja Hygien Plan'!$G$4))))/49.8329)^Blad1!$C$15 -> 89.188234 | D17: =Blad1!D15*((('PRE-sarja Hygien Plan'!$C$4-'PRE-sarja Hygien Plan'!$E$4)/(LN(('PRE-sarja Hygien Plan'!$C$4-'PRE-sarja Hygien Plan'!$G$4)/('PRE-sarja Hygien Plan'!$E$4-'PRE-sarja Hygien Plan'!$G$4))))/49.8329)^Blad1!$E$15 -> 154.85143 | E17: =Blad1!F15*((('PRE-sarja Hygien Plan'!$C$4-'PRE-sarja Hygien Plan'!$E$4)/(LN(('PRE-sarja Hygien Plan'!$C$4-'PRE-sarja Hygien Plan'!$G$4)/('PRE-sarja Hygien Plan'!$E$4-'PRE-sarja Hygien Plan'!$G$4))))/49.8329)^Blad1!$G$15 -> 231.69191
B18: 1100 | C18: =Blad1!B16*((('PRE-sarja Hygien Plan'!$C$4-'PRE-sarja Hygien Plan'!$E$4)/(LN(('PRE-sarja Hygien Plan'!$C$4-'PRE-sarja Hygien Plan'!$G$4)/('PRE-sarja Hygien Plan'!$E$4-'PRE-sarja Hygien Plan'!$G$4))))/49.8329)^Blad1!$C$15 -> 98.107058 | D18: =Blad1!D16*((('PRE-sarja Hygien Plan'!$C$4-'PRE-sarja Hygien Plan'!$E$4)/(LN(('PRE-sarja Hygien Plan'!$C$4-'PRE-sarja Hygien Plan'!$G$4)/('PRE-sarja Hygien Plan'!$E$4-'PRE-sarja Hygien Plan'!$G$4))))/49.8329)^Blad1!$E$15 -> 170.33657 | E18: =Blad1!F16*((('PRE-sarja Hygien Plan'!$C$4-'PRE-sarja Hygien Plan'!$E$4)/(LN(('PRE-sarja Hygien Plan'!$C$4-'PRE-sarja Hygien Plan'!$G$4)/('PRE-sarja Hygien Plan'!$E$4-'PRE-sarja Hygien Plan'!$G$4))))/49.8329)^Blad1!$G$15 -> 254.8611
B19: 1200 | C19: =Blad1!B17*((('PRE-sarja Hygien Plan'!$C$4-'PRE-sarja Hygien Plan'!$E$4)/(LN(('PRE-sarja Hygien Plan'!$C$4-'PRE-sarja Hygien Plan'!$G$4)/('PRE-sarja Hygien Plan'!$E$4-'PRE-sarja Hygien Plan'!$G$4))))/49.8329)^Blad1!$C$15 -> 107.02588 | D19: =Blad1!D17*((('PRE-sarja Hygien Plan'!$C$4-'PRE-sarja Hygien Plan'!$E$4)/(LN(('PRE-sarja Hygien Plan'!$C$4-'PRE-sarja Hygien Plan'!$G$4)/('PRE-sarja Hygien Plan'!$E$4-'PRE-sarja Hygien Plan'!$G$4))))/49.8329)^Blad1!$E$15 -> 185.82172 | E19: =Blad1!F17*((('PRE-sarja Hygien Plan'!$C$4-'PRE-sarja Hygien Plan'!$E$4)/(LN(('PRE-sarja Hygien Plan'!$C$4-'PRE-sarja Hygien Plan'!$G$4)/('PRE-sarja Hygien Plan'!$E$4-'PRE-sarja Hygien Plan'!$G$4))))/49.8329)^Blad1!$G$15 -> 278.03029
B20: 1300 | C20: =Blad1!B18*((('PRE-sarja Hygien Plan'!$C$4-'PRE-sarja Hygien Plan'!$E$4)/(LN(('PRE-sarja Hygien Plan'!$C$4-'PRE-sarja Hygien Plan'!$G$4)/('PRE-sarja Hygien Plan'!$E$4-'PRE-sarja Hygien Plan'!$G$4))))/49.8329)^Blad1!$C$15 -> 115.9447 | D20: =Blad1!D18*((('PRE-sarja Hygien Plan'!$C$4-'PRE-sarja Hygien Plan'!$E$4)/(LN(('PRE-sarja Hygien Plan'!$C$4-'PRE-sarja Hygien Plan'!$G$4)/('PRE-sarja Hygien Plan'!$E$4-'PRE-sarja Hygien Plan'!$G$4))))/49.8329)^Blad1!$E$15 -> 201.30686 | E20: =Blad1!F18*((('PRE-sarja Hygien Plan'!$C$4-'PRE-sarja Hygien Plan'!$E$4)/(LN(('PRE-sarja Hygien Plan'!$C$4-'PRE-sarja Hygien Plan'!$G$4)/('PRE-sarja Hygien Plan'!$E$4-'PRE-sarja Hygien Plan'!$G$4))))/49.8329)^Blad1!$G$15 -> 301.19948
B21: 1400 | C21: =Blad1!B19*((('PRE-sarja Hygien Plan'!$C$4-'PRE-sarja Hygien Plan'!$E$4)/(LN(('PRE-sarja Hygien Plan'!$C$4-'PRE-sarja Hygien Plan'!$G$4)/('PRE-sarja Hygien Plan'!$E$4-'PRE-sarja Hygien Plan'!$G$4))))/49.8329)^Blad1!$C$15 -> 124.86353 | D21: =Blad1!D19*((('PRE-sarja Hygien Plan'!$C$4-'PRE-sarja Hygien Plan'!$E$4)/(LN(('PRE-sarja Hygien Plan'!$C$4-'PRE-sarja Hygien Plan'!$G$4)/('PRE-sarja Hygien Plan'!$E$4-'PRE-sarja Hygien Plan'!$G$4))))/49.8329)^Blad1!$E$15 -> 216.792 | E21: =Blad1!F19*((('PRE-sarja Hygien Plan'!$C$4-'PRE-sarja Hygien Plan'!$E$4)/(LN(('PRE-sarja Hygien Plan'!$C$4-'PRE-sarja Hygien Plan'!$G$4)/('PRE-sarja Hygien Plan'!$E$4-'PRE-sarja Hygien Plan'!$G$4))))/49.8329)^Blad1!$G$15 -> 324.36867
B22: 1500 | C22: =Blad1!B20*((('PRE-sarja Hygien Plan'!$C$4-'PRE-sarja Hygien Plan'!$E$4)/(LN(('PRE-sarja Hygien Plan'!$C$4-'PRE-sarja Hygien Plan'!$G$4)/('PRE-sarja Hygien Plan'!$E$4-'PRE-sarja Hygien Plan'!$G$4))))/49.8329)^Blad1!$C$15 -> 133.78235 | D22: =Blad1!D20*((('PRE-sarja Hygien Plan'!$C$4-'PRE-sarja Hygien Plan'!$E$4)/(LN(('PRE-sarja Hygien Plan'!$C$4-'PRE-sarja Hygien Plan'!$G$4)/('PRE-sarja Hygien Plan'!$E$4-'PRE-sarja Hygien Plan'!$G$4))))/49.8329)^Blad1!$E$15 -> 232.27715 | E22: =Blad1!F20*((('PRE-sarja Hygien Plan'!$C$4-'PRE-sarja Hygien Plan'!$E$4)/(LN(('PRE-sarja Hygien Plan'!$C$4-'PRE-sarja Hygien Plan'!$G$4)/('PRE-sarja Hygien Plan'!$E$4-'PRE-sarja Hygien Plan'!$G$4))))/49.8329)^Blad1!$G$15 -> 347.53786
... B29: 3000 | C29: =Blad1!B27*((('PRE-sarja Hygien Plan'!$C$4-'PRE-sarja Hygien Plan'!$E$4)/(LN(('PRE-sarja Hygien Plan'!$C$4-'PRE-sarja Hygien Plan'!$G$4)/('PRE-sarja Hygien Plan'!$E$4-'PRE-sarja Hygien Plan'!$G$4))))/49.8329)^Blad1!$C$15 -> 267.5647 | D29: =Blad1!D27*((('PRE-sarja Hygien Plan'!$C$4-'PRE-sarja Hygien Plan'!$E$4)/(LN(('PRE-sarja Hygien Plan'!$C$4-'PRE-sarja Hygien Plan'!$G$4)/('PRE-sarja Hygien Plan'!$E$4-'PRE-sarja Hygien Plan'!$G$4))))/49.8329)^Blad1!$E$15 -> 464.55429 | E29: =Blad1!F27*((('PRE-sarja Hygien Plan'!$C$4-'PRE-sarja Hygien Plan'!$E$4)/(LN(('PRE-sarja Hygien Plan'!$C$4-'PRE-sarja Hygien Plan'!$G$4)/('PRE-sarja Hygien Plan'!$E$4-'PRE-sarja Hygien Plan'!$G$4))))/49.8329)^Blad1!$G$15 -> 695.07573
B31: Korkeus 300
C32: Teho (W)
B33: Pituus (mm) | C33: 10 | D33: 20 | E33: 30
B34: 400 | C34: =Blad1!B32*((('PRE-sarja Hygien Plan'!$C$4-'PRE-sarja Hygien Plan'!$E$4)/(LN(('PRE-sarja Hygien Plan'!$C$4-'PRE-sarja Hygien Plan'!$G$4)/('PRE-sarja Hygien Plan'!$E$4-'PRE-sarja Hygien Plan'!$G$4))))/49.8329)^Blad1!$C$38 -> 48.36611 | D34: =Blad1!D32*((('PRE-sarja Hygien Plan'!$C$4-'PRE-sarja Hygien Plan'!$E$4)/(LN(('PRE-sarja Hygien Plan'!$C$4-'PRE-sarja Hygien Plan'!$G$4)/('PRE-sarja Hygien Plan'!$E$4-'PRE-sarja Hygien Plan'!$G$4))))/49.8329)^Blad1!$E$38 -> 85.824396 | E34: =Blad1!F32*((('PRE-sarja Hygien Plan'!$C$4-'PRE-sarja Hygien Plan'!$E$4)/(LN(('PRE-sarja Hygien Plan'!$C$4-'PRE-sarja Hygien Plan'!$G$4)/('PRE-sarja Hygien Plan'!$E$4-'PRE-sarja Hygien Plan'!$G$4))))/49.8329)^Blad1!$G$38 -> 129.84751
B35: 500 | C35: =Blad1!B33*((('PRE-sarja Hygien Plan'!$C$4-'PRE-sarja Hygien Plan'!$E$4)/(LN(('PRE-sarja Hygien Plan'!$C$4-'PRE-sarja Hygien Plan'!$G$4)/('PRE-sarja Hygien Plan'!$E$4-'PRE-sarja Hygien Plan'!$G$4))))/49.8329)^Blad1!$C$38 -> 60.457637 | D35: =Blad1!D33*((('PRE-sarja Hygien Plan'!$C$4-'PRE-sarja Hygien Plan'!$E$4)/(LN(('PRE-sarja Hygien Plan'!$C$4-'PRE-sarja Hygien Plan'!$G$4)/('PRE-sarja Hygien Plan'!$E$4-'PRE-sarja Hygien Plan'!$G$4))))/49.8329)^Blad1!$E$38 -> 107.28049 | E35: =Blad1!F33*((('PRE-sarja Hygien Plan'!$C$4-'PRE-sarja Hygien Plan'!$E$4)/(LN(('PRE-sarja Hygien Plan'!$C$4-'PRE-sarja Hygien Plan'!$G$4)/('PRE-sarja Hygien Plan'!$E$4-'PRE-sarja Hygien Plan'!$G$4))))/49.8329)^Blad1!$G$38 -> 162.30939
B36: 600 | C36: =Blad1!B34*((('PRE-sarja Hygien Plan'!$C$4-'PRE-sarja Hygien Plan'!$E$4)/(LN(('PRE-sarja Hygien Plan'!$C$4-'PRE-sarja Hygien Plan'!$G$4)/('PRE-sarja Hygien Plan'!$E$4-'PRE-sarja Hygien Plan'!$G$4))))/49.8329)^Blad1!$C$38 -> 72.549165 | D36: =Blad1!D34*((('PRE-sarja Hygien Plan'!$C$4-'PRE-sarja Hygien Plan'!$E$4)/(LN(('PRE-sarja Hygien Plan'!$C$4-'PRE-sarja Hygien Plan'!$G$4)/('PRE-sarja Hygien Plan'!$E$4-'PRE-sarja Hygien Plan'!$G$4))))/49.8329)^Blad1!$E$38 -> 128.73659 | E36: =Blad1!F34*((('PRE-sarja Hygien Plan'!$C$4-'PRE-sarja Hygien Plan'!$E$4)/(LN(('PRE-sarja Hygien Plan'!$C$4-'PRE-sarja Hygien Plan'!$G$4)/('PRE-sarja Hygien Plan'!$E$4-'PRE-sarja Hygien Plan'!$G$4))))/49.8329)^Blad1!$G$38 -> 194.77127
B37: 700 | C37: =Blad1!B35*((('PRE-sarja Hygien Plan'!$C$4-'PRE-sarja Hygien Plan'!$E$4)/(LN(('PRE-sarja Hygien Plan'!$C$4-'PRE-sarja Hygien Plan'!$G$4)/('PRE-sarja Hygien Plan'!$E$4-'PRE-sarja Hygien Plan'!$G$4))))/49.8329)^Blad1!$C$38 -> 84.640692 | D37: =Blad1!D35*((('PRE-sarja Hygien Plan'!$C$4-'PRE-sarja Hygien Plan'!$E$4)/(LN(('PRE-sarja Hygien Plan'!$C$4-'PRE-sarja Hygien Plan'!$G$4)/('PRE-sarja Hygien Plan'!$E$4-'PRE-sarja Hygien Plan'!$G$4))))/49.8329)^Blad1!$E$38 -> 150.19269 | E37: =Blad1!F35*((('PRE-sarja Hygien Plan'!$C$4-'PRE-sarja Hygien Plan'!$E$4)/(LN(('PRE-sarja Hygien Plan'!$C$4-'PRE-sarja Hygien Plan'!$G$4)/('PRE-sarja Hygien Plan'!$E$4-'PRE-sarja Hygien Plan'!$G$4))))/49.8329)^Blad1!$G$38 -> 227.23314
B38: 800 | C38: =Blad1!B36*((('PRE-sarja Hygien Plan'!$C$4-'PRE-sarja Hygien Plan'!$E$4)/(LN(('PRE-sarja Hygien Plan'!$C$4-'PRE-sarja Hygien Plan'!$G$4)/('PRE-sarja Hygien Plan'!$E$4-'PRE-sarja Hygien Plan'!$G$4))))/49.8329)^Blad1!$C$38 -> 96.73222 | D38: =Blad1!D36*((('PRE-sarja Hygien Plan'!$C$4-'PRE-sarja Hygien Plan'!$E$4)/(LN(('PRE-sarja Hygien Plan'!$C$4-'PRE-sarja Hygien Plan'!$G$4)/('PRE-sarja Hygien Plan'!$E$4-'PRE-sarja Hygien Plan'!$G$4))))/49.8329)^Blad1!$E$38 -> 171.64879 | E38: =Blad1!F36*((('PRE-sarja Hygien Plan'!$C$4-'PRE-sarja Hygien Plan'!$E$4)/(LN(('PRE-sarja Hygien Plan'!$C$4-'PRE-sarja Hygien Plan'!$G$4)/('PRE-sarja Hygien Plan'!$E$4-'PRE-sarja Hygien Plan'!$G$4))))/49.8329)^Blad1!$G$38 -> 259.69502
B39: 900 | C39: =Blad1!B37*((('PRE-sarja Hygien Plan'!$C$4-'PRE-sarja Hygien Plan'!$E$4)/(LN(('PRE-sarja Hygien Plan'!$C$4-'PRE-sarja Hygien Plan'!$G$4)/('PRE-sarja Hygien Plan'!$E$4-'PRE-sarja Hygien Plan'!$G$4))))/49.8329)^Blad1!$C$38 -> 108.82375 | D39: =Blad1!D37*((('PRE-sarja Hygien Plan'!$C$4-'PRE-sarja Hygien Plan'!$E$4)/(LN(('PRE-sarja Hygien Plan'!$C$4-'PRE-sarja Hygien Plan'!$G$4)/('PRE-sarja Hygien Plan'!$E$4-'PRE-sarja Hygien Plan'!$G$4))))/49.8329)^Blad1!$E$38 -> 193.10489 | E39: =Blad1!F37*((('PRE-sarja Hygien Plan'!$C$4-'PRE-sarja Hygien Plan'!$E$4)/(LN(('PRE-sarja Hygien Plan'!$C$4-'PRE-sarja Hygien Plan'!$G$4)/('PRE-sarja Hygien Plan'!$E$4-'PRE-sarja Hygien Plan'!$G$4))))/49.8329)^Blad1!$G$38 -> 292.1569
B40: 1000 | C40: =Blad1!B38*((('PRE-sarja Hygien Plan'!$C$4-'PRE-sarja Hygien Plan'!$E$4)/(LN(('PRE-sarja Hygien Plan'!$C$4-'PRE-sarja Hygien Plan'!$G$4)/('PRE-sarja Hygien Plan'!$E$4-'PRE-sarja Hygien Plan'!$G$4))))/49.8329)^Blad1!$C$38 -> 120.91527 | D40: =Blad1!D38*((('PRE-sarja Hygien Plan'!$C$4-'PRE-sarja Hygien Plan'!$E$4)/(LN(('PRE-sarja Hygien Plan'!$C$4-'PRE-sarja Hygien Plan'!$G$4)/('PRE-sarja Hygien Plan'!$E$4-'PRE-sarja Hygien Plan'!$G$4))))/49.8329)^Blad1!$E$38 -> 214.56099 | E40: =Blad1!F38*((('PRE-sarja Hygien Plan'!$C$4-'PRE-sarja Hygien Plan'!$E$4)/(LN(('PRE-sarja Hygien Plan'!$C$4-'PRE-sarja Hygien Plan'!$G$4)/('PRE-sarja Hygien Plan'!$E$4-'PRE-sarja Hygien Plan'!$G$4))))/49.8329)^Blad1!$G$38 -> 324.61878
B41: 1100 | C41: =Blad1!B39*((('PRE-sarja Hygien Plan'!$C$4-'PRE-sarja Hygien Plan'!$E$4)/(LN(('PRE-sarja Hygien Plan'!$C$4-'PRE-sarja Hygien Plan'!$G$4)/('PRE-sarja Hygien Plan'!$E$4-'PRE-sarja Hygien Plan'!$G$4))))/49.8329)^Blad1!$C$38 -> 133.0068 | D41: =Blad1!D39*((('PRE-sarja Hygien Plan'!$C$4-'PRE-sarja Hygien Plan'!$E$4)/(LN(('PRE-sarja Hygien Plan'!$C$4-'PRE-sarja Hygien Plan'!$G$4)/('PRE-sarja Hygien Plan'!$E$4-'PRE-sarja Hygien Plan'!$G$4))))/49.8329)^Blad1!$E$38 -> 236.01709 | E41: =Blad1!F39*((('PRE-sarja Hygien Plan'!$C$4-'PRE-sarja Hygien Plan'!$E$4)/(LN(('PRE-sarja Hygien Plan'!$C$4-'PRE-sarja Hygien Plan'!$G$4)/('PRE-sarja Hygien Plan'!$E$4-'PRE-sarja Hygien Plan'!$G$4))))/49.8329)^Blad1!$G$38 -> 357.08066
B42: 1200 | C42: =Blad1!B40*((('PRE-sarja Hygien Plan'!$C$4-'PRE-sarja Hygien Plan'!$E$4)/(LN(('PRE-sarja Hygien Plan'!$C$4-'PRE-sarja Hygien Plan'!$G$4)/('PRE-sarja Hygien Plan'!$E$4-'PRE-sarja Hygien Plan'!$G$4))))/49.8329)^Blad1!$C$38 -> 145.09833 | D42: =Blad1!D40*((('PRE-sarja Hygien Plan'!$C$4-'PRE-sarja Hygien Plan'!$E$4)/(LN(('PRE-sarja Hygien Plan'!$C$4-'PRE-sarja Hygien Plan'!$G$4)/('PRE-sarja Hygien Plan'!$E$4-'PRE-sarja Hygien Plan'!$G$4))))/49.8329)^Blad1!$E$38 -> 257.47319 | E42: =Blad1!F40*((('PRE-sarja Hygien Plan'!$C$4-'PRE-sarja Hygien Plan'!$E$4)/(LN(('PRE-sarja Hygien Plan'!$C$4-'PRE-sarja Hygien Plan'!$G$4)/('PRE-sarja Hygien Plan'!$E$4-'PRE-sarja Hygien Plan'!$G$4))))/49.8329)^Blad1!$G$38 -> 389.54253
B43: 1300 | C43: =Blad1!B41*((('PRE-sarja Hygien Plan'!$C$4-'PRE-sarja Hygien Plan'!$E$4)/(LN(('PRE-sarja Hygien Plan'!$C$4-'PRE-sarja Hygien Plan'!$G$4)/('PRE-sarja Hygien Plan'!$E$4-'PRE-sarja Hygien Plan'!$G$4))))/49.8329)^Blad1!$C$38 -> 157.18986 | D43: =Blad1!D41*((('PRE-sarja Hygien Plan'!$C$4-'PRE-sarja Hygien Plan'!$E$4)/(LN(('PRE-sarja Hygien Plan'!$C$4-'PRE-sarja Hygien Plan'!$G$4)/('PRE-sarja Hygien Plan'!$E$4-'PRE-sarja Hygien Plan'!$G$4))))/49.8329)^Blad1!$E$38 -> 278.92929 | E43: =Blad1!F41*((('PRE-sarja Hygien Plan'!$C$4-'PRE-sarja Hygien Plan'!$E$4)/(LN(('PRE-sarja Hygien Plan'!$C$4-'PRE-sarja Hygien Plan'!$G$4)/('PRE-sarja Hygien Plan'!$E$4-'PRE-sarja Hygien Plan'!$G$4))))/49.8329)^Blad1!$G$38 -> 422.00441
B44: 1400 | C44: =Blad1!B42*((('PRE-sarja Hygien Plan'!$C$4-'PRE-sarja Hygien Plan'!$E$4)/(LN(('PRE-sarja Hygien Plan'!$C$4-'PRE-sarja Hygien Plan'!$G$4)/('PRE-sarja Hygien Plan'!$E$4-'PRE-sarja Hygien Plan'!$G$4))))/49.8329)^Blad1!$C$38 -> 169.28138 | D44: =Blad1!D42*((('PRE-sarja Hygien Plan'!$C$4-'PRE-sarja Hygien Plan'!$E$4)/(LN(('PRE-sarja Hygien Plan'!$C$4-'PRE-sarja Hygien Plan'!$G$4)/('PRE-sarja Hygien Plan'!$E$4-'PRE-sarja Hygien Plan'!$G$4))))/49.8329)^Blad1!$E$38 -> 300.38539 | E44: =Blad1!F42*((('PRE-sarja Hygien Plan'!$C$4-'PRE-sarja Hygien Plan'!$E$4)/(LN(('PRE-sarja Hygien Plan'!$C$4-'PRE-sarja Hygien Plan'!$G$4)/('PRE-sarja Hygien Plan'!$E$4-'PRE-sarja Hygien Plan'!$G$4))))/49.8329)^Blad1!$G$38 -> 454.46629
B45: 1500 | C45: =Blad1!B43*((('PRE-sarja Hygien Plan'!$C$4-'PRE-sarja Hygien Plan'!$E$4)/(LN(('PRE-sarja Hygien Plan'!$C$4-'PRE-sarja Hygien Plan'!$G$4)/('PRE-sarja Hygien Plan'!$E$4-'PRE-sarja Hygien Plan'!$G$4))))/49.8329)^Blad1!$C$38 -> 181.37291 | D45: =Blad1!D43*((('PRE-sarja Hygien Plan'!$C$4-'PRE-sarja Hygien Plan'!$E$4)/(LN(('PRE-sarja Hygien Plan'!$C$4-'PRE-sarja Hygien Plan'!$G$4)/('PRE-sarja Hygien Plan'!$E$4-'PRE-sarja Hygien Plan'!$G$4))))/49.8329)^Blad1!$E$38 -> 321.84148 | E45: =Blad1!F43*((('PRE-sarja Hygien Plan'!$C$4-'PRE-sarja Hygien Plan'!$E$4)/(LN(('PRE-sarja Hygien Plan'!$C$4-'PRE-sarja Hygien Plan'!$G$4)/('PRE-sarja Hygien Plan'!$E$4-'PRE-sarja Hygien Plan'!$G$4))))/49.8329)^Blad1!$G$38 -> 486.92817
... B52: 3000 | C52: =Blad1!B50*((('PRE-sarja Hygien Plan'!$C$4-'PRE-sarja Hygien Plan'!$E$4)/(LN(('PRE-sarja Hygien Plan'!$C$4-'PRE-sarja Hygien Plan'!$G$4)/('PRE-sarja Hygien Plan'!$E$4-'PRE-sarja Hygien Plan'!$G$4))))/49.8329)^Blad1!$C$38 -> 362.74582 | D52: =Blad1!D50*((('PRE-sarja Hygien Plan'!$C$4-'PRE-sarja Hygien Plan'!$E$4)/(LN(('PRE-sarja Hygien Plan'!$C$4-'PRE-sarja Hygien Plan'!$G$4)/('PRE-sarja Hygien Plan'!$E$4-'PRE-sarja Hygien Plan'!$G$4))))/49.8329)^Blad1!$E$38 -> 643.68297 | E52: =Blad1!F50*((('PRE-sarja Hygien Plan'!$C$4-'PRE-sarja Hygien Plan'!$E$4)/(LN(('PRE-sarja Hygien Plan'!$C$4-'PRE-sarja Hygien Plan'!$G$4)/('PRE-sarja Hygien Plan'!$E$4-'PRE-sarja Hygien Plan'!$G$4))))/49.8329)^Blad1!$G$38 -> 973.85634
B54: Korkeus 400
C55: Teho (W)
B56: Pituus (mm) | C56: 10 | D56: 20 | E56: 30
B57: 400 | C57: =Blad1!B55*((('PRE-sarja Hygien Plan'!$C$4-'PRE-sarja Hygien Plan'!$E$4)/(LN(('PRE-sarja Hygien Plan'!$C$4-'PRE-sarja Hygien Plan'!$G$4)/('PRE-sarja Hygien Plan'!$E$4-'PRE-sarja Hygien Plan'!$G$4))))/49.8329)^Blad1!$C$61 -> 59.223808 | D57: =Blad1!D55*((('PRE-sarja Hygien Plan'!$C$4-'PRE-sarja Hygien Plan'!$E$4)/(LN(('PRE-sarja Hygien Plan'!$C$4-'PRE-sarja Hygien Plan'!$G$4)/('PRE-sarja Hygien Plan'!$E$4-'PRE-sarja Hygien Plan'!$G$4))))/49.8329)^Blad1!$E$61 -> 109.3318 | E57: =Blad1!F55*((('PRE-sarja Hygien Plan'!$C$4-'PRE-sarja Hygien Plan'!$E$4)/(LN(('PRE-sarja Hygien Plan'!$C$4-'PRE-sarja Hygien Plan'!$G$4)/('PRE-sarja Hygien Plan'!$E$4-'PRE-sarja Hygien Plan'!$G$4))))/49.8329)^Blad1!$G$61 -> 159.60996
B58: 500 | C58: =Blad1!B56*((('PRE-sarja Hygien Plan'!$C$4-'PRE-sarja Hygien Plan'!$E$4)/(LN(('PRE-sarja Hygien Plan'!$C$4-'PRE-sarja Hygien Plan'!$G$4)/('PRE-sarja Hygien Plan'!$E$4-'PRE-sarja Hygien Plan'!$G$4))))/49.8329)^Blad1!$C$61 -> 74.02976 | D58: =Blad1!D56*((('PRE-sarja Hygien Plan'!$C$4-'PRE-sarja Hygien Plan'!$E$4)/(LN(('PRE-sarja Hygien Plan'!$C$4-'PRE-sarja Hygien Plan'!$G$4)/('PRE-sarja Hygien Plan'!$E$4-'PRE-sarja Hygien Plan'!$G$4))))/49.8329)^Blad1!$E$61 -> 136.66475 | E58: =Blad1!F56*((('PRE-sarja Hygien Plan'!$C$4-'PRE-sarja Hygien Plan'!$E$4)/(LN(('PRE-sarja Hygien Plan'!$C$4-'PRE-sarja Hygien Plan'!$G$4)/('PRE-sarja Hygien Plan'!$E$4-'PRE-sarja Hygien Plan'!$G$4))))/49.8329)^Blad1!$G$61 -> 199.51245
B59: 600 | C59: =Blad1!B57*((('PRE-sarja Hygien Plan'!$C$4-'PRE-sarja Hygien Plan'!$E$4)/(LN(('PRE-sarja Hygien Plan'!$C$4-'PRE-sarja Hygien Plan'!$G$4)/('PRE-sarja Hygien Plan'!$E$4-'PRE-sarja Hygien Plan'!$G$4))))/49.8329)^Blad1!$C$61 -> 88.835712 | D59: =Blad1!D57*((('PRE-sarja Hygien Plan'!$C$4-'PRE-sarja Hygien Plan'!$E$4)/(LN(('PRE-sarja Hygien Plan'!$C$4-'PRE-sarja Hygien Plan'!$G$4)/('PRE-sarja Hygien Plan'!$E$4-'PRE-sarja Hygien Plan'!$G$4))))/49.8329)^Blad1!$E$61 -> 163.9977 | E59: =Blad1!F57*((('PRE-sarja Hygien Plan'!$C$4-'PRE-sarja Hygien Plan'!$E$4)/(LN(('PRE-sarja Hygien Plan'!$C$4-'PRE-sarja Hygien Plan'!$G$4)/('PRE-sarja Hygien Plan'!$E$4-'PRE-sarja Hygien Plan'!$G$4))))/49.8329)^Blad1!$G$61 -> 239.41494
B60: 700 | C60: =Blad1!B58*((('PRE-sarja Hygien Plan'!$C$4-'PRE-sarja Hygien Plan'!$E$4)/(LN(('PRE-sarja Hygien Plan'!$C$4-'PRE-sarja Hygien Plan'!$G$4)/('PRE-sarja Hygien Plan'!$E$4-'PRE-sarja Hygien Plan'!$G$4))))/49.8329)^Blad1!$C$61 -> 103.64166 | D60: =Blad1!D58*((('PRE-sarja Hygien Plan'!$C$4-'PRE-sarja Hygien Plan'!$E$4)/(LN(('PRE-sarja Hygien Plan'!$C$4-'PRE-sarja Hygien Plan'!$G$4)/('PRE-sarja Hygien Plan'!$E$4-'PRE-sarja Hygien Plan'!$G$4))))/49.8329)^Blad1!$E$61 -> 191.33065 | E60: =Blad1!F58*((('PRE-sarja Hygien Plan'!$C$4-'PRE-sarja Hygien Plan'!$E$4)/(LN(('PRE-sarja Hygien Plan'!$C$4-'PRE-sarja Hygien Plan'!$G$4)/('PRE-sarja Hygien Plan'!$E$4-'PRE-sarja Hygien Plan'!$G$4))))/49.8329)^Blad1!$G$61 -> 279.31743
B61: 800 | C61: =Blad1!B59*((('PRE-sarja Hygien Plan'!$C$4-'PRE-sarja Hygien Plan'!$E$4)/(LN(('PRE-sarja Hygien Plan'!$C$4-'PRE-sarja Hygien Plan'!$G$4)/('PRE-sarja Hygien Plan'!$E$4-'PRE-sarja Hygien Plan'!$G$4))))/49.8329)^Blad1!$C$61 -> 118.44762 | D61: =Blad1!D59*((('PRE-sarja Hygien Plan'!$C$4-'PRE-sarja Hygien Plan'!$E$4)/(LN(('PRE-sarja Hygien Plan'!$C$4-'PRE-sarja Hygien Plan'!$G$4)/('PRE-sarja Hygien Plan'!$E$4-'PRE-sarja Hygien Plan'!$G$4))))/49.8329)^Blad1!$E$61 -> 218.6636 | E61: =Blad1!F59*((('PRE-sarja Hygien Plan'!$C$4-'PRE-sarja Hygien Plan'!$E$4)/(LN(('PRE-sarja Hygien Plan'!$C$4-'PRE-sarja Hygien Plan'!$G$4)/('PRE-sarja Hygien Plan'!$E$4-'PRE-sarja Hygien Plan'!$G$4))))/49.8329)^Blad1!$G$61 -> 319.21992
B62: 900 | C62: =Blad1!B60*((('PRE-sarja Hygien Plan'!$C$4-'PRE-sarja Hygien Plan'!$E$4)/(LN(('PRE-sarja Hygien Plan'!$C$4-'PRE-sarja Hygien Plan'!$G$4)/('PRE-sarja Hygien Plan'!$E$4-'PRE-sarja Hygien Plan'!$G$4))))/49.8329)^Blad1!$C$61 -> 133.25357 | D62: =Blad1!D60*((('PRE-sarja Hygien Plan'!$C$4-'PRE-sarja Hygien Plan'!$E$4)/(LN(('PRE-sarja Hygien Plan'!$C$4-'PRE-sarja Hygien Plan'!$G$4)/('PRE-sarja Hygien Plan'!$E$4-'PRE-sarja Hygien Plan'!$G$4))))/49.8329)^Blad1!$E$61 -> 245.99655 | E62: =Blad1!F60*((('PRE-sarja Hygien Plan'!$C$4-'PRE-sarja Hygien Plan'!$E$4)/(LN(('PRE-sarja Hygien Plan'!$C$4-'PRE-sarja Hygien Plan'!$G$4)/('PRE-sarja Hygien Plan'!$E$4-'PRE-sarja Hygien Plan'!$G$4))))/49.8329)^Blad1!$G$61 -> 359.12241
B63: 1000 | C63: =Blad1!B61*((('PRE-sarja Hygien Plan'!$C$4-'PRE-sarja Hygien Plan'!$E$4)/(LN(('PRE-sarja Hygien Plan'!$C$4-'PRE-sarja Hygien Plan'!$G$4)/('PRE-sarja Hygien Plan'!$E$4-'PRE-sarja Hygien Plan'!$G$4))))/49.8329)^Blad1!$C$61 -> 148.05952 | D63: =Blad1!D61*((('PRE-sarja Hygien Plan'!$C$4-'PRE-sarja Hygien Plan'!$E$4)/(LN(('PRE-sarja Hygien Plan'!$C$4-'PRE-sarja Hygien Plan'!$G$4)/('PRE-sarja Hygien Plan'!$E$4-'PRE-sarja Hygien Plan'!$G$4))))/49.8329)^Blad1!$E$61 -> 273.3295 | E63: =Blad1!F61*((('PRE-sarja Hygien Plan'!$C$4-'PRE-sarja Hygien Plan'!$E$4)/(LN(('PRE-sarja Hygien Plan'!$C$4-'PRE-sarja Hygien Plan'!$G$4)/('PRE-sarja Hygien Plan'!$E$4-'PRE-sarja Hygien Plan'!$G$4))))/49.8329)^Blad1!$G$61 -> 399.0249
B64: 1100 | C64: =Blad1!B62*((('PRE-sarja Hygien Plan'!$C$4-'PRE-sarja Hygien Plan'!$E$4)/(LN(('PRE-sarja Hygien Plan'!$C$4-'PRE-sarja Hygien Plan'!$G$4)/('PRE-sarja Hygien Plan'!$E$4-'PRE-sarja Hygien Plan'!$G$4))))/49.8329)^Blad1!$C$61 -> 162.86547 | D64: =Blad1!D62*((('PRE-sarja Hygien Plan'!$C$4-'PRE-sarja Hygien Plan'!$E$4)/(LN(('PRE-sarja Hygien Plan'!$C$4-'PRE-sarja Hygien Plan'!$G$4)/('PRE-sarja Hygien Plan'!$E$4-'PRE-sarja Hygien Plan'!$G$4))))/49.8329)^Blad1!$E$61 -> 300.66245 | E64: =Blad1!F62*((('PRE-sarja Hygien Plan'!$C$4-'PRE-sarja Hygien Plan'!$E$4)/(LN(('PRE-sarja Hygien Plan'!$C$4-'PRE-sarja Hygien Plan'!$G$4)/('PRE-sarja Hygien Plan'!$E$4-'PRE-sarja Hygien Plan'!$G$4))))/49.8329)^Blad1!$G$61 -> 438.92739
B65: 1200 | C65: =Blad1!B63*((('PRE-sarja Hygien Plan'!$C$4-'PRE-sarja Hygien Plan'!$E$4)/(LN(('PRE-sarja Hygien Plan'!$C$4-'PRE-sarja Hygien Plan'!$G$4)/('PRE-sarja Hygien Plan'!$E$4-'PRE-sarja Hygien Plan'!$G$4))))/49.8329)^Blad1!$C$61 -> 177.67142 | D65: =Blad1!D63*((('PRE-sarja Hygien Plan'!$C$4-'PRE-sarja Hygien Plan'!$E$4)/(LN(('PRE-sarja Hygien Plan'!$C$4-'PRE-sarja Hygien Plan'!$G$4)/('PRE-sarja Hygien Plan'!$E$4-'PRE-sarja Hygien Plan'!$G$4))))/49.8329)^Blad1!$E$61 -> 327.9954 | E65: =Blad1!F63*((('PRE-sarja Hygien Plan'!$C$4-'PRE-sarja Hygien Plan'!$E$4)/(LN(('PRE-sarja Hygien Plan'!$C$4-'PRE-sarja Hygien Plan'!$G$4)/('PRE-sarja Hygien Plan'!$E$4-'PRE-sarja Hygien Plan'!$G$4))))/49.8329)^Blad1!$G$61 -> 478.82988
B66: 1300 | C66: =Blad1!B64*((('PRE-sarja Hygien Plan'!$C$4-'PRE-sarja Hygien Plan'!$E$4)/(LN(('PRE-sarja Hygien Plan'!$C$4-'PRE-sarja Hygien Plan'!$G$4)/('PRE-sarja Hygien Plan'!$E$4-'PRE-sarja Hygien Plan'!$G$4))))/49.8329)^Blad1!$C$61 -> 192.47738 | D66: =Blad1!D64*((('PRE-sarja Hygien Plan'!$C$4-'PRE-sarja Hygien Plan'!$E$4)/(LN(('PRE-sarja Hygien Plan'!$C$4-'PRE-sarja Hygien Plan'!$G$4)/('PRE-sarja Hygien Plan'!$E$4-'PRE-sarja Hygien Plan'!$G$4))))/49.8329)^Blad1!$E$61 -> 355.32835 | E66: =Blad1!F64*((('PRE-sarja Hygien Plan'!$C$4-'PRE-sarja Hygien Plan'!$E$4)/(LN(('PRE-sarja Hygien Plan'!$C$4-'PRE-sarja Hygien Plan'!$G$4)/('PRE-sarja Hygien Plan'!$E$4-'PRE-sarja Hygien Plan'!$G$4))))/49.8329)^Blad1!$G$61 -> 518.73237
B67: 1400 | C67: =Blad1!B65*((('PRE-sarja Hygien Plan'!$C$4-'PRE-sarja Hygien Plan'!$E$4)/(LN(('PRE-sarja Hygien Plan'!$C$4-'PRE-sarja Hygien Plan'!$G$4)/('PRE-sarja Hygien Plan'!$E$4-'PRE-sarja Hygien Plan'!$G$4))))/49.8329)^Blad1!$C$61 -> 207.28333 | D67: =Blad1!D65*((('PRE-sarja Hygien Plan'!$C$4-'PRE-sarja Hygien Plan'!$E$4)/(LN(('PRE-sarja Hygien Plan'!$C$4-'PRE-sarja Hygien Plan'!$G$4)/('PRE-sarja Hygien Plan'!$E$4-'PRE-sarja Hygien Plan'!$G$4))))/49.8329)^Blad1!$E$61 -> 382.6613 | E67: =Blad1!F65*((('PRE-sarja Hygien Plan'!$C$4-'PRE-sarja Hygien Plan'!$E$4)/(LN(('PRE-sarja Hygien Plan'!$C$4-'PRE-sarja Hygien Plan'!$G$4)/('PRE-sarja Hygien Plan'!$E$4-'PRE-sarja Hygien Plan'!$G$4))))/49.8329)^Blad1!$G$61 -> 558.63486
B68: 1500 | C68: =Blad1!B66*((('PRE-sarja Hygien Plan'!$C$4-'PRE-sarja Hygien Plan'!$E$4)/(LN(('PRE-sarja Hygien Plan'!$C$4-'PRE-sarja Hygien Plan'!$G$4)/('PRE-sarja Hygien Plan'!$E$4-'PRE-sarja Hygien Plan'!$G$4))))/49.8329)^Blad1!$C$61 -> 222.08928 | D68: =Blad1!D66*((('PRE-sarja Hygien Plan'!$C$4-'PRE-sarja Hygien Plan'!$E$4)/(LN(('PRE-sarja Hygien Plan'!$C$4-'PRE-sarja Hygien Plan'!$G$4)/('PRE-sarja Hygien Plan'!$E$4-'PRE-sarja Hygien Plan'!$G$4))))/49.8329)^Blad1!$E$61 -> 409.99424 | E68: =Blad1!F66*((('PRE-sarja Hygien Plan'!$C$4-'PRE-sarja Hygien Plan'!$E$4)/(LN(('PRE-sarja Hygien Plan'!$C$4-'PRE-sarja Hygien Plan'!$G$4)/('PRE-sarja Hygien Plan'!$E$4-'PRE-sarja Hygien Plan'!$G$4))))/49.8329)^Blad1!$G$61 -> 598.53735
... B75: 3000 | C75: =Blad1!B73*((('PRE-sarja Hygien Plan'!$C$4-'PRE-sarja Hygien Plan'!$E$4)/(LN(('PRE-sarja Hygien Plan'!$C$4-'PRE-sarja Hygien Plan'!$G$4)/('PRE-sarja Hygien Plan'!$E$4-'PRE-sarja Hygien Plan'!$G$4))))/49.8329)^Blad1!$C$61 -> 444.17856 | D75: =Blad1!D73*((('PRE-sarja Hygien Plan'!$C$4-'PRE-sarja Hygien Plan'!$E$4)/(LN(('PRE-sarja Hygien Plan'!$C$4-'PRE-sarja Hygien Plan'!$G$4)/('PRE-sarja Hygien Plan'!$E$4-'PRE-sarja Hygien Plan'!$G$4))))/49.8329)^Blad1!$E$61 -> 819.98849 | E75: =Blad1!F73*((('PRE-sarja Hygien Plan'!$C$4-'PRE-sarja Hygien Plan'!$E$4)/(LN(('PRE-sarja Hygien Plan'!$C$4-'PRE-sarja Hygien Plan'!$G$4)/('PRE-sarja Hygien Plan'!$E$4-'PRE-sarja Hygien Plan'!$G$4))))/49.8329)^Blad1!$G$61 -> 1197.0747
B82: Korkeus 500
C83: Teho (W)
B84: Pituus (mm) | C84: 10 | D84: 20 | E84: 30
B85: 400 | C85: =Blad1!B78*((('PRE-sarja Hygien Plan'!$C$4-'PRE-sarja Hygien Plan'!$E$4)/(LN(('PRE-sarja Hygien Plan'!$C$4-'PRE-sarja Hygien Plan'!$G$4)/('PRE-sarja Hygien Plan'!$E$4-'PRE-sarja Hygien Plan'!$G$4))))/49.8329)^Blad1!$C$84 -> 70.504533 | D85: =Blad1!D78*((('PRE-sarja Hygien Plan'!$C$4-'PRE-sarja Hygien Plan'!$E$4)/(LN(('PRE-sarja Hygien Plan'!$C$4-'PRE-sarja Hygien Plan'!$G$4)/('PRE-sarja Hygien Plan'!$E$4-'PRE-sarja Hygien Plan'!$G$4))))/49.8329)^Blad1!$E$84 -> 129.96131 | E85: =Blad1!F78*((('PRE-sarja Hygien Plan'!$C$4-'PRE-sarja Hygien Plan'!$E$4)/(LN(('PRE-sarja Hygien Plan'!$C$4-'PRE-sarja Hygien Plan'!$G$4)/('PRE-sarja Hygien Plan'!$E$4-'PRE-sarja Hygien Plan'!$G$4))))/49.8329)^Blad1!$G$84 -> 180.59574
B86: 500 | C86: =Blad1!B79*((('PRE-sarja Hygien Plan'!$C$4-'PRE-sarja Hygien Plan'!$E$4)/(LN(('PRE-sarja Hygien Plan'!$C$4-'PRE-sarja Hygien Plan'!$G$4)/('PRE-sarja Hygien Plan'!$E$4-'PRE-sarja Hygien Plan'!$G$4))))/49.8329)^Blad1!$C$84 -> 88.130666 | D86: =Blad1!D79*((('PRE-sarja Hygien Plan'!$C$4-'PRE-sarja Hygien Plan'!$E$4)/(LN(('PRE-sarja Hygien Plan'!$C$4-'PRE-sarja Hygien Plan'!$G$4)/('PRE-sarja Hygien Plan'!$E$4-'PRE-sarja Hygien Plan'!$G$4))))/49.8329)^Blad1!$E$84 -> 162.45163 | E86: =Blad1!F79*((('PRE-sarja Hygien Plan'!$C$4-'PRE-sarja Hygien Plan'!$E$4)/(LN(('PRE-sarja Hygien Plan'!$C$4-'PRE-sarja Hygien Plan'!$G$4)/('PRE-sarja Hygien Plan'!$E$4-'PRE-sarja Hygien Plan'!$G$4))))/49.8329)^Blad1!$G$84 -> 225.74468
B87: 600 | C87: =Blad1!B80*((('PRE-sarja Hygien Plan'!$C$4-'PRE-sarja Hygien Plan'!$E$4)/(LN(('PRE-sarja Hygien Plan'!$C$4-'PRE-sarja Hygien Plan'!$G$4)/('PRE-sarja Hygien Plan'!$E$4-'PRE-sarja Hygien Plan'!$G$4))))/49.8329)^Blad1!$C$84 -> 105.7568 | D87: =Blad1!D80*((('PRE-sarja Hygien Plan'!$C$4-'PRE-sarja Hygien Plan'!$E$4)/(LN(('PRE-sarja Hygien Plan'!$C$4-'PRE-sarja Hygien Plan'!$G$4)/('PRE-sarja Hygien Plan'!$E$4-'PRE-sarja Hygien Plan'!$G$4))))/49.8329)^Blad1!$E$84 -> 194.94196 | E87: =Blad1!F80*((('PRE-sarja Hygien Plan'!$C$4-'PRE-sarja Hygien Plan'!$E$4)/(LN(('PRE-sarja Hygien Plan'!$C$4-'PRE-sarja Hygien Plan'!$G$4)/('PRE-sarja Hygien Plan'!$E$4-'PRE-sarja Hygien Plan'!$G$4))))/49.8329)^Blad1!$G$84 -> 270.89361
B88: 700 | C88: =Blad1!B81*((('PRE-sarja Hygien Plan'!$C$4-'PRE-sarja Hygien Plan'!$E$4)/(LN(('PRE-sarja Hygien Plan'!$C$4-'PRE-sarja Hygien Plan'!$G$4)/('PRE-sarja Hygien Plan'!$E$4-'PRE-sarja Hygien Plan'!$G$4))))/49.8329)^Blad1!$C$84 -> 123.38293 | D88: =Blad1!D81*((('PRE-sarja Hygien Plan'!$C$4-'PRE-sarja Hygien Plan'!$E$4)/(LN(('PRE-sarja Hygien Plan'!$C$4-'PRE-sarja Hygien Plan'!$G$4)/('PRE-sarja Hygien Plan'!$E$4-'PRE-sarja Hygien Plan'!$G$4))))/49.8329)^Blad1!$E$84 -> 227.43229 | E88: =Blad1!F81*((('PRE-sarja Hygien Plan'!$C$4-'PRE-sarja Hygien Plan'!$E$4)/(LN(('PRE-sarja Hygien Plan'!$C$4-'PRE-sarja Hygien Plan'!$G$4)/('PRE-sarja Hygien Plan'!$E$4-'PRE-sarja Hygien Plan'!$G$4))))/49.8329)^Blad1!$G$84 -> 316.04255
B89: 800 | C89: =Blad1!B82*((('PRE-sarja Hygien Plan'!$C$4-'PRE-sarja Hygien Plan'!$E$4)/(LN(('PRE-sarja Hygien Plan'!$C$4-'PRE-sarja Hygien Plan'!$G$4)/('PRE-sarja Hygien Plan'!$E$4-'PRE-sarja Hygien Plan'!$G$4))))/49.8329)^Blad1!$C$84 -> 141.00907 | D89: =Blad1!D82*((('PRE-sarja Hygien Plan'!$C$4-'PRE-sarja Hygien Plan'!$E$4)/(LN(('PRE-sarja Hygien Plan'!$C$4-'PRE-sarja Hygien Plan'!$G$4)/('PRE-sarja Hygien Plan'!$E$4-'PRE-sarja Hygien Plan'!$G$4))))/49.8329)^Blad1!$E$84 -> 259.92261 | E89: =Blad1!F82*((('PRE-sarja Hygien Plan'!$C$4-'PRE-sarja Hygien Plan'!$E$4)/(LN(('PRE-sarja Hygien Plan'!$C$4-'PRE-sarja Hygien Plan'!$G$4)/('PRE-sarja Hygien Plan'!$E$4-'PRE-sarja Hygien Plan'!$G$4))))/49.8329)^Blad1!$G$84 -> 361.19148
B90: 900 | C90: =Blad1!B83*((('PRE-sarja Hygien Plan'!$C$4-'PRE-sarja Hygien Plan'!$E$4)/(LN(('PRE-sarja Hygien Plan'!$C$4-'PRE-sarja Hygien Plan'!$G$4)/('PRE-sarja Hygien Plan'!$E$4-'PRE-sarja Hygien Plan'!$G$4))))/49.8329)^Blad1!$C$84 -> 158.6352 | D90: =Blad1!D83*((('PRE-sarja Hygien Plan'!$C$4-'PRE-sarja Hygien Plan'!$E$4)/(LN(('PRE-sarja Hygien Plan'!$C$4-'PRE-sarja Hygien Plan'!$G$4)/('PRE-sarja Hygien Plan'!$E$4-'PRE-sarja Hygien Plan'!$G$4))))/49.8329)^Blad1!$E$84 -> 292.41294 | E90: =Blad1!F83*((('PRE-sarja Hygien Plan'!$C$4-'PRE-sarja Hygien Plan'!$E$4)/(LN(('PRE-sarja Hygien Plan'!$C$4-'PRE-sarja Hygien Plan'!$G$4)/('PRE-sarja Hygien Plan'!$E$4-'PRE-sarja Hygien Plan'!$G$4))))/49.8329)^Blad1!$G$84 -> 406.34042
B91: 1000 | C91: =Blad1!B84*((('PRE-sarja Hygien Plan'!$C$4-'PRE-sarja Hygien Plan'!$E$4)/(LN(('PRE-sarja Hygien Plan'!$C$4-'PRE-sarja Hygien Plan'!$G$4)/('PRE-sarja Hygien Plan'!$E$4-'PRE-sarja Hygien Plan'!$G$4))))/49.8329)^Blad1!$C$84 -> 176.26133 | D91: =Blad1!D84*((('PRE-sarja Hygien Plan'!$C$4-'PRE-sarja Hygien Plan'!$E$4)/(LN(('PRE-sarja Hygien Plan'!$C$4-'PRE-sarja Hygien Plan'!$G$4)/('PRE-sarja Hygien Plan'!$E$4-'PRE-sarja Hygien Plan'!$G$4))))/49.8329)^Blad1!$E$84 -> 324.90327 | E91: =Blad1!F84*((('PRE-sarja Hygien Plan'!$C$4-'PRE-sarja Hygien Plan'!$E$4)/(LN(('PRE-sarja Hygien Plan'!$C$4-'PRE-sarja Hygien Plan'!$G$4)/('PRE-sarja Hygien Plan'!$E$4-'PRE-sarja Hygien Plan'!$G$4))))/49.8329)^Blad1!$G$84 -> 451.48935
B92: 1100 | C92: =Blad1!B85*((('PRE-sarja Hygien Plan'!$C$4-'PRE-sarja Hygien Plan'!$E$4)/(LN(('PRE-sarja Hygien Plan'!$C$4-'PRE-sarja Hygien Plan'!$G$4)/('PRE-sarja Hygien Plan'!$E$4-'PRE-sarja Hygien Plan'!$G$4))))/49.8329)^Blad1!$C$84 -> 193.88747 | D92: =Blad1!D85*((('PRE-sarja Hygien Plan'!$C$4-'PRE-sarja Hygien Plan'!$E$4)/(LN(('PRE-sarja Hygien Plan'!$C$4-'PRE-sarja Hygien Plan'!$G$4)/('PRE-sarja Hygien Plan'!$E$4-'PRE-sarja Hygien Plan'!$G$4))))/49.8329)^Blad1!$E$84 -> 357.39359 | E92: =Blad1!F85*((('PRE-sarja Hygien Plan'!$C$4-'PRE-sarja Hygien Plan'!$E$4)/(LN(('PRE-sarja Hygien Plan'!$C$4-'PRE-sarja Hygien Plan'!$G$4)/('PRE-sarja Hygien Plan'!$E$4-'PRE-sarja Hygien Plan'!$G$4))))/49.8329)^Blad1!$G$84 -> 496.63829
B93: 1200 | C93: =Blad1!B86*((('PRE-sarja Hygien Plan'!$C$4-'PRE-sarja Hygien Plan'!$E$4)/(LN(('PRE-sarja Hygien Plan'!$C$4-'PRE-sarja Hygien Plan'!$G$4)/('PRE-sarja Hygien Plan'!$E$4-'PRE-sarja Hygien Plan'!$G$4))))/49.8329)^Blad1!$C$84 -> 211.5136 | D93: =Blad1!D86*((('PRE-sarja Hygien Plan'!$C$4-'PRE-sarja Hygien Plan'!$E$4)/(LN(('PRE-sarja Hygien Plan'!$C$4-'PRE-sarja Hygien Plan'!$G$4)/('PRE-sarja Hygien Plan'!$E$4-'PRE-sarja Hygien Plan'!$G$4))))/49.8329)^Blad1!$E$84 -> 389.88392 | E93: =Blad1!F86*((('PRE-sarja Hygien Plan'!$C$4-'PRE-sarja Hygien Plan'!$E$4)/(LN(('PRE-sarja Hygien Plan'!$C$4-'PRE-sarja Hygien Plan'!$G$4)/('PRE-sarja Hygien Plan'!$E$4-'PRE-sarja Hygien Plan'!$G$4))))/49.8329)^Blad1!$G$84 -> 541.78722
B94: 1300 | C94: =Blad1!B87*((('PRE-sarja Hygien Plan'!$C$4-'PRE-sarja Hygien Plan'!$E$4)/(LN(('PRE-sarja Hygien Plan'!$C$4-'PRE-sarja Hygien Plan'!$G$4)/('PRE-sarja Hygien Plan'!$E$4-'PRE-sarja Hygien Plan'!$G$4))))/49.8329)^Blad1!$C$84 -> 229.13973 | D94: =Blad1!D87*((('PRE-sarja Hygien Plan'!$C$4-'PRE-sarja Hygien Plan'!$E$4)/(LN(('PRE-sarja Hygien Plan'!$C$4-'PRE-sarja Hygien Plan'!$G$4)/('PRE-sarja Hygien Plan'!$E$4-'PRE-sarja Hygien Plan'!$G$4))))/49.8329)^Blad1!$E$84 -> 422.37425 | E94: =Blad1!F87*((('PRE-sarja Hygien Plan'!$C$4-'PRE-sarja Hygien Plan'!$E$4)/(LN(('PRE-sarja Hygien Plan'!$C$4-'PRE-sarja Hygien Plan'!$G$4)/('PRE-sarja Hygien Plan'!$E$4-'PRE-sarja Hygien Plan'!$G$4))))/49.8329)^Blad1!$G$84 -> 586.93616
B95: 1400 | C95: =Blad1!B88*((('PRE-sarja Hygien Plan'!$C$4-'PRE-sarja Hygien Plan'!$E$4)/(LN(('PRE-sarja Hygien Plan'!$C$4-'PRE-sarja Hygien Plan'!$G$4)/('PRE-sarja Hygien Plan'!$E$4-'PRE-sarja Hygien Plan'!$G$4))))/49.8329)^Blad1!$C$84 -> 246.76587 | D95: =Blad1!D88*((('PRE-sarja Hygien Plan'!$C$4-'PRE-sarja Hygien Plan'!$E$4)/(LN(('PRE-sarja Hygien Plan'!$C$4-'PRE-sarja Hygien Plan'!$G$4)/('PRE-sarja Hygien Plan'!$E$4-'PRE-sarja Hygien Plan'!$G$4))))/49.8329)^Blad1!$E$84 -> 454.86457 | E95: =Blad1!F88*((('PRE-sarja Hygien Plan'!$C$4-'PRE-sarja Hygien Plan'!$E$4)/(LN(('PRE-sarja Hygien Plan'!$C$4-'PRE-sarja Hygien Plan'!$G$4)/('PRE-sarja Hygien Plan'!$E$4-'PRE-sarja Hygien Plan'!$G$4))))/49.8329)^Blad1!$G$84 -> 632.08509
B96: 1500 | C96: =Blad1!B89*((('PRE-sarja Hygien Plan'!$C$4-'PRE-sarja Hygien Plan'!$E$4)/(LN(('PRE-sarja Hygien Plan'!$C$4-'PRE-sarja Hygien Plan'!$G$4)/('PRE-sarja Hygien Plan'!$E$4-'PRE-sarja Hygien Plan'!$G$4))))/49.8329)^Blad1!$C$84 -> 264.392 | D96: =Blad1!D89*((('PRE-sarja Hygien Plan'!$C$4-'PRE-sarja Hygien Plan'!$E$4)/(LN(('PRE-sarja Hygien Plan'!$C$4-'PRE-sarja Hygien Plan'!$G$4)/('PRE-sarja Hygien Plan'!$E$4-'PRE-sarja Hygien Plan'!$G$4))))/49.8329)^Blad1!$E$84 -> 487.3549 | E96: =Blad1!F89*((('PRE-sarja Hygien Plan'!$C$4-'PRE-sarja Hygien Plan'!$E$4)/(LN(('PRE-sarja Hygien Plan'!$C$4-'PRE-sarja Hygien Plan'!$G$4)/('PRE-sarja Hygien Plan'!$E$4-'PRE-sarja Hygien Plan'!$G$4))))/49.8329)^Blad1!$G$84 -> 677.23403
... B103: 3000 | C103: =Blad1!B96*((('PRE-sarja Hygien Plan'!$C$4-'PRE-sarja Hygien Plan'!$E$4)/(LN(('PRE-sarja Hygien Plan'!$C$4-'PRE-sarja Hygien Plan'!$G$4)/('PRE-sarja Hygien Plan'!$E$4-'PRE-sarja Hygien Plan'!$G$4))))/49.8329)^Blad1!$C$84 -> 528.784 | D103: =Blad1!D96*((('PRE-sarja Hygien Plan'!$C$4-'PRE-sarja Hygien Plan'!$E$4)/(LN(('PRE-sarja Hygien Plan'!$C$4-'PRE-sarja Hygien Plan'!$G$4)/('PRE-sarja Hygien Plan'!$E$4-'PRE-sarja Hygien Plan'!$G$4))))/49.8329)^Blad1!$E$84 -> 974.7098 | E103: =Blad1!F96*((('PRE-sarja Hygien Plan'!$C$4-'PRE-sarja Hygien Plan'!$E$4)/(LN(('PRE-sarja Hygien Plan'!$C$4-'PRE-sarja Hygien Plan'!$G$4)/('PRE-sarja Hygien Plan'!$E$4-'PRE-sarja Hygien Plan'!$G$4))))/49.8329)^Blad1!$G$84 -> 1354.4681
B105: Korkeus 600
C106: Teho (W)
B107: Pituus (mm) | C107: 10 | D107: 20 | E107: 30
B108: 400 | C108: =Blad1!B101*((('PRE-sarja Hygien Plan'!$C$4-'PRE-sarja Hygien Plan'!$E$4)/(LN(('PRE-sarja Hygien Plan'!$C$4-'PRE-sarja Hygien Plan'!$G$4)/('PRE-sarja Hygien Plan'!$E$4-'PRE-sarja Hygien Plan'!$G$4))))/49.8329)^Blad1!$C$107 -> 82.208286 | D108: =Blad1!D101*((('PRE-sarja Hygien Plan'!$C$4-'PRE-sarja Hygien Plan'!$E$4)/(LN(('PRE-sarja Hygien Plan'!$C$4-'PRE-sarja Hygien Plan'!$G$4)/('PRE-sarja Hygien Plan'!$E$4-'PRE-sarja Hygien Plan'!$G$4))))/49.8329)^Blad1!$E$107 -> 150.03912 | E108: =Blad1!F101*((('PRE-sarja Hygien Plan'!$C$4-'PRE-sarja Hygien Plan'!$E$4)/(LN(('PRE-sarja Hygien Plan'!$C$4-'PRE-sarja Hygien Plan'!$G$4)/('PRE-sarja Hygien Plan'!$E$4-'PRE-sarja Hygien Plan'!$G$4))))/49.8329)^Blad1!$G$107 -> 226.79238
B109: 500 | C109: =Blad1!B102*((('PRE-sarja Hygien Plan'!$C$4-'PRE-sarja Hygien Plan'!$E$4)/(LN(('PRE-sarja Hygien Plan'!$C$4-'PRE-sarja Hygien Plan'!$G$4)/('PRE-sarja Hygien Plan'!$E$4-'PRE-sarja Hygien Plan'!$G$4))))/49.8329)^Blad1!$C$107 -> 102.76036 | D109: =Blad1!D102*((('PRE-sarja Hygien Plan'!$C$4-'PRE-sarja Hygien Plan'!$E$4)/(LN(('PRE-sarja Hygien Plan'!$C$4-'PRE-sarja Hygien Plan'!$G$4)/('PRE-sarja Hygien Plan'!$E$4-'PRE-sarja Hygien Plan'!$G$4))))/49.8329)^Blad1!$E$107 -> 187.5489 | E109: =Blad1!F102*((('PRE-sarja Hygien Plan'!$C$4-'PRE-sarja Hygien Plan'!$E$4)/(LN(('PRE-sarja Hygien Plan'!$C$4-'PRE-sarja Hygien Plan'!$G$4)/('PRE-sarja Hygien Plan'!$E$4-'PRE-sarja Hygien Plan'!$G$4))))/49.8329)^Blad1!$G$107 -> 283.49048
B110: 600 | C110: =Blad1!B103*((('PRE-sarja Hygien Plan'!$C$4-'PRE-sarja Hygien Plan'!$E$4)/(LN(('PRE-sarja Hygien Plan'!$C$4-'PRE-sarja Hygien Plan'!$G$4)/('PRE-sarja Hygien Plan'!$E$4-'PRE-sarja Hygien Plan'!$G$4))))/49.8329)^Blad1!$C$107 -> 123.31243 | D110: =Blad1!D103*((('PRE-sarja Hygien Plan'!$C$4-'PRE-sarja Hygien Plan'!$E$4)/(LN(('PRE-sarja Hygien Plan'!$C$4-'PRE-sarja Hygien Plan'!$G$4)/('PRE-sarja Hygien Plan'!$E$4-'PRE-sarja Hygien Plan'!$G$4))))/49.8329)^Blad1!$E$107 -> 225.05868 | E110: =Blad1!F103*((('PRE-sarja Hygien Plan'!$C$4-'PRE-sarja Hygien Plan'!$E$4)/(LN(('PRE-sarja Hygien Plan'!$C$4-'PRE-sarja Hygien Plan'!$G$4)/('PRE-sarja Hygien Plan'!$E$4-'PRE-sarja Hygien Plan'!$G$4))))/49.8329)^Blad1!$G$107 -> 340.18857
B111: 700 | C111: =Blad1!B104*((('PRE-sarja Hygien Plan'!$C$4-'PRE-sarja Hygien Plan'!$E$4)/(LN(('PRE-sarja Hygien Plan'!$C$4-'PRE-sarja Hygien Plan'!$G$4)/('PRE-sarja Hygien Plan'!$E$4-'PRE-sarja Hygien Plan'!$G$4))))/49.8329)^Blad1!$C$107 -> 143.8645 | D111: =Blad1!D104*((('PRE-sarja Hygien Plan'!$C$4-'PRE-sarja Hygien Plan'!$E$4)/(LN(('PRE-sarja Hygien Plan'!$C$4-'PRE-sarja Hygien Plan'!$G$4)/('PRE-sarja Hygien Plan'!$E$4-'PRE-sarja Hygien Plan'!$G$4))))/49.8329)^Blad1!$E$107 -> 262.56845 | E111: =Blad1!F104*((('PRE-sarja Hygien Plan'!$C$4-'PRE-sarja Hygien Plan'!$E$4)/(LN(('PRE-sarja Hygien Plan'!$C$4-'PRE-sarja Hygien Plan'!$G$4)/('PRE-sarja Hygien Plan'!$E$4-'PRE-sarja Hygien Plan'!$G$4))))/49.8329)^Blad1!$G$107 -> 396.88667
B112: 800 | C112: =Blad1!B105*((('PRE-sarja Hygien Plan'!$C$4-'PRE-sarja Hygien Plan'!$E$4)/(LN(('PRE-sarja Hygien Plan'!$C$4-'PRE-sarja Hygien Plan'!$G$4)/('PRE-sarja Hygien Plan'!$E$4-'PRE-sarja Hygien Plan'!$G$4))))/49.8329)^Blad1!$C$107 -> 164.41657 | D112: =Blad1!D105*((('PRE-sarja Hygien Plan'!$C$4-'PRE-sarja Hygien Plan'!$E$4)/(LN(('PRE-sarja Hygien Plan'!$C$4-'PRE-sarja Hygien Plan'!$G$4)/('PRE-sarja Hygien Plan'!$E$4-'PRE-sarja Hygien Plan'!$G$4))))/49.8329)^Blad1!$E$107 -> 300.07823 | E112: =Blad1!F105*((('PRE-sarja Hygien Plan'!$C$4-'PRE-sarja Hygien Plan'!$E$4)/(LN(('PRE-sarja Hygien Plan'!$C$4-'PRE-sarja Hygien Plan'!$G$4)/('PRE-sarja Hygien Plan'!$E$4-'PRE-sarja Hygien Plan'!$G$4))))/49.8329)^Blad1!$G$107 -> 453.58476
B113: 900 | C113: =Blad1!B106*((('PRE-sarja Hygien Plan'!$C$4-'PRE-sarja Hygien Plan'!$E$4)/(LN(('PRE-sarja Hygien Plan'!$C$4-'PRE-sarja Hygien Plan'!$G$4)/('PRE-sarja Hygien Plan'!$E$4-'PRE-sarja Hygien Plan'!$G$4))))/49.8329)^Blad1!$C$107 -> 184.96864 | D113: =Blad1!D106*((('PRE-sarja Hygien Plan'!$C$4-'PRE-sarja Hygien Plan'!$E$4)/(LN(('PRE-sarja Hygien Plan'!$C$4-'PRE-sarja Hygien Plan'!$G$4)/('PRE-sarja Hygien Plan'!$E$4-'PRE-sarja Hygien Plan'!$G$4))))/49.8329)^Blad1!$E$107 -> 337.58801 | E113: =Blad1!F106*((('PRE-sarja Hygien Plan'!$C$4-'PRE-sarja Hygien Plan'!$E$4)/(LN(('PRE-sarja Hygien Plan'!$C$4-'PRE-sarja Hygien Plan'!$G$4)/('PRE-sarja Hygien Plan'!$E$4-'PRE-sarja Hygien Plan'!$G$4))))/49.8329)^Blad1!$G$107 -> 510.28286
B114: 1000 | C114: =Blad1!B107*((('PRE-sarja Hygien Plan'!$C$4-'PRE-sarja Hygien Plan'!$E$4)/(LN(('PRE-sarja Hygien Plan'!$C$4-'PRE-sarja Hygien Plan'!$G$4)/('PRE-sarja Hygien Plan'!$E$4-'PRE-sarja Hygien Plan'!$G$4))))/49.8329)^Blad1!$C$107 -> 205.52071 | D114: =Blad1!D107*((('PRE-sarja Hygien Plan'!$C$4-'PRE-sarja Hygien Plan'!$E$4)/(LN(('PRE-sarja Hygien Plan'!$C$4-'PRE-sarja Hygien Plan'!$G$4)/('PRE-sarja Hygien Plan'!$E$4-'PRE-sarja Hygien Plan'!$G$4))))/49.8329)^Blad1!$E$107 -> 375.09779 | E114: =Blad1!F107*((('PRE-sarja Hygien Plan'!$C$4-'PRE-sarja Hygien Plan'!$E$4)/(LN(('PRE-sarja Hygien Plan'!$C$4-'PRE-sarja Hygien Plan'!$G$4)/('PRE-sarja Hygien Plan'!$E$4-'PRE-sarja Hygien Plan'!$G$4))))/49.8329)^Blad1!$G$107 -> 566.98095
B115: 1100 | C115: =Blad1!B108*((('PRE-sarja Hygien Plan'!$C$4-'PRE-sarja Hygien Plan'!$E$4)/(LN(('PRE-sarja Hygien Plan'!$C$4-'PRE-sarja Hygien Plan'!$G$4)/('PRE-sarja Hygien Plan'!$E$4-'PRE-sarja Hygien Plan'!$G$4))))/49.8329)^Blad1!$C$107 -> 226.07279 | D115: =Blad1!D108*((('PRE-sarja Hygien Plan'!$C$4-'PRE-sarja Hygien Plan'!$E$4)/(LN(('PRE-sarja Hygien Plan'!$C$4-'PRE-sarja Hygien Plan'!$G$4)/('PRE-sarja Hygien Plan'!$E$4-'PRE-sarja Hygien Plan'!$G$4))))/49.8329)^Blad1!$E$107 -> 412.60757 | E115: =Blad1!F108*((('PRE-sarja Hygien Plan'!$C$4-'PRE-sarja Hygien Plan'!$E$4)/(LN(('PRE-sarja Hygien Plan'!$C$4-'PRE-sarja Hygien Plan'!$G$4)/('PRE-sarja Hygien Plan'!$E$4-'PRE-sarja Hygien Plan'!$G$4))))/49.8329)^Blad1!$G$107 -> 623.67905
B116: 1200 | C116: =Blad1!B109*((('PRE-sarja Hygien Plan'!$C$4-'PRE-sarja Hygien Plan'!$E$4)/(LN(('PRE-sarja Hygien Plan'!$C$4-'PRE-sarja Hygien Plan'!$G$4)/('PRE-sarja Hygien Plan'!$E$4-'PRE-sarja Hygien Plan'!$G$4))))/49.8329)^Blad1!$C$107 -> 246.62486 | D116: =Blad1!D109*((('PRE-sarja Hygien Plan'!$C$4-'PRE-sarja Hygien Plan'!$E$4)/(LN(('PRE-sarja Hygien Plan'!$C$4-'PRE-sarja Hygien Plan'!$G$4)/('PRE-sarja Hygien Plan'!$E$4-'PRE-sarja Hygien Plan'!$G$4))))/49.8329)^Blad1!$E$107 -> 450.11735 | E116: =Blad1!F109*((('PRE-sarja Hygien Plan'!$C$4-'PRE-sarja Hygien Plan'!$E$4)/(LN(('PRE-sarja Hygien Plan'!$C$4-'PRE-sarja Hygien Plan'!$G$4)/('PRE-sarja Hygien Plan'!$E$4-'PRE-sarja Hygien Plan'!$G$4))))/49.8329)^Blad1!$G$107 -> 680.37715
B117: 1300 | C117: =Blad1!B110*((('PRE-sarja Hygien Plan'!$C$4-'PRE-sarja Hygien Plan'!$E$4)/(LN(('PRE-sarja Hygien Plan'!$C$4-'PRE-sarja Hygien Plan'!$G$4)/('PRE-sarja Hygien Plan'!$E$4-'PRE-sarja Hygien Plan'!$G$4))))/49.8329)^Blad1!$C$107 -> 267.17693 | D117: =Blad1!D110*((('PRE-sarja Hygien Plan'!$C$4-'PRE-sarja Hygien Plan'!$E$4)/(LN(('PRE-sarja Hygien Plan'!$C$4-'PRE-sarja Hygien Plan'!$G$4)/('PRE-sarja Hygien Plan'!$E$4-'PRE-sarja Hygien Plan'!$G$4))))/49.8329)^Blad1!$E$107 -> 487.62713 | E117: =Blad1!F110*((('PRE-sarja Hygien Plan'!$C$4-'PRE-sarja Hygien Plan'!$E$4)/(LN(('PRE-sarja Hygien Plan'!$C$4-'PRE-sarja Hygien Plan'!$G$4)/('PRE-sarja Hygien Plan'!$E$4-'PRE-sarja Hygien Plan'!$G$4))))/49.8329)^Blad1!$G$107 -> 737.07524
B118: 1400 | C118: =Blad1!B111*((('PRE-sarja Hygien Plan'!$C$4-'PRE-sarja Hygien Plan'!$E$4)/(LN(('PRE-sarja Hygien Plan'!$C$4-'PRE-sarja Hygien Plan'!$G$4)/('PRE-sarja Hygien Plan'!$E$4-'PRE-sarja Hygien Plan'!$G$4))))/49.8329)^Blad1!$C$107 -> 287.729 | D118: =Blad1!D111*((('PRE-sarja Hygien Plan'!$C$4-'PRE-sarja Hygien Plan'!$E$4)/(LN(('PRE-sarja Hygien Plan'!$C$4-'PRE-sarja Hygien Plan'!$G$4)/('PRE-sarja Hygien Plan'!$E$4-'PRE-sarja Hygien Plan'!$G$4))))/49.8329)^Blad1!$E$107 -> 525.13691 | E118: =Blad1!F111*((('PRE-sarja Hygien Plan'!$C$4-'PRE-sarja Hygien Plan'!$E$4)/(LN(('PRE-sarja Hygien Plan'!$C$4-'PRE-sarja Hygien Plan'!$G$4)/('PRE-sarja Hygien Plan'!$E$4-'PRE-sarja Hygien Plan'!$G$4))))/49.8329)^Blad1!$G$107 -> 793.77334
B119: 1500 | C119: =Blad1!B112*((('PRE-sarja Hygien Plan'!$C$4-'PRE-sarja Hygien Plan'!$E$4)/(LN(('PRE-sarja Hygien Plan'!$C$4-'PRE-sarja Hygien Plan'!$G$4)/('PRE-sarja Hygien Plan'!$E$4-'PRE-sarja Hygien Plan'!$G$4))))/49.8329)^Blad1!$C$107 -> 308.28107 | D119: =Blad1!D112*((('PRE-sarja Hygien Plan'!$C$4-'PRE-sarja Hygien Plan'!$E$4)/(LN(('PRE-sarja Hygien Plan'!$C$4-'PRE-sarja Hygien Plan'!$G$4)/('PRE-sarja Hygien Plan'!$E$4-'PRE-sarja Hygien Plan'!$G$4))))/49.8329)^Blad1!$E$107 -> 562.64669 | E119: =Blad1!F112*((('PRE-sarja Hygien Plan'!$C$4-'PRE-sarja Hygien Plan'!$E$4)/(LN(('PRE-sarja Hygien Plan'!$C$4-'PRE-sarja Hygien Plan'!$G$4)/('PRE-sarja Hygien Plan'!$E$4-'PRE-sarja Hygien Plan'!$G$4))))/49.8329)^Blad1!$G$107 -> 850.47143
... B126: 3000 | C126: =Blad1!B119*((('PRE-sarja Hygien Plan'!$C$4-'PRE-sarja Hygien Plan'!$E$4)/(LN(('PRE-sarja Hygien Plan'!$C$4-'PRE-sarja Hygien Plan'!$G$4)/('PRE-sarja Hygien Plan'!$E$4-'PRE-sarja Hygien Plan'!$G$4))))/49.8329)^Blad1!$C$107 -> 616.56214 | D126: =Blad1!D119*((('PRE-sarja Hygien Plan'!$C$4-'PRE-sarja Hygien Plan'!$E$4)/(LN(('PRE-sarja Hygien Plan'!$C$4-'PRE-sarja Hygien Plan'!$G$4)/('PRE-sarja Hygien Plan'!$E$4-'PRE-sarja Hygien Plan'!$G$4))))/49.8329)^Blad1!$E$107 -> 1125.2934 | E126: =Blad1!F119*((('PRE-sarja Hygien Plan'!$C$4-'PRE-sarja Hygien Plan'!$E$4)/(LN(('PRE-sarja Hygien Plan'!$C$4-'PRE-sarja Hygien Plan'!$G$4)/('PRE-sarja Hygien Plan'!$E$4-'PRE-sarja Hygien Plan'!$G$4))))/49.8329)^Blad1!$G$107 -> 1700.9429
A129: Stravent Oy pidättää oikeuden tehdä muutoksia tähän taulukkoon ilman erillistä ilmoitusta.
A132: Stravent Oy | D132: Puhelin: | E132: 09 4241 3630
A133: Piispantilankuja 4 | D133: Email: | E133: etunimi.sukunimi@stravent.fi
A134: 02240 Espoo | D134: www: | E134: www.stravent.fi

Sheet Blad1
A6: Höjd 200
B7: 10 | D7: 20 | F7: 30 | H7: 43423 | I7: En mätning utförd: 20-410 och dess data är ifylld.
A8: Längd (mm) | B8: Effekt | C8: n | D8: Effekt | E8: n | F8: Effekt | G8: n | I8: Resterande data är samma som I40H
A9: 400 | B9: =$B$15*A9/1000 -> 101.2 | D9: =$D$15*$A9/1000 -> 176 | F9: =$F$15*$A9/1000 -> 254.8 | I9: Typ 10 är samma som PRE Serie typ 10
A10: 500 | B10: =$B$15*A10/1000 -> 126.5 | D10: =$D$15*$A10/1000 -> 220 | F10: =$F$15*$A10/1000 -> 318.5
A11: 600 | B11: =$B$15*A11/1000 -> 151.8 | D11: =$D$15*$A11/1000 -> 264 | F11: =$F$15*$A11/1000 -> 382.2
A12: 700 | B12: =$B$15*A12/1000 -> 177.1 | D12: =$D$15*$A12/1000 -> 308 | F12: =$F$15*$A12/1000 -> 445.9
A13: 800 | B13: =$B$15*A13/1000 -> 202.4 | D13: =$D$15*$A13/1000 -> 352 | F13: =$F$15*$A13/1000 -> 509.6
A14: 900 | B14: =$B$15*A14/1000 -> 227.7 | D14: =$D$15*$A14/1000 -> 396 | F14: =$F$15*$A14/1000 -> 573.3
A15: 1000 | B15: 253 | C15: 1.25 | D15: 440 | E15: 1.252 | F15: 637 | G15: 1.2125
A16: 1100 | B16: =$B$15*A16/1000 -> 278.3 | D16: =$D$15*$A16/1000 -> 484 | F16: =$F$15*$A16/1000 -> 700.7
A17: 1200 | B17: =$B$15*A17/1000 -> 303.6 | D17: =$D$15*$A17/1000 -> 528 | F17: =$F$15*$A17/1000 -> 764.4
A18: 1300 | B18: =$B$15*A18/1000 -> 328.9 | D18: =$D$15*$A18/1000 -> 572 | F18: =$F$15*$A18/1000 -> 828.1
A19: 1400 | B19: =$B$15*A19/1000 -> 354.2 | D19: =$D$15*$A19/1000 -> 616 | F19: =$F$15*$A19/1000 -> 891.8
A20: 1500 | B20: =$B$15*A20/1000 -> 379.5 | D20: =$D$15*$A20/1000 -> 660 | F20: =$F$15*$A20/1000 -> 955.5
A21: 1600 | B21: =$B$15*A21/1000 -> 404.8 | D21: =$D$15*$A21/1000 -> 704 | F21: =$F$15*$A21/1000 -> 1019.2
A22: 1700 | B22: =$B$15*A22/1000 -> 430.1 | D22: =$D$15*$A22/1000 -> 748 | F22: =$F$15*$A22/1000 -> 1082.9
A23: 1800 | B23: =$B$15*A23/1000 -> 455.4 | D23: =$D$15*$A23/1000 -> 792 | F23: =$F$15*$A23/1000 -> 1146.6
A24: 2000 | B24: =$B$15*A24/1000 -> 506 | D24: =$D$15*$A24/1000 -> 880 | F24: =$F$15*$A24/1000 -> 1274
A25: 2300 | B25: =$B$15*A25/1000 -> 581.9 | D25: =$D$15*$A25/1000 -> 1012 | F25: =$F$15*$A25/1000 -> 1465.1
A26: 2600 | B26: =$B$15*A26/1000 -> 657.8 | D26: =$D$15*$A26/1000 -> 1144 | F26: =$F$15*$A26/1000 -> 1656.2
A27: 3000 | B27: =$B$15*A27/1000 -> 759 | D27: =$D$15*$A27/1000 -> 1320 | F27: =$F$15*$A27/1000 -> 1911
A29: Höjd 300
B30: 10 | D30: 20 | F30: 30
A31: Längd (mm) | B31: Effekt | C31: n | D31: Effekt | E31: n | F31: Effekt | G31: n
A32: 400 | B32: =$B$38*A32/1000 -> 137.2 | D32: =$D$38*A32/1000 -> 243.6 | F32: =A32*$F$38/1000 -> 356.4
A33: 500 | B33: =$B$38*A33/1000 -> 171.5 | D33: =$D$38*A33/1000 -> 304.5 | F33: =A33*$F$38/1000 -> 445.5
A34: 600 | B34: =$B$38*A34/1000 -> 205.8 | D34: =$D$38*A34/1000 -> 365.4 | F34: =A34*$F$38/1000 -> 534.6
A35: 700 | B35: =$B$38*A35/1000 -> 240.1 | D35: =$D$38*A35/1000 -> 426.3 | F35: =A35*$F$38/1000 -> 623.7
A36: 800 | B36: =$B$38*A36/1000 -> 274.4 | D36: =$D$38*A36/1000 -> 487.2 | F36: =A36*$F$38/1000 -> 712.8
A37: 900 | B37: =$B$38*A37/1000 -> 308.7 | D37: =$D$38*A37/1000 -> 548.1 | F37: =A37*$F$38/1000 -> 801.9
A38: 1000 | B38: 343 | C38: 1.25 | D38: 609 | E38: 1.2507 | F38: 891 | G38: 1.2105
A39: 1100 | B39: =$B$38*A39/1000 -> 377.3 | D39: =$D$38*A39/1000 -> 669.9 | F39: =A39*$F$38/1000 -> 980.1
A40: 1200 | B40: =$B$38*A40/1000 -> 411.6 | D40: =$D$38*A40/1000 -> 730.8 | F40: =A40*$F$38/1000 -> 1069.2
A41: 1300 | B41: =$B$38*A41/1000 -> 445.9 | D41: =$D$38*A41/1000 -> 791.7 | F41: =A41*$F$38/1000 -> 1158.3
A42: 1400 | B42: =$B$38*A42/1000 -> 480.2 | D42: =$D$38*A42/1000 -> 852.6 | F42: =A42*$F$38/1000 -> 1247.4
A43: 1500 | B43: =$B$38*A43/1000 -> 514.5 | D43: =$D$38*A43/1000 -> 913.5 | F43: =A43*$F$38/1000 -> 1336.5
A44: 1600 | B44: =$B$38*A44/1000 -> 548.8 | D44: =$D$38*A44/1000 -> 974.4 | F44: =A44*$F$38/1000 -> 1425.6
A45: 1700 | B45: =$B$38*A45/1000 -> 583.1 | D45: =$D$38*A45/1000 -> 1035.3 | F45: =A45*$F$38/1000 -> 1514.7
A46: 1800 | B46: =$B$38*A46/1000 -> 617.4 | D46: =$D$38*A46/1000 -> 1096.2 | F46: =A46*$F$38/1000 -> 1603.8
A47: 2000 | B47: =$B$38*A47/1000 -> 686 | D47: =$D$38*A47/1000 -> 1218 | F47: =A47*$F$38/1000 -> 1782
A48: 2300 | B48: =$B$38*A48/1000 -> 788.9 | D48: =$D$38*A48/1000 -> 1400.7 | F48: =A48*$F$38/1000 -> 2049.3
A49: 2600 | B49: =$B$38*A49/1000 -> 891.8 | D49: =$D$38*A49/1000 -> 1583.4 | F49: =A49*$F$38/1000 -> 2316.6
A50: 3000 | B50: =$B$38*A50/1000 -> 1029 | D50: =$D$38*A50/1000 -> 1827 | F50: =A50*$F$38/1000 -> 2673
A52: Höjd 400
B53: 10 | D53: 20 | F53: 30
A54: Längd (mm) | B54: Effekt | C54: n | D54: Effekt | E54: n | F54: Effekt | G54: n
A55: 400 | B55: =$B$61*A55/1000 -> 168 | D55: =$D$61*$A55/1000 -> 312.4 | F55: =$F$61*$A55/1000 -> 446.8
A56: 500 | B56: =$B$61*A56/1000 -> 210 | D56: =$D$61*$A56/1000 -> 390.5 | F56: =$F$61*$A56/1000 -> 558.5
A57: 600 | B57: =$B$61*A57/1000 -> 252 | D57: =$D$61*$A57/1000 -> 468.6 | F57: =$F$61*$A57/1000 -> 670.2
A58: 700 | B58: =$B$61*A58/1000 -> 294 | D58: =$D$61*$A58/1000 -> 546.7 | F58: =$F$61*$A58/1000 -> 781.9
A59: 800 | B59: =$B$61*A59/1000 -> 336 | D59: =$D$61*$A59/1000 -> 624.8 | F59: =$F$61*$A59/1000 -> 893.6
A60: 900 | B60: =$B$61*A60/1000 -> 378 | D60: =$D$61*$A60/1000 -> 702.9 | F60: =$F$61*$A60/1000 -> 1005.3
A61: 1000 | B61: 420 | C61: 1.25 | D61: 781 | E61: 1.2587 | F61: 1117 | G61: 1.2341
A62: 1100 | B62: =$B$61*A62/1000 -> 462 | D62: =$D$61*$A62/1000 -> 859.1 | F62: =$F$61*$A62/1000 -> 1228.7
A63: 1200 | B63: =$B$61*A63/1000 -> 504 | D63: =$D$61*$A63/1000 -> 937.2 | F63: =$F$61*$A63/1000 -> 1340.4
A64: 1300 | B64: =$B$61*A64/1000 -> 546 | D64: =$D$61*$A64/1000 -> 1015.3 | F64: =$F$61*$A64/1000 -> 1452.1
A65: 1400 | B65: =$B$61*A65/1000 -> 588 | D65: =$D$61*$A65/1000 -> 1093.4 | F65: =$F$61*$A65/1000 -> 1563.8
A66: 1500 | B66: =$B$61*A66/1000 -> 630 | D66: =$D$61*$A66/1000 -> 1171.5 | F66: =$F$61*$A66/1000 -> 1675.5
A67: 1600 | B67: =$B$61*A67/1000 -> 672 | D67: =$D$61*$A67/1000 -> 1249.6 | F67: =$F$61*$A67/1000 -> 1787.2
A68: 1700 | B68: =$B$61*A68/1000 -> 714 | D68: =$D$61*$A68/1000 -> 1327.7 | F68: =$F$61*$A68/1000 -> 1898.9
A69: 1800 | B69: =$B$61*A69/1000 -> 756 | D69: =$D$61*$A69/1000 -> 1405.8 | F69: =$F$61*$A69/1000 -> 2010.6
A70: 2000 | B70: =$B$61*A70/1000 -> 840 | D70: =$D$61*$A70/1000 -> 1562 | F70: =$F$61*$A70/1000 -> 2234
A71: 2300 | B71: =$B$61*A71/1000 -> 966 | D71: =$D$61*$A71/1000 -> 1796.3 | F71: =$F$61*$A71/1000 -> 2569.1
A72: 2600 | B72: =$B$61*A72/1000 -> 1092 | D72: =$D$61*$A72/1000 -> 2030.6 | F72: =$F$61*$A72/1000 -> 2904.2
A73: 3000 | B73: =$B$61*A73/1000 -> 1260 | D73: =$D$61*$A73/1000 -> 2343 | F73: =$F$61*$A73/1000 -> 3351
A75: Höjd 500
B76: 10 | D76: 20 | F76: 30
A77: Längd (mm) | B77: Effekt | C77: n | D77: Effekt | E77: n | F77: Effekt | G77: n
A78: 400 | B78: =$B$84*$A78/1000 -> 200 | D78: =$D$84*$A78/1000 -> 374.8 | F78: =$F$84*$A78/1000 -> 528
A79: 500 | B79: =$B$84*$A79/1000 -> 250 | D79: =$D$84*$A79/1000 -> 468.5 | F79: =$F$84*$A79/1000 -> 660
A80: 600 | B80: =$B$84*$A80/1000 -> 300 | D80: =$D$84*$A80/1000 -> 562.2 | F80: =$F$84*$A80/1000 -> 792
A81: 700 | B81: =$B$84*$A81/1000 -> 350 | D81: =$D$84*$A81/1000 -> 655.9 | F81: =$F$84*$A81/1000 -> 924
A82: 800 | B82: =$B$84*$A82/1000 -> 400 | D82: =$D$84*$A82/1000 -> 749.6 | F82: =$F$84*$A82/1000 -> 1056
A83: 900 | B83: =$B$84*$A83/1000 -> 450 | D83: =$D$84*$A83/1000 -> 843.3 | F83: =$F$84*$A83/1000 -> 1188
A84: 1000 | B84: 500 | C84: 1.25 | D84: 937 | E84: 1.2698 | F84: 1320 | G84: 1.2862
A85: 1100 | B85: =$B$84*$A85/1000 -> 550 | D85: =$D$84*$A85/1000 -> 1030.7 | F85: =$F$84*$A85/1000 -> 1452
A86: 1200 | B86: =$B$84*$A86/1000 -> 600 | D86: =$D$84*$A86/1000 -> 1124.4 | F86: =$F$84*$A86/1000 -> 1584
A87: 1300 | B87: =$B$84*$A87/1000 -> 650 | D87: =$D$84*$A87/1000 -> 1218.1 | F87: =$F$84*$A87/1000 -> 1716
A88: 1400 | B88: =$B$84*$A88/1000 -> 700 | D88: =$D$84*$A88/1000 -> 1311.8 | F88: =$F$84*$A88/1000 -> 1848
A89: 1500 | B89: =$B$84*$A89/1000 -> 750 | D89: =$D$84*$A89/1000 -> 1405.5 | F89: =$F$84*$A89/1000 -> 1980
A90: 1600 | B90: =$B$84*$A90/1000 -> 800 | D90: =$D$84*$A90/1000 -> 1499.2 | F90: =$F$84*$A90/1000 -> 2112
A91: 1700 | B91: =$B$84*$A91/1000 -> 850 | D91: =$D$84*$A91/1000 -> 1592.9 | F91: =$F$84*$A91/1000 -> 2244
A92: 1800 | B92: =$B$84*$A92/1000 -> 900 | D92: =$D$84*$A92/1000 -> 1686.6 | F92: =$F$84*$A92/1000 -> 2376
A93: 2000 | B93: =$B$84*$A93/1000 -> 1000 | D93: =$D$84*$A93/1000 -> 1874 | F93: =$F$84*$A93/1000 -> 2640
A94: 2300 | B94: =$B$84*$A94/1000 -> 1150 | D94: =$D$84*$A94/1000 -> 2155.1 | F94: =$F$84*$A94/1000 -> 3036
A95: 2600 | B95: =$B$84*$A95/1000 -> 1300 | D95: =$D$84*$A95/1000 -> 2436.2 | F95: =$F$84*$A95/1000 -> 3432
A96: 3000 | B96: =$B$84*$A96/1000 -> 1500 | D96: =$D$84*$A96/1000 -> 2811 | F96: =$F$84*$A96/1000 -> 3960
A98: Höjd 600
B99: 10 | D99: 20 | F99: 30
A100: Längd (mm) | B100: Effekt | C100: n | D100: Effekt | E100: n | F100: Effekt | G100: n
A101: 400 | B101: =$B$107*$A101/1000 -> 233.2 | D101: =$D$107*$A101/1000 -> 436 | F101: =$F$107*$A101/1000 -> 654
A102: 500 | B102: =$B$107*$A102/1000 -> 291.5 | D102: =$D$107*$A102/1000 -> 545 | F102: =$F$107*$A102/1000 -> 817.5
A103: 600 | B103: =$B$107*$A103/1000 -> 349.8 | D103: =$D$107*$A103/1000 -> 654 | F103: =$F$107*$A103/1000 -> 981
A104: 700 | B104: =$B$107*$A104/1000 -> 408.1 | D104: =$D$107*$A104/1000 -> 763 | F104: =$F$107*$A104/1000 -> 1144.5
A105: 800 | B105: =$B$107*$A105/1000 -> 466.4 | D105: =$D$107*$A105/1000 -> 872 | F105: =$F$107*$A105/1000 -> 1308
A106: 900 | B106: =$B$107*$A106/1000 -> 524.7 | D106: =$D$107*$A106/1000 -> 981 | F106: =$F$107*$A106/1000 -> 1471.5
A107: 1000 | B107: 583 | C107: 1.25 | D107: 1090 | E107: 1.2789 | F107: 1635 | G107: 1.2697
A108: 1100 | B108: =$B$107*$A108/1000 -> 641.3 | D108: =$D$107*$A108/1000 -> 1199 | F108: =$F$107*$A108/1000 -> 1798.5
A109: 1200 | B109: =$B$107*$A109/1000 -> 699.6 | D109: =$D$107*$A109/1000 -> 1308 | F109: =$F$107*$A109/1000 -> 1962
...
