Workbook

Sheet PRE-sarja Hygien Plan
F1: Versio: | G1: 44046
B2: PRE-sarja Hygien Plan
B4: Menolämp. | C4: 60 | D4: Paluulämp. | E4: 30 | F4: Huonelämp. | G4: 20
B8: Korkeus 200
C9: Teho (W)
B10: Pituus (mm) | C10: 10 | D10: 20 | E10: 30
B11: 400 | C11: =Blad1!B9*((('PRE-sarja Hygien Plan'!$C$4-'PRE-sarja Hygien Plan'!$E$4)/(LN(('PRE-sarja Hygien Plan'!$C$4-'PRE-sarja Hygien Plan'!$G$4)/('PRE-sarja Hygien Plan'!$E$4-'PRE-sarja Hygien Plan'!$G$4))))/49.8329)^Blad1!$C$15 -> 35.675294 | D11: =Blad1!D9*((('PRE-sarja Hygien Plan'!$C$4-'PRE-sarja Hygien Plan'!$E$4)/(LN(('PRE-sarja Hygien Plan'!$C$4-'PRE-sarja Hygien Plan'!$G$4)/('PRE-sarja Hygien Plan'!$E$4-'PRE-sarja Hygien Plan'!$G$4))))/49.8329)^Blad1!$E$15 -> 61.940572 | E11: =Blad1!F9*((('PRE-sarja Hygien Plan'!$C$4-'PRE-sarja Hygien Plan'!$E$4)/(LN(('PRE-sarja Hygien Plan'!$C$4-'PRE-sarja Hygien Plan'!$G$4)/('PRE-sarja Hygien Plan'!$E$4-'PRE-sarja Hygien Plan'!$G$4))))/49.8329)^Blad1!$G$15 -> 92.676763
B12: 500 | C12: =Blad1!B10*((('PRE-sarja Hygien Plan'!$C$4-'PRE-sarja Hygien Plan'!$E$4)/(LN(('PRE-sarja Hygien Plan'!$C$4-'PRE-sarja Hygien Plan'!$G$4)/('PRE-sarja Hygien Plan'!$E$4-'PRE-sarja Hygien Plan'!$G$4))))/49.8329)^Blad1!$C$15 -> 44.594117 | D12: =Blad1!D10*((('PRE-sarja Hygien Plan'!$C$4-'PRE-sarja Hygien Plan'!$E$4)/(LN(('PRE-sarja Hygien Plan'!$C$4-'PRE-sarja Hygien Plan'!$G$4)/('PRE-sarja Hygien Plan'!$E$4-'PRE-sarja Hygien Plan'!$G$4))))/49.8329)^Blad1!$E$15 -> 77.425715 | E12: =Blad1!F10*((('PRE-sarja Hygien Plan'!$C$4-'PRE-sarja Hygien Plan'!$E$4)/(LN(('PRE-sarja Hygien Plan'!$C$4-'PRE-sarja Hygien Plan'!$G$4)/('PRE-sarja Hygien Plan'!$E$4-'PRE-sarja Hygien Plan'!$G$4))))/49.8329)^Blad1!$G$15 -> 115.84595
B13: 600 | C13: =Blad1!B11*((('PRE-sarja Hygien Plan'!$C$4-'PRE-sarja Hygien Plan'!$E$4)/(LN(('PRE-sarja Hygien Plan'!$C$4-'PRE-sarja Hygien Plan'!$G$4)/('PRE-sarja Hygien Plan'!$E$4-'PRE-sarja Hygien Plan'!$G$4))))/49.8329)^Blad1!$C$15 -> 53.512941 | D13: =Blad1!D11*((('PRE-sarja Hygien Plan'!$C$4-'PRE-sarja Hygien Plan'!$E$4)/(LN(('PRE-sarja Hygien Plan'!$C$4-'PRE-sarja Hygien Plan'!$G$4)/('PRE-sarja Hygien Plan'!$E$4-'PRE-sarja Hygien Plan'!$G$4))))/49.8329)^Blad1!$E$15 -> 92.910858 | E13: =Blad1!F11*((('PRE-sarja Hygien Plan'!$C$4-'PRE-sarja Hygien Plan'!$E$4)/(LN(('PRE-sarja Hygien Plan'!$C$4-'PRE-sarja Hygien Plan'!$G$4)/('PRE-sarja Hygien Plan'!$E$4-'PRE-sarja Hygien Plan'!$G$4))))/49.8329)^Blad1!$G$15 -> 139.01515
B14: 700 | C14: =Blad1!B12*((('PRE-sarja Hygien Plan'!$C$4-'PRE-sarja Hygien Plan'!$E$4)/(LN(('PRE-sarja Hygien Plan'!$C$4-'PRE-sarja Hygien Plan'!$G$4)/('PRE-sarja Hygien Plan'!$E$4-'PRE-sarja Hygien Plan'!$G$4))))/49.8329)^Blad1!$C$15 -> 62.431764 | D14: =Blad1!D12*((('PRE-sarja Hygien Plan'!$C$4-'PRE-sarja Hygien Plan'!$E$4)/(LN(('PRE-sarja Hygien Plan'!$C$4-'PRE-sarja Hygien Plan'!$G$4)/('PRE-sarja Hygien Plan'!$E$4-'PRE-sarja Hygien Plan'!$G$4))))/49.8329)^Blad1!$E$15 -> 108.396 | E14: =Blad1!F12*((('PRE-sarja Hygien Plan'!$C$4-'PRE-sarja Hygien Plan'!$E$4)/(LN(('PRE-sarja Hygien Plan'!$C$4-'PRE-sarja Hygien Plan'!$G$4)/('PRE-sarja Hygien Plan'!$E$4-'PRE-sarja Hygien Plan'!$G$4))))/49.8329)^Blad1!$G$15 -> 162.18434
B15: 800 | C15: =Blad1!B13*((('PRE-sarja Hygien Plan'!$C$4-'PRE-sarja Hygien Plan'!$E$4)/(LN(('PRE-sarja Hygien Plan'!$C$4-'PRE-sarja Hygien Plan'!$G$4)/('PRE-sarja Hygien Plan'!$E$4-'PRE-sarja Hygien Plan'!$G$4))))/49.8329)^Blad1!$C$15 -> 71.350588 | D15: =Blad1!D13*((('PRE-sarja Hygien Plan'!$C$4-'PRE-sarja Hygien Plan'!$E$4)/(LN(('PRE-sarja Hygien Plan'!$C$4-'PRE-sarja Hygien Plan'!$G$4)/('PRE-sarja Hygien Plan'!$E$4-'PRE-sarja Hygien Plan'!$G$4))))/49.8329)^Blad1!$E$15 -> 123.88114 | E15: =Blad1!F13*((('PRE-sarja Hygien Plan'!$C$4-'PRE-sarja Hygien Plan'!$E$4)/(LN(('PRE-sarja Hygien Plan'!$C$4-'PRE-sarja Hygien Plan'!$G$4)/('PRE-sarja Hygien Plan'!$E$4-'PRE-sarja Hygien Plan'!$G$4))))/49.8329)^Blad1!$G$15 -> 185.35353
B16: 900 | C16: =Blad1!B14*((('PRE-sarja Hygien Plan'!$C$4-'PRE-sarja Hygien Plan'!$E$4)/(LN(('PRE-sarja Hygien Plan'!$C$4-'PRE-sarja Hygien Plan'!$G$4)/('PRE-sarja Hygien Plan'!$E$4-'PRE-sarja Hygien Plan'!$G$4))))/49.8329)^Blad1!$C$15 -> 80.269411 | D16: =Blad1!D14*((('PRE-sarja Hygien Plan'!$C$4-'PRE-sarja Hygien Plan'!$E$4)/(LN(('PRE-sarja Hygien Plan'!$C$4-'PRE-sarja Hygien Plan'!$G$4)/('PRE-sarja Hygien Plan'!$E$4-'PRE-sarja Hygien Plan'!$G$4))))/49.8329)^Blad1!$E$15 -> 139.36629 | E16: =Blad1!F14*((('PRE-sarja Hygien Plan'!$C$4-'PRE-sarja Hygien Plan'!$E$4)/(LN(('PRE-sarja Hygien Plan'!$C$4-'PRE-sarja Hygien Plan'!$G$4)/('PRE-sarja Hygien Plan'!$E$4-'PRE-sarja Hygien Plan'!$G$4))))/49.8329)^Blad1!$G$15 -> 208.52272
B17: 1000 | C17: =Blad1!B15*((('PRE-sarja Hygien Plan'!$C$4-'PRE-sarja Hygien Plan'!$E$4)/(LN(('PRE-sarja Hygien Plan'!$C$4-'PRE-sarja Hygien Plan'!$G$4)/('PRE-sarja Hygien Plan'!$E$4-'PRE-sarja Hygien Plan'!$G$4))))/49.8329)^Blad1!$C$15 -> 89.188234 | D17: =Blad1!D15*((('PRE-sarja Hygien Plan'!$C$4-'PRE-sarja Hygien Plan'!$E$4)/(LN(('PRE-sarja Hygien Plan'!$C$4-'PRE-sarja Hygien Plan'!$G$4)/('PRE-sarja Hygien Plan'!$E$4-'PRE-sarja Hygien Plan'!$G$4))))/49.8329)^Blad1!$E$15 -> 154.85143 | E17: =Blad1!F15*((('PRE-sarja Hygien Plan'!$C$4-'PRE-sarja Hygien Plan'!$E$4)/(LN(('PRE-sarja Hygien Plan'!$C$4-'PRE-sarja Hygien Plan'!$G$4)/('PRE-sarja Hygien Plan'!$E$4-'PRE-sarja Hygien Plan'!$G$4))))/49.8329)^Blad1!$G$15 -> 231.69191
B18: 1100 | C18: =Blad1!B16*((('PRE-sarja Hygien Plan'!$C$4-'PRE-sarja Hygien Plan'!$E$4)/(LN(('PRE-sarja Hygien Plan'!$C$4-'PRE-sarja Hygien Plan'!$G$4)/('PRE-sarja Hygien Plan'!$E$4-'PRE-sarja Hygien Plan'!$G$4))))/49.8329)^Blad1!$C$15 -> 98.107058 | D18: =Blad1!D16*((('PRE-sarja Hygien Plan'!$C$4-'PRE-sarja Hygien Plan'!$E$4)/(LN(('PRE-sarja Hygien Plan'!$C$4-'PRE-sarja Hygien Plan'!$G$4)/('PRE-sarja Hygien Plan'!$E$4-'PRE-sarja Hygien Plan'!$G$4))))/49.8329)^Blad1!$E$15 -> 170.33657 | E18: =Blad1!F16*((('PRE-sarja Hygien Plan'!$C$4-'PRE-sarja Hygien Plan'!$E$4)/(LN(('PRE-sarja Hygien Plan'!$C$4-'PRE-sarja Hygien Plan'!$G$4)/('PRE-sarja Hygien Plan'!$E$4-'PRE-sarja Hygien Plan'!$G$4))))/49.8329)^Blad1!$G$15 -> 254.8611
B19: 1200 | C19: =Blad1!B17*((('PRE-sarja Hygien Plan'!$C$4-'PRE-sarja Hygien Plan'!$E$4)/(LN(('PRE-sarja Hygien Plan'!$C$4-'PRE-sarja Hygien Plan'!$G$4)/('PRE-sarja Hygien Plan'!$E$4-'PRE-sarja Hygien Plan'!$G$4))))/49.8329)^Blad1!$C$15 -> 107.02588 | D19: =Blad1!D17*((('PRE-sarja Hygien Plan'!$C$4-'PRE-sarja Hygien Plan'!$E$4)/(LN(('PRE-sarja Hygien Plan'!$C$4-'PRE-sarja Hygien Plan'!$G$4)/('PRE-sarja Hygien Plan'!$E$4-'PRE-sarja Hygien Plan'!$G$4))))/49.8329)^Blad1!$E$15 -> 185.82172 | E19: =Blad1!F17*((('PRE-sarja Hygien Plan'!$C$4-'PRE-sarja Hygien Plan'!$E$4)/(LN(('PRE-sarja Hygien Plan'!$C$4-'PRE-sarja Hygien Plan'!$G$4)/('PRE-sarja Hygien Plan'!$E$4-'PRE-sarja Hygien Plan'!$G$4))))/49.8329)^Blad1!$G$15 -> 278.03029
B20: 1300 | C20: =Blad1!B18*((('PRE-sarja Hygien Plan'!$C$4-'PRE-sarja Hygien Plan'!$E$4)/(LN(('PRE-sarja Hygien Plan'!$C$4-'PRE-sarja Hygien Plan'!$G$4)/('PRE-sarja Hygien Plan'!$E$4-'PRE-sarja Hygien Plan'!$G$4))))/49.8329)^Blad1!$C$15 -> 115.9447 | D20: =Blad1!D18*((('PRE-sarja Hygien Plan'!$C$4-'PRE-sarja Hygien Plan'!$E$4)/(LN(('PRE-sarja Hygien Plan'!$C$4-'PRE-sarja Hygien Plan'!$G$4)/('PRE-sarja Hygien Plan'!$E$4-'PRE-sarja Hygien Plan'!$G$4))))/49.8329)^Blad1!$E$15 -> 201.30686 | E20: =Blad1!F18*((('PRE-sarja Hygien Plan'!$C$4-'PRE-sarja Hygien Plan'!$E$4)/(LN(('PRE-sarja Hygien Plan'!$C$4-'PRE-sarja Hygien Plan'!$G$4)/('PRE-sarja Hygien Plan'!$E$4-'PRE-sarja Hygien Plan'!$G$4))))/49.8329)^Blad1!$G$15 -> 301.19948
B21: 1400 | C21: =Blad1!B19*((('PRE-sarja Hygien Plan'!$C$4-'PRE-sarja Hygien Plan'!$E$4)/(LN(('PRE-sarja Hygien Plan'!$C$4-'PRE-sarja Hygien Plan'!$G$4)/('PRE-sarja Hygien Plan'!$E$4-'PRE-sarja Hygien Plan'!$G$4))))/49.8329)^Blad1!$C$15 -> 124.86353 | D21: =Blad1!D19*((('PRE-sarja Hygien Plan'!$C$4-'PRE-sarja Hygien Plan'!$E$4)/(LN(('PRE-sarja Hygien Plan'!$C$4-'PRE-sarja Hygien Plan'!$G$4)/('PRE-sarja Hygien Plan'!$E$4-'PRE-sarja Hygien Plan'!$G$4))))/49.8329)^Blad1!$E$15 -> 216.792 | E21: =Blad1!F19*((('PRE-sarja Hygien Plan'!$C$4-'PRE-sarja Hygien Plan'!$E$4)/(LN(('PRE-sarja Hygien Plan'!$C$4-'PRE-sarja Hygien Plan'!$G$4)/('PRE-sarja Hygien Plan'!$E$4-'PRE-sarja Hygien Plan'!$G$4))))/49.8329)^Blad1!$G$15 -> 324.36867
B22: 1500 | C22: =Blad1!B20*((('PRE-sarja Hygien Plan'!$C$4-'PRE-sarja Hygien Plan'!$E$4)/(LN(('PRE-sarja Hygien Plan'!$C$4-'PRE-sarja Hygien Plan'!$G$4)/('PRE-sarja Hygien Plan'!$E$4-'PRE-sarja Hygien Plan'!$G$4))))/49.8329)^Blad1!$C$15 -> 133.78235 | D22: =Blad1!D20*((('PRE-sarja Hygien Plan'!$C$4-'PRE-sarja Hygien Plan'!$E$4)/(LN(('PRE-sarja Hygien Plan'!$C$4-'PRE-sarja Hygien Plan'!$G$4)/('PRE-sarja Hygien Plan'!$E$4-'PRE-sarja Hygien Plan'!$G$4))))/49.8329)^Blad1!$E$15 -> 232.27715 | E22: =Blad1!F20*((('PRE-sarja Hygien Plan'!$C$4-'PRE-sarja Hygien Plan'!$E$4)/(LN(('PRE-sarja Hygien Plan'!$C$4-'PRE-sarja Hygien Plan'!$G$4)/('PRE-sarja Hygien Plan'!$E$4-'PRE-sarja Hygien Plan'!$G$4))))/49.8329)^Blad1!$G$15 -> 347.53786
... B29: 3000 | C29: =Blad1!B27*((('PRE-sarja Hygien Plan'!$C$4-'PRE-sarja Hygien Plan'!$E$4)/(LN(('PRE-sarja Hygien Plan'!$C$4-'PRE-sarja Hygien Plan'!$G$4)/('PRE-sarja Hygien Plan'!$E$4-'PRE-sarja Hygien Plan'!$G$4))))/49.8329)^Blad1!$C$15 -> 267.5647 | D29: =Blad1!D27*((('PRE-sarja Hygien Plan'!$C$4-'PRE-sarja Hygien Plan'!$E$4)/(LN(('PRE-sarja Hygien Plan'!$C$4-'PRE-sarja Hygien Plan'!$G$4)/('PRE-sarja Hygien Plan'!$E$4-'PRE-sarja Hygien Plan'!$G$4))))/49.8329)^Blad1!$E$15 -> 464.55429 | E29: =Blad1!F27*((('PRE-sarja Hygien Plan'!$C$4-'PRE-sarja Hygien Plan'!$E$4)/(LN(('PRE-sarja Hygien Plan'!$C$4-'PRE-sarja Hygien Plan'!$G$4)/('PRE-sarja Hygien Plan'!$E$4-'PRE-sarja Hygien Plan'!$G$4))))/49.8329)^Blad1!$G$15 -> 695.07573
B31: Korkeus 300
C32: Teho (W)
B33: Pituus (mm) | C33: 10 | D33: 20 | E33: 30
B34: 400 | C34: =Blad1!B32*((('PRE-sarja Hygien Plan'!$C$4-'PRE-sarja Hygien Plan'!$E$4)/(LN(('PRE-sarja Hygien Plan'!$C$4-'PRE-sarja Hygien Plan'!$G$4)/('PRE-sarja Hygien Plan'!$E$4-'PRE-sarja Hygien Plan'!$G$4))))/49.8329)^Blad1!$C$38 -> 48.36611 | D34: =Blad1!D32*((('PRE-sarja Hygien Plan'!$C$4-'PRE-sarja Hygien Plan'!$E$4)/(LN(('PRE-sarja Hygien Plan'!$C$4-'PRE-sarja Hygien Plan'!$G$4)/('PRE-sarja Hygien Plan'!$E$4-'PRE-sarja Hygien Plan'!$G$4))))/49.8329)^Blad1!$E$38 -> 85.824396 | E34: =Blad1!F32*((('PRE-sarja Hygien Plan'!$C$4-'PRE-sarja Hygien Plan'!$E$4)/(LN(('PRE-sarja Hygien Plan'!$C$4-'PRE-sarja Hygien Plan'!$G$4)/('PRE-sarja Hygien Plan'!$E$4-'PRE-sarja Hygien Plan'!$G$4))))/49.8329)^Blad1!$G$38 -> 129.84751
B35: 500 | C35: =Blad1!B33*((('PRE-sarja Hygien Plan'!$C$4-'PRE-sarja Hygien Plan'!$E$4)/(LN(('PRE-sarja Hygien Plan'!$C$4-'PRE-sarja Hygien Plan'!$G$4)/('PRE-sarja Hygien Plan'!$E$4-'PRE-sarja Hygien Plan'!$G$4))))/49.8329)^Blad1!$C$38 -> 60.457637 | D35: =Blad1!D33*((('PRE-sarja Hygien Plan'!$C$4-'PRE-sarja Hygien Plan'!$E$4)/(LN(('PRE-sarja Hygien Plan'!$C$4-'PRE-sarja Hygien Plan'!$G$4)/('PRE-sarja Hygien Plan'!$E$4-'PRE-sarja Hygien Plan'!$G$4))))/49.8329)^Blad1!$E$38 -> 107.28049 | E35: =Blad1!F33*((('PRE-sarja Hygien Plan'!$C$4-'PRE-sarja Hygien Plan'!$E$4)/(LN(('PRE-sarja Hygien Plan'!$C$4-'PRE-sarja Hygien Plan'!$G$4)/('PRE-sarja Hygien Plan'!$E$4-'PRE-sarja Hygien Plan'!$G$4))))/49.8329)^Blad1!$G$38 -> 162.30939
B36: 600 | C36: =Blad1!B34*((('PRE-sarja Hygien Plan'!$C$4-'PRE-sarja Hygien Plan'!$E$4)/(LN(('PRE-sarja Hygien Plan'!$C$4-'PRE-sarja Hygien Plan'!$G$4)/('PRE-sarja Hygien Plan'!$E$4-'PRE-sarja Hygien Plan'!$G$4))))/49.8329)^Blad1!$C$38 -> 72.549165 | D36: =Blad1!D34*((('PRE-sarja Hygien Plan'!$C$4-'PRE-sarja Hygien Plan'!$E$4)/(LN(('PRE-sarja Hygien Plan'!$C$4-'PRE-sarja Hygien Plan'!$G$4)/('PRE-sarja Hygien Plan'!$E$4-'PRE-sarja Hygien Plan'!$G$4))))/49.8329)^Blad1!$E$38 -> 128.73659 | E36: =Blad1!F34*((('PRE-sarja Hygien Plan'!$C$4-'PRE-sarja Hygien Plan'!$E$4)/(LN(('PRE-sarja Hygien Plan'!$C$4-'PRE-sarja Hygien Plan'!$G$4)/('PRE-sarja Hygien Plan'!$E$4-'PRE-sarja Hygien Plan'!$G$4))))/49.8329)^Blad1!$G$38 -> 194.77127
B37: 700 | C37: =Blad1!B35*((('PRE-sarja Hygien Plan'!$C$4-'PRE-sarja Hygien Plan'!$E$4)/(LN(('PRE-sarja Hygien Plan'!$C$4-'PRE-sarja Hygien Plan'!$G$4)/('PRE-sarja Hygien Plan'!$E$4-'PRE-sarja Hygien Plan'!$G$4))))/49.8329)^Blad1!$C$38 -> 84.640692 | D37: =Blad1!D35*((('PRE-sarja Hygien Plan'!$C$4-'PRE-sarja Hygien Plan'!$E$4)/(LN(('PRE-sarja Hygien Plan'!$C$4-'PRE-sarja Hygien Plan'!$G$4)/('PRE-sarja Hygien Plan'!$E$4-'PRE-sarja Hygien Plan'!$G$4))))/49.8329)^Blad1!$E$38 -> 150.19269 | E37: =Blad1!F35*((('PRE-sarja Hygien Plan'!$C$4-'PRE-sarja Hygien Plan'!$E$4)/(LN(('PRE-sarja Hygien Plan'!$C$4-'PRE-sarja Hygien Plan'!$G$4)/('PRE-sarja Hygien Plan'!$E$4-'PRE-sarja Hygien Plan'!$G$4))))/49.8329)^Blad1!$G$38 -> 227.23314
B38: 800 | C38: =Blad1!B36*((('PRE-sarja Hygien Plan'!$C$4-'PRE-sarja Hygien Plan'!$E$4)/(LN(('PRE-sarja Hygien Plan'!$C$4-'PRE-sarja Hygien Plan'!$G$4)/('PRE-sarja Hygien Plan'!$E$4-'PRE-sarja Hygien Plan'!$G$4))))/49.8329)^Blad1!$C$38 -> 96.73222 | D38: =Blad1!D36*((('PRE-sarja Hygien Plan'!$C$4-'PRE-sarja Hygien Plan'!$E$4)/(LN(('PRE-sarja Hygien Plan'!$C$4-'PRE-sarja Hygien Plan'!$G$4)/('PRE-sarja Hygien Plan'!$E$4-'PRE-sarja Hygien Plan'!$G$4))))/49.8329)^Blad1!$E$38 -> 171.64879 | E38: =Blad1!F36*((('PRE-sarja Hygien Plan'!$C$4-'PRE-sarja Hygien Plan'!$E$4)/(LN(('PRE-sarja Hygien Plan'!$C$4-'PRE-sarja Hygien Plan'!$G$4)/('PRE-sarja Hygien Plan'!$E$4-'PRE-sarja Hygien Plan'!$G$4))))/49.8329)^Blad1!$G$38 -> 259.69502
B39: 900 | C39: =Blad1!B37*((('PRE-sarja Hygien Plan'!$C$4-'PRE-sarja Hygien Plan'!$E$4)/(LN(('PRE-sarja Hygien Plan'!$C$4-'PRE-sarja Hygien Plan'!$G$4)/('PRE-sarja Hygien Plan'!$E$4-'PRE-sarja Hygien Plan'!$G$4))))/49.8329)^Blad1!$C$38 -> 108.82375 | D39: =Blad1!D37*((('PRE-sarja Hygien Plan'!$C$4-'PRE-sarja Hygien Plan'!$E$4)/(LN(('PRE-sarja Hygien Plan'!$C$4-'PRE-sarja Hygien Plan'!$G$4)/('PRE-sarja Hygien Plan'!$E$4-'PRE-sarja Hygien Plan'!$G$4))))/49.8329)^Blad1!$E$38 -> 193.10489 | E39: =Blad1!F37*((('PRE-sarja Hygien Plan'!$C$4-'PRE-sarja Hygien Plan'!$E$4)/(LN(('PRE-sarja Hygien Plan'!$C$4-'PRE-sarja Hygien Plan'!$G$4)/('PRE-sarja Hygien Plan'!$E$4-'PRE-sarja Hygien Plan'!$G$4))))/49.8329)^Blad1!$G$38 -> 292.1569
B40: 1000 | C40: =Blad1!B38*((('PRE-sarja Hygien Plan'!$C$4-'PRE-sarja Hygien Plan'!$E$4)/(LN(('PRE-sarja Hygien Plan'!$C$4-'PRE-sarja Hygien Plan'!$G$4)/('PRE-sarja Hygien Plan'!$E$4-'PRE-sarja Hygien Plan'!$G$4))))/49.8329)^Blad1!$C$38 -> 120.91527 | D40: =Blad1!D38*((('PRE-sarja Hygien Plan'!$C$4-'PRE-sarja Hygien Plan'!$E$4)/(LN(('PRE-sarja Hygien Plan'!$C$4-'PRE-sarja Hygien Plan'!$G$4)/('PRE-sarja Hygien Plan'!$E$4-'PRE-sarja Hygien Plan'!$G$4))))/49.8329)^Blad1!$E$38 -> 214.56099 | E40: =Blad1!F38*((('PRE-sarja Hygien Plan'!$C$4-'PRE-sarja Hygien Plan'!$E$4)/(LN(('PRE-sarja Hygien Plan'!$C$4-'PRE-sarja Hygien Plan'!$G$4)/('PRE-sarja Hygien Plan'!$E$4-'PRE-sarja Hygien Plan'!$G$4))))/49.8329)^Blad1!$G$38 -> 324.61878
B41: 1100 | C41: =Blad1!B39*((('PRE-sarja Hygien Plan'!$C$4-'PRE-sarja Hygien Plan'!$E$4)/(LN(('PRE-sarja Hygien Plan'!$C$4-'PRE-sarja Hygien Plan'!$G$4)/('PRE-sarja Hygien Plan'!$E$4-'PRE-sarja Hygien Plan'!$G$4))))/49.8329)^Blad1!$C$38 -> 133.0068 | D41: =Blad1!D39*((('PRE-sarja Hygien Plan'!$C$4-'PRE-sarja Hygien Plan'!$E$4)/(LN(('PRE-sarja Hygien Plan'!$C$4-'PRE-sarja Hygien Plan'!$G$4)/('PRE-sarja Hygien Plan'!$E$4-'PRE-sarja Hygien Plan'!$G$4))))/49.8329)^Blad1!$E$38 -> 236.01709 | E41: =Blad1!F39*((('PRE-sarja Hygien Plan'!$C$4-'PRE-sarja Hygien Plan'!$E$4)/(LN(('PRE-sarja Hygien Plan'!$C$4-'PRE-sarja Hygien Plan'!$G$4)/('PRE-sarja Hygien Plan'!$E$4-'PRE-sarja Hygien Plan'!$G$4))))/49.8329)^Blad1!$G$38 -> 357.08066
B42: 1200 | C42: =Blad1!B40*((('PRE-sarja Hygien Plan'!$C$4-'PRE-sarja Hygien Plan'!$E$4)/(LN(('PRE-sarja Hygien Plan'!$C$4-'PRE-sarja Hygien Plan'!$G$4)/('PRE-sarja Hygien Plan'!$E$4-'PRE-sarja Hygien Plan'!$G$4))))/49.8329)^Blad1!$C$38 -> 145.09833 | D42: =Blad1!D40*((('PRE-sarja Hygien Plan'!$C$4-'PRE-sarja Hygien Plan'!$E$4)/(LN(('PRE-sarja Hygien Plan'!$C$4-'PRE-sarja Hygien Plan'!$G$4)/('PRE-sarja Hygien Plan'!$E$4-'PRE-sarja Hygien Plan'!$G$4))))/49.8329)^Blad1!$E$38 -> 257.47319 | E42: =Blad1!F40*((('PRE-sarja Hygien Plan'!$C$4-'PRE-sarja Hygien Plan'!$E$4)/(LN(('PRE-sarja Hygien Plan'!$C$4-'PRE-sarja Hygien Plan'!$G$4)/('PRE-sarja Hygien Plan'!$E$4-'PRE-sarja Hygien Plan'!$G$4))))/49.8329)^Blad1!$G$38 -> 389.54253
B43: 1300 | C43: =Blad1!B41*((('PRE-sarja Hygien Plan'!$C$4-'PRE-sarja Hygien Plan'!$E$4)/(LN(('PRE-sarja Hygien Plan'!$C$4-'PRE-sarja Hygien Plan'!$G$4)/('PRE-sarja Hygien Plan'!$E$4-'PRE-sarja Hygien Plan'!$G$4))))/49.8329)^Blad1!$C$38 -> 157.18986 | D43: =Blad1!D41*((('PRE-sarja Hygien Plan'!$C$4-'PRE-sarja Hygien Plan'!$E$4)/(LN(('PRE-sarja Hygien Plan'!$C$4-'PRE-sarja Hygien Plan'!$G$4)/('PRE-sarja Hygien Plan'!$E$4-'PRE-sarja Hygien Plan'!$G$4))))/49.8329)^Blad1!$E$38 -> 278.92929 | E43: =Blad1!F41*((('PRE-sarja Hygien Plan'!$C$4-'PRE-sarja Hygien Plan'!$E$4)/(LN(('PRE-sarja Hygien Plan'!$C$4-'PRE-sarja Hygien Plan'!$G$4)/('PRE-sarja Hygien Plan'!$E$4-'PRE-sarja Hygien Plan'!$G$4))))/49.8329)^Blad1!$G$38 -> 422.00441
B44: 1400 | C44: =Blad1!B42*((('PRE-sarja Hygien Plan'!$C$4-'PRE-sarja Hygien Plan'!$E$4)/(LN(('PRE-sarja Hygien Plan'!$C$4-'PRE-sarja Hygien Plan'!$G$4)/('PRE-sarja Hygien Plan'!$E$4-'PRE-sarja Hygien Plan'!$G$4))))/49.8329)^Blad1!$C$38 -> 169.28138 | D44: =Blad1!D42*((('PRE-sarja Hygien Plan'!$C$4-'PRE-sarja Hygien Plan'!$E$4)/(LN(('PRE-sarja Hygien Plan'!$C$4-'PRE-sarja Hygien Plan'!$G$4)/('PRE-sarja Hygien Plan'!$E$4-'PRE-sarja Hygien Plan'!$G$4))))/49.8329)^Blad1!$E$38 -> 300.38539 | E44: =Blad1!F42*((('PRE-sarja Hygien Plan'!$C$4-'PRE-sarja Hygien Plan'!$E$4)/(LN(('PRE-sarja Hygien Plan'!$C$4-'PRE-sarja Hygien Plan'!$G$4)/('PRE-sarja Hygien Plan'!$E$4-'PRE-sarja Hygien Plan'!$G$4))))/49.8329)^Blad1!$G$38 -> 454.46629
B45: 1500 | C45: =Blad1!B43*((('PRE-sarja Hygien Plan'!$C$4-'PRE-sarja Hygien Plan'!$E$4)/(LN(('PRE-sarja Hygien Plan'!$C$4-'PRE-sarja Hygien Plan'!$G$4)/('PRE-sarja Hygien Plan'!$E$4-'PRE-sarja Hygien Plan'!$G$4))))/49.8329)^Blad1!$C$38 -> 181.37291 | D45: =Blad1!D43*((('PRE-sarja Hygien Plan'!$C$4-'PRE-sarja Hygien Plan'!$E$4)/(LN(('PRE-sarja Hygien Plan'!$C$4-'PRE-sarja Hygien Plan'!$G$4)/('PRE-sarja Hygien Plan'!$E$4-'PRE-sarja Hygien Plan'!$G$4))))/49.8329)^Blad1!$E$38 -> 321.84148 | E45: =Blad1!F43*((('PRE-sarja Hygien Plan'!$C$4-'PRE-sarja Hygien Plan'!$E$4)/(LN(('PRE-sarja Hygien Plan'!$C$4-'PRE-sarja Hygien Plan'!$G$4)/('PRE-sarja Hygien Plan'!$E$4-'PRE-sarja Hygien Plan'!$G$4))))/49.8329)^Blad1!$G$38 -> 486.92817
... B52: 3000 | C52: =Blad1!B50*((('PRE-sarja Hygien Plan'!$C$4-'PRE-sarja Hygien Plan'!$E$4)/(LN(('PRE-sarja Hygien Plan'!$C$4-'PRE-sarja Hygien Plan'!$G$4)/('PRE-sarja Hygien Plan'!$E$4-'PRE-sarja Hygien Plan'!$G$4))))/49.8329)^Blad1!$C$38 -> 362.74582 | D52: =Blad1!D50*((('PRE-sarja Hygien Plan'!$C$4-'PRE-sarja Hygien Plan'!$E$4)/(LN(('PRE-sarja Hygien Plan'!$C$4-'PRE-sarja Hygien Plan'!$G$4)/('PRE-sarja Hygien Plan'!$E$4-'PRE-sarja Hygien Plan'!$G$4))))/49.8329)^Blad1!$E$38 -> 643.68297 | E52: =Blad1!F50*((('PRE-sarja Hygien Plan'!$C$4-'PRE-sarja Hygien Plan'!$E$4)/(LN(('PRE-sarja Hygien Plan'!$C$4-'PRE-sarja Hygien Plan'!$G$4)/('PRE-sarja Hygien Plan'!$E$4-'PRE-sarja Hygien Plan'!$G$4))))/49.8329)^Blad1!$G$38 -> 973.85634
B54: Korkeus 400
C55: Teho (W)
B56: Pituus (mm) | C56: 10 | D56: 20 | E56: 30
B57: 400 | C57: =Blad1!B55*((('PRE-sarja Hygien Plan'!$C$4-'PRE-sarja Hygien Plan'!$E$4)/(LN(('PRE-sarja Hygien Plan'!$C$4-'PRE-sarja Hygien Plan'!$G$4)/('PRE-sarja Hygien Plan'!$E$4-'PRE-sarja Hygien Plan'!$G$4))))/49.8329)^Blad1!$C$61 -> 59.223808 | D57: =Blad1!D55*((('PRE-sarja Hygien Plan'!$C$4-'PRE-sarja Hygien Plan'!$E$4)/(LN(('PRE-sarja Hygien Plan'!$C$4-'PRE-sarja Hygien Plan'!$G$4)/('PRE-sarja Hygien Plan'!$E$4-'PRE-sarja Hygien Plan'!$G$4))))/49.8329)^Blad1!$E$61 -> 109.3318 | E57: =Blad1!F55*((('PRE-sarja Hygien Plan'!$C$4-'PRE-sarja Hygien Plan'!$E$4)/(LN(('PRE-sarja Hygien Plan'!$C$4-'PRE-sarja Hygien Plan'!$G$4)/('PRE-sarja Hygien Plan'!$E$4-'PRE-sarja Hygien Plan'!$G$4))))/49.8329)^Blad1!$G$61 -> 159.60996
B58: 500 | C58: =Blad1!B56*((('PRE-sarja Hygien Plan'!$C$4-'PRE-sarja Hygien Plan'!$E$4)/(LN(('PRE-sarja Hygien Plan'!$C$4-'PRE-sarja Hygien Plan'!$G$4)/('PRE-sarja Hygien Plan'!$E$4-'PRE-sarja Hygien Plan'!$G$4))))/49.8329)^Blad1!$C$61 -> 74.02976 | D58: =Blad1!D56*((('PRE-sarja Hygien Plan'!$C$4-'PRE-sarja Hygien Plan'!$E$4)/(LN(('PRE-sarja Hygien Plan'!$C$4-'PRE-sarja Hygien Plan'!$G$4)/('PRE-sarja Hygien Plan'!$E$4-'PRE-sarja Hygien Plan'!$G$4))))/49.8329)^Blad1!$E$61 -> 136.66475 | E58: =Blad1!F56*((('PRE-sarja Hygien Plan'!$C$4-'PRE-sarja Hygien Plan'!$E$4)/(LN(('PRE-sarja Hygien Plan'!$C$4-'PRE-sarja Hygien Plan'!$G$4)/('PRE-sarja Hygien Plan'!$E$4-'PRE-sarja Hygien Plan'!$G$4))))/49.8329)^Blad1!$G$61 -> 199.51245
...

Sheet Blad1
A6: Höjd 200
B7: 10 | D7: 20 | F7: 30 | H7: 43423 | I7: En mätning utförd: 20-410 och dess data är ifylld.
A8: Längd (mm) | B8: Effekt | C8: n | D8: Effekt | E8: n | F8: Effekt | G8: n | I8: Resterande data är samma som I40H
A9: 400 | B9: =$B$15*A9/1000 -> 101.2 | D9: =$D$15*$A9/1000 -> 176 | F9: =$F$15*$A9/1000 -> 254.8 | I9: Typ 10 är samma som PRE Serie typ 10
A10: 500 | B10: =$B$15*A10/1000 -> 126.5 | D10: =$D$15*$A10/1000 -> 220 | F10: =$F$15*$A10/1000 -> 318.5
A11: 600 | B11: =$B$15*A11/1000 -> 151.8 | D11: =$D$15*$A11/1000 -> 264 | F11: =$F$15*$A11/1000 -> 382.2
A12: 700 | B12: =$B$15*A12/1000 -> 177.1 | D12: =$D$15*$A12/1000 -> 308 | F12: =$F$15*$A12/1000 -> 445.9
A13: 800 | B13: =$B$15*A13/1000 -> 202.4 | D13: =$D$15*$A13/1000 -> 352 | F13: =$F$15*$A13/1000 -> 509.6
A14: 900 | B14: =$B$15*A14/1000 -> 227.7 | D14: =$D$15*$A14/1000 -> 396 | F14: =$F$15*$A14/1000 -> 573.3
A15: 1000 | B15: 253 | C15: 1.25 | D15: 440 | E15: 1.252 | F15: 637 | G15: 1.2125
A16: 1100 | B16: =$B$15*A16/1000 -> 278.3 | D16: =$D$15*$A16/1000 -> 484 | F16: =$F$15*$A16/1000 -> 700.7
A17: 1200 | B17: =$B$15*A17/1000 -> 303.6 | D17: =$D$15*$A17/1000 -> 528 | F17: =$F$15*$A17/1000 -> 764.4
A18: 1300 | B18: =$B$15*A18/1000 -> 328.9 | D18: =$D$15*$A18/1000 -> 572 | F18: =$F$15*$A18/1000 -> 828.1
A19: 1400 | B19: =$B$15*A19/1000 -> 354.2 | D19: =$D$15*$A19/1000 -> 616 | F19: =$F$15*$A19/1000 -> 891.8
A20: 1500 | B20: =$B$15*A20/1000 -> 379.5 | D20: =$D$15*$A20/1000 -> 660 | F20: =$F$15*$A20/1000 -> 955.5
A21: 1600 | B21: =$B$15*A21/1000 -> 404.8 | D21: =$D$15*$A21/1000 -> 704 | F21: =$F$15*$A21/1000 -> 1019.2
A22: 1700 | B22: =$B$15*A22/1000 -> 430.1 | D22: =$D$15*$A22/1000 -> 748 | F22: =$F$15*$A22/1000 -> 1082.9
A23: 1800 | B23: =$B$15*A23/1000 -> 455.4 | D23: =$D$15*$A23/1000 -> 792 | F23: =$F$15*$A23/1000 -> 1146.6
A24: 2000 | B24: =$B$15*A24/1000 -> 506 | D24: =$D$15*$A24/1000 -> 880 | F24: =$F$15*$A24/1000 -> 1274
A25: 2300 | B25: =$B$15*A25/1000 -> 581.9 | D25: =$D$15*$A25/1000 -> 1012 | F25: =$F$15*$A25/1000 -> 1465.1
A26: 2600 | B26: =$B$15*A26/1000 -> 657.8 | D26: =$D$15*$A26/1000 -> 1144 | F26: =$F$15*$A26/1000 -> 1656.2
A27: 3000 | B27: =$B$15*A27/1000 -> 759 | D27: =$D$15*$A27/1000 -> 1320 | F27: =$F$15*$A27/1000 -> 1911
A29: Höjd 300
B30: 10 | D30: 20 | F30: 30
A31: Längd (mm) | B31: Effekt | C31: n | D31: Effekt | E31: n | F31: Effekt | G31: n
A32: 400 | B32: =$B$38*A32/1000 -> 137.2 | D32: =$D$38*A32/1000 -> 243.6 | F32: =A32*$F$38/1000 -> 356.4
A33: 500 | B33: =$B$38*A33/1000 -> 171.5 | D33: =$D$38*A33/1000 -> 304.5 | F33: =A33*$F$38/1000 -> 445.5
A34: 600 | B34: =$B$38*A34/1000 -> 205.8 | D34: =$D$38*A34/1000 -> 365.4 | F34: =A34*$F$38/1000 -> 534.6
A35: 700 | B35: =$B$38*A35/1000 -> 240.1 | D35: =$D$38*A35/1000 -> 426.3 | F35: =A35*$F$38/1000 -> 623.7
A36: 800 | B36: =$B$38*A36/1000 -> 274.4 | D36: =$D$38*A36/1000 -> 487.2 | F36: =A36*$F$38/1000 -> 712.8
A37: 900 | B37: =$B$38*A37/1000 -> 308.7 | D37: =$D$38*A37/1000 -> 548.1 | F37: =A37*$F$38/1000 -> 801.9
A38: 1000 | B38: 343 | C38: 1.25 | D38: 609 | E38: 1.2507 | F38: 891 | G38: 1.2105
A39: 1100 | B39: =$B$38*A39/1000 -> 377.3 | D39: =$D$38*A39/1000 -> 669.9 | F39: =A39*$F$38/1000 -> 980.1
A40: 1200 | B40: =$B$38*A40/1000 -> 411.6 | D40: =$D$38*A40/1000 -> 730.8 | F40: =A40*$F$38/1000 -> 1069.2
A41: 1300 | B41: =$B$38*A41/1000 -> 445.9 | D41: =$D$38*A41/1000 -> 791.7 | F41: =A41*$F$38/1000 -> 1158.3
A42: 1400 | B42: =$B$38*A42/1000 -> 480.2 | D42: =$D$38*A42/1000 -> 852.6 | F42: =A42*$F$38/1000 -> 1247.4
A43: 1500 | B43: =$B$38*A43/1000 -> 514.5 | D43: =$D$38*A43/1000 -> 913.5 | F43: =A43*$F$38/1000 -> 1336.5
A44: 1600 | B44: =$B$38*A44/1000 -> 548.8 | D44: =$D$38*A44/1000 -> 974.4 | F44: =A44*$F$38/1000 -> 1425.6
A45: 1700 | B45: =$B$38*A45/1000 -> 583.1 | D45: =$D$38*A45/1000 -> 1035.3 | F45: =A45*$F$38/1000 -> 1514.7
A46: 1800 | B46: =$B$38*A46/1000 -> 617.4 | D46: =$D$38*A46/1000 -> 1096.2 | F46: =A46*$F$38/1000 -> 1603.8
...
