Workbook
Name kopl400: Data!$D$3:$F$3
Name Kopplingstyp1: Data!$D$3:$F$3
Name Panelmodell: Data!$A$3:$A$13

Sheet Mitoitus
I1: v. 2024-09
I2: Päivämäärä: | J2: 2024-xx-xx
I3: Laatija:
A6: ARENA- ja CASA-kattosäteilijöiden mitoitus
A8: Tiedot | F8: Ohjeet | K8: Lisätiedot
A10: Pituus | C10: 0 | D10: m | E10: 1. | F10: Tilan pituus
A11: Leveys | C11: 0 | D11: m | E11: 2. | F11: Tilan leveys | K11: 7. | L11: Kytkentävaihtoehdot
A12: Korkeus | C12: 0 | D12: m | E12: 3. | F12: Tilan korkeus
A13: Pinta-ala | C13: =C10*C11 -> 0 | D13: m2
A15: Huonelämpötila | C15: 20 | D15: °C | E15: 4. | F15: Toivottu huonelämpötila | L15: P-kytkentä
A16: Menoveden lämpötila | C16: 75 | D16: °C | E16: 5. | F16: Syötä menoveden lämpötila
A17: Paluuveden lämpötila | C17: 65 | D17: °C | E17: 6. | F17: Syötä paluuveden lämpötila
A18: Lämpötilaero | C18: =((C16+C17)/2)-C15 -> 50 | D18: °C
A20: Kattosäteilijämalli | C20: Casa 400 P | E20: 7. | F20: Valitse kattosäteilijä ja kytkentätyyppi
L21: D-kytkentä
A22: Leveys | C22: =VLOOKUP(C$20,Data!$A$3:$B$15,2,FALSE) -> 400 | D22: mm
A23: Kytkentädimensio Ø | C23: =VLOOKUP(C$20,Data!$A$3:$C$15,3,FALSE) -> 12 | D23: mm
A24: Paino per linja | C24: =(VLOOKUP(C20,Data!A3:M15,10,FALSE))*C31 -> 0 | D24: kg
A25: Paino veden kanssa | C25: =(VLOOKUP(C20,Data!A3:M15,11,FALSE))*C31 -> 0 | D25: kg
A26: Teho per tehollinen metri | C26: =VLOOKUP(C$20,Data!$A$3:$I$15,9,FALSE) -> 194.2655 | D26: W | L26: S-kytkentä
A28: Linjojen lukumäärä | C28: 1 | D28: kpl | E28: 8 | F28: Syötä linjojen lukumäärä
A29: Paneelien lkm/linja | C29: =ROUNDUP(C$32/6,0) -> 0 | D29: kpl | F29: Linja optimoidaan 6 m paneelipituudella. | K29: Jos pituudet poikkeavat, ottakaa yhteyttä Straventiin.
A30: Tehollinen pituus | C30: =VLOOKUP(C20,Data!A3:L15,12,FALSE) -> 0 | D30: m
A31: Todellinen linjapituus | C31: =VLOOKUP(C20,Data!A3:M15,13,FALSE) -> 0 | D31: m | K31: Todellinen linjapituus = lähin vakiopituus
A32: Toivottu linjapituus | C32: 0 | D32: m | E32: 9 | F32: Syötä toivottu linjapituus | K32: Jos laskennassa on ainoastaan yksi paneeli,
A33: Teho per linja | C33: =C26*C30 -> 0 | D33: W | K33: syötetään linjojen lukumääräksi "1".
A34: Kokonaisteho | C34: =(C33*C28)/1000 -> 0 | D34: kW
A35: Teho per m2 | C35: =IF(C10="",0,(C33*C28)/C13) -> #DIV/0! | D35: W/m2
A36: Virtaama per linja (l/s) | C36: =(C$33/(1.164*(C$16-C$17)))/3600 -> 0 | D36: l/s | F36: Pienin suositeltava virtaama | I36: l/s= | J36: =VLOOKUP(C20,Data!A3:P15,16,FALSE) -> 0.02 | K36: Pienemmillä virtaamilla tulisi vaihtaa kytkentätyyppiä,
A37: Virtaama per linja (l/h) | C37: =C$36*3600 -> 0 | D37: l/h | I37: l/h= | J37: =J36*3600 -> 72 | K37: nostaa paluuveden lämpötilaa tai valita toinen paneeli.
A38: Painehäviö | D38: kPa
A40: Kattosäteilijöiden lkm | C40: =C28*C29 -> 0 | D40: kpl
A43: KOKONAISTEHO | C43: =IF((C36)<(J36-0.0005),0,C34) -> 0 | D43: kW | F43: KOKONAISTEHO/m2 | I43: =C35+F35+I35 -> #DIV/0! | J43: W/m2
A44: KOKONAISVIRTAAMA | C44: =(C37*C28) -> 0 | D44: l/h
A45: SUURIN PAINEHÄVIÖ | C45: =Painehäviö!N10 -> 0 | D45: kPa
A47: Stravent Oy | Piispantilankuja 4, 02240 Espoo | puh. 09 4241 3630 | info@stravent.fi | www.stravent.fi

Sheet Data
A2: Paneelityyppi | B2: Leveys | C2: Liitäntä | D2: Kytkentätyyppi | G2: Ktot (per tehollinen metri) | H2: n-kerroin | I2: Teho/m | J2: Paino/m tyhjä | K2: Paino/m täytetty | L2: Tehollinen pituus | M2: Rakennepituus | N2: K | O2: n | P2: Min. virtaama | Q2: Karheus, e | R2: Sisähalkaisija | S2: Mutkien lkm, täysi virtaus | T2: Putkipituus, täysi virtaus | U2: Mutkien lkm, osavirtaus | V2: Putkipituus, osavirtaus | W2: Täysi virtaus | X2: Osavirtaus | Y2: Paneelit ≥3 m | Z2: Paneelit <3 m | AA2: Asennussarjat | AB2: Versiohistoria
A3: Casa 400 P | B3: 400 | C3: 12 | D3: P | G3: 1.9489 | H3: 1.152 | I3: =($G3*(((Mitoitus!$C$16+Mitoitus!$C$17)/2)-Mitoitus!$C$15)^$H3)*1.1 -> 194.2655 | J3: 2.6 | K3: 2.76 | L3: =M3-(Mitoitus!$C$29*0.1) -> 0 | M3: =ROUND(Mitoitus!$C$32,1) -> 0 | N3: 3.582 | O3: 1.011 | P3: 0.02 | Q3: 0.01 | R3: 10 | S3: 2 | T3: =(M3*2)+0.2 -> 0.2 | U3: 0 | V3: 0 | W3: =Mitoitus!C36 -> 0 | X3: 0 | AB3: 42132 | AC3: Päivitetty kaikkien mallien painot sekä Casan tehollinen pituus
A4: Casa 400 D | B4: 400 | C4: 12 | E4: D | G4: 1.9489 | H4: 1.152 | I4: =($G4*(((Mitoitus!$C$16+Mitoitus!$C$17)/2)-Mitoitus!$C$15)^$H4)*1.1 -> 194.2655 | J4: 2.6 | K4: 2.76 | L4: =M4-(Mitoitus!$C$29*0.1) -> 0 | M4: =ROUND(Mitoitus!$C$32,1) -> 0 | N4: 3.582 | O4: 1.011 | P4: 0.04 | Q4: 0.01 | R4: 10 | S4: 0 | T4: 0 | U4: 2 | V4: =M4+0.2 -> 0.2 | W4: 0 | X4: =Mitoitus!C36/2 -> 0 | AB4: 43510 | AC4: Lisätty varoitus liian pienestä virtaamasta, paneelipituus pyöristetään todelliseen pituuteen.
A5: Casa 800 P | B5: 800 | C5: 15 | D5: P | G5: 3.8297 | H5: 1.1398 | I5: =($G5*(((Mitoitus!$C$16+Mitoitus!$C$17)/2)-Mitoitus!$C$15)^$H5)*1.1 -> 363.95145 | J5: 5.2 | K5: 5.5 | L5: =M5-(Mitoitus!$C$29*0.1) -> 0 | M5: =ROUND(Mitoitus!$C$32,1) -> 0 | P5: 0.04 | Q5: 0.01 | R5: 10 | S5: 0 | T5: 0 | U5: 3 | V5: =(M5*2)+0.6 -> 0.6 | W5: 0 | X5: =Mitoitus!C36/2 -> 0 | AB5: 45208 | AC5: Lisätty painehäviölaskenta
A6: Casa 800 D | B6: 800 | C6: 15 | E6: D | G6: 3.8297 | H6: 1.1398 | I6: =($G6*(((Mitoitus!$C$16+Mitoitus!$C$17)/2)-Mitoitus!$C$15)^$H6)*1.1 -> 363.95145 | J6: 5.2 | K6: 5.5 | L6: =M6-(Mitoitus!$C$29*0.1) -> 0 | M6: =ROUND(Mitoitus!$C$32,1) -> 0 | P6: 0.08 | Q6: 0.01 | R6: 10 | S6: 0 | T6: 0 | U6: 2 | V6: =M6+0.6 -> 0.6 | W6: 0 | X6: =Mitoitus!C36/4 -> 0 | AB6: 45441 | AC6: Casan karheusarvo muutettu 0,0015:stä 0,01:een. Mallien 400D, 800D, 800P, 615D ja 900P laskelmat varmennettu MagiCADilla. (Casa rh 0,01 ja Arena rh 0,045).
A7: Casa 800 S | B7: 800 | C7: 15 | F7: S | G7: 3.8297 | H7: 1.1398 | I7: =($G7*(((Mitoitus!$C$16+Mitoitus!$C$17)/2)-Mitoitus!$C$15)^$H7)*1.1 -> 363.95145 | J7: 5.2 | K7: 5.5 | L7: =M7-(Mitoitus!$C$29*0.1) -> 0 | M7: =ROUND(Mitoitus!$C$32,1) -> 0 | P7: 0.02 | Q7: 0.01 | R7: 10 | S7: 6 | T7: =(M7*4)+(0.2*2) -> 0.4 | U7: 0 | V7: 0 | W7: =Mitoitus!C36 -> 0 | X7: 0 | AB7: 45540 | AC7: Uusi laskentamoottori raportin 30-17053/1/T mukaisesti. Arenalle ei tehty uusia mittauksia.
A8: Casa 1200 P | B8: 1200 | C8: 15 | D8: P | G8: 5.6501 | H8: 1.1381 | I8: =($G8*(((Mitoitus!$C$16+Mitoitus!$C$17)/2)-Mitoitus!$C$15)^$H8)*1.1 -> 533.3921 | J8: 7.8 | K8: 8.3 | L8: =M8-(Mitoitus!$C$29*0.1) -> 0 | M8: =ROUND(Mitoitus!$C$32,1) -> 0 | N8: 5.061 | O8: 1.168 | P8: 0.06 | Q8: 0.01 | R8: 10 | S8: 0 | T8: 0 | U8: 4 | V8: =(M8*2)+1 -> 1 | W8: 0 | X8: =Mitoitus!C36/3 -> 0
A9: Casa 1200 D | B9: 1200 | C9: 15 | E9: D | G9: 5.6501 | H9: 1.1381 | I9: =($G9*(((Mitoitus!$C$16+Mitoitus!$C$17)/2)-Mitoitus!$C$15)^$H9)*1.1 -> 533.3921 | J9: 7.8 | K9: 8.3 | L9: =M9-(Mitoitus!$C$29*0.1) -> 0 | M9: =ROUND(Mitoitus!$C$32,1) -> 0 | N9: 5.061 | O9: 1.168 | P9: 0.12 | Q9: 0.01 | R9: 10 | S9: 0 | T9: 0 | U9: 2 | V9: =M9+1 -> 1 | W9: 0 | X9: =Mitoitus!C36/6 -> 0
A10: Casa 1200 S | B10: 1200 | C10: 15 | F10: S | G10: 5.6501 | H10: 1.1381 | I10: =($G10*(((Mitoitus!$C$16+Mitoitus!$C$17)/2)-Mitoitus!$C$15)^$H10)*1.1 -> 533.3921 | J10: 7.8 | K10: 8.3 | L10: =M10-(Mitoitus!$C$29*0.1) -> 0 | M10: =ROUND(Mitoitus!$C$32,1) -> 0 | N10: 5.061 | O10: 1.168 | P10: 0.02 | Q10: 0.01 | R10: 10 | S10: 10 | T10: =(M10*6)+(0.2*5) -> 1 | U10: 0 | V10: 0 | W10: =Mitoitus!C36 -> 0 | X10: 0
A11: Arena 615 P | B11: 615 | C11: 35 | D11: P | G11: 2.4547 | H11: 1.1927 | I11: =($G11*(((Mitoitus!$C$16+Mitoitus!$C$17)/2)-Mitoitus!$C$15)^$H11) -> 260.83144 | J11: 4.5 | K11: 6.1 | L11: =M11-(Mitoitus!$C$29*0.5) -> 0 | M11: =MROUND(Mitoitus!$C$32,0.5) -> 0 | N11: =8.218/3.077 -> 2.6707832 | O11: 1.196 | P11: 0.036 | Q11: 0.25 | R11: 32 | S11: 2 | T11: =(M11*2)+0.27 -> 0.27 | U11: 0 | V11: 0 | W11: =Mitoitus!C36 -> 0 | X11: 0
A12: Arena 615 D | B12: 615 | C12: 35 | E12: D | G12: 2.4547 | H12: 1.1927 | I12: =($G12*(((Mitoitus!$C$16+Mitoitus!$C$17)/2)-Mitoitus!$C$15)^$H12) -> 260.83144 | J12: 4.5 | K12: 6.1 | L12: =M12-(Mitoitus!$C$29*0.5) -> 0 | M12: =MROUND(Mitoitus!$C$32,0.5) -> 0 | N12: =8.218/3.077 -> 2.6707832 | O12: 1.196 | P12: 0.072 | Q12: 0.25 | R12: 32 | S12: 0 | T12: 0 | U12: 2 | V12: =M12+0.27 -> 0.27 | W12: 0 | X12: =Mitoitus!C36/2 -> 0
A13: Arena 900 P | B13: 900 | C13: 35 | D13: P | G13: 3.8271 | H13: 1.1902 | I13: =($G13*(((Mitoitus!$C$16+Mitoitus!$C$17)/2)-Mitoitus!$C$15)^$H13) -> 402.70211 | J13: 6.9 | K13: 9.3 | L13: =M13-(Mitoitus!$C$29*0.5) -> 0 | M13: =MROUND(Mitoitus!$C$32,0.5) -> 0 | N13: =11.979/3.077 -> 3.8930777 | O13: 1.192 | P13: 0.072 | Q13: 0.25 | R13: 32 | S13: 0 | T13: =M13 -> 0 | U13: 3 | V13: =M13+(0.27*2) -> 0.54 | W13: =Mitoitus!C36 -> 0 | X13: =Mitoitus!C36/2 -> 0
A14: Arena 900 D | B14: 900 | C14: 35 | E14: D | G14: 3.8271 | H14: 1.1902 | I14: =($G14*(((Mitoitus!$C$16+Mitoitus!$C$17)/2)-Mitoitus!$C$15)^$H14) -> 402.70211 | J14: 6.9 | K14: 9.3 | L14: =M14-(Mitoitus!$C$29*0.5) -> 0 | M14: =MROUND(Mitoitus!$C$32,0.5) -> 0 | N14: =11.979/3.077 -> 3.8930777 | O14: 1.192 | P14: 0.108 | Q14: 0.25 | R14: 32 | S14: 0 | T14: 0 | U14: 2 | V14: =M14+(0.27*2) -> 0.54 | W14: 0 | X14: =Mitoitus!C36/3 -> 0
A15: Arena 900 S | B15: 900 | C15: 35 | F15: S | G15: 3.8271 | H15: 1.1902 | I15: =($G15*(((Mitoitus!$C$16+Mitoitus!$C$17)/2)-Mitoitus!$C$15)^$H15) -> 402.70211 | J15: 6.9 | K15: 9.3 | L15: =M15-(Mitoitus!$C$29*0.5) -> 0 | M15: =MROUND(Mitoitus!$C$32,0.5) -> 0 | N15: =11.979/3.077 -> 3.8930777 | O15: 1.192 | P15: 0.036 | Q15: 0.25 | R15: 32 | S15: 4 | T15: =(M15*3)+(0.2*2) -> 0.4 | U15: 0 | V15: 0 | W15: =Mitoitus!C36 -> 0 | X15: 0
B22: Laskenta 1 | E22: Laskenta 2
B23: Paneelien lkm/linja | C23: Tehollinen pituus | D23: Rakennepituus | E23: Paneelien lkm/linja | F23: Tehollinen pituus | I23: Tehollinen pituus | J23: Rakennepituus
A24: casa | C24: =$D24 -> 0 | D24: =Mitoitus!$C$32 -> 0 | F24: =#REF! -> #REF! | I24: =$J24 -> 0 | J24: =Mitoitus!$I$32 -> 0
A25: casa | C25: =$D25 -> 0 | D25: =Mitoitus!$C$32 -> 0 | F25: =#REF! -> #REF! | I25: =$J25 -> 0 | J25: =Mitoitus!$I$32 -> 0
A26: casa | C26: =$D26 -> 0 | D26: =Mitoitus!$C$32 -> 0 | F26: =#REF! -> #REF! | I26: =$J26 -> 0 | J26: =Mitoitus!$I$32 -> 0
A27: arena | C27: =Mitoitus!$C$32-(Mitoitus!$C$29*0.5) -> 0 | F27: =Mitoitus!$F$32-(Mitoitus!$F$29*0.5) -> #VALUE! | I27: =Mitoitus!$I$32-(Mitoitus!$I$29*0.5) -> 0
A28: arena | C28: =Mitoitus!$C$32-(Mitoitus!$C$29*0.5) -> 0 | F28: =Mitoitus!$F$32-(Mitoitus!$F$29*0.5) -> #VALUE! | I28: =Mitoitus!$I$32-(Mitoitus!$I$29*0.5) -> 0

Sheet Painehäviö
B1: Painehäviö putkessa
A2: Paneeli | B2: Keskilämpötila | C2: Virtaama | D2: Sisähalkaisija | E2: Nopeus | F2: Tiheys | G2: Kinemaattinen viskositeetti | H2: Reynoldsin luku | I2: Karheus | J2: Kitkakerroin | K2: Pituus | L2: Kertavastus | N2: Painehäviö putki | O2: Painehäviö kertavastus | P2: Painehäviö yhteensä
A3: m | B3: °C | C3: l/s | D3: mm | E3: m/s | F3: kg/m3 | G3: m2/s | H3: - | I3: mm | J3: - | K3: m | L3: Mutka | M3: Lukumäärä | N3: kPa | O3: kPa | P3: kPa
B4: t | C4: q | D4: D | E4: v | F4: r | G4: u | H4: Re | I4: e | J4: f | K4: L | L4: x | M4: kpl | N4: dp putki | O4: dp kertavastus | P4: dp yhteensä
A5: =Mitoitus!C20 -> Casa 400 P | B5: =(Mitoitus!C16+Mitoitus!C17)/2 -> 70 | C5: =VLOOKUP(A5,Data!A3:X17,23,FALSE) -> 0 | D5: =VLOOKUP(A5,Data!A3:X15,18,FALSE) -> 10 | E5: =IF(Q5=TRUE,"",C5*(4/(D5*D5*3.14)*1000)) -> 0 | F5: =IF(B5="","",-0.0037*B5*B5-0.073*B5+1001) -> 977.76 | G5: =IF(B5="","",0.0002*B5*B5-0.03*B5+1.5564) -> 0.4364 | H5: =IF(Q5=TRUE,"",(E5*D5/G5*1000+0.01)) -> 0.01 | I5: =VLOOKUP(A5,Data!A3:X15,17,FALSE) -> 0.01 | J5: =IF(R5=TRUE,"",(-1.737*LN(0.269*I5/D5-2.185/H5*LN(0.269*I5/D5+14.5/H5)))^-2) -> #NUM! | K5: =VLOOKUP(A5,Data!A3:T15,20,FALSE) -> 0.2 | L5: 0.75 | M5: =VLOOKUP(A5,Data!A3:T15,19,FALSE) -> 2 | N5: =IF(K5="","",IF(H5<2300,INT(64/H5*K5/D5*F5*E5*E5/2*10/9.81*10)/10,INT(4*J5*K5/D5*F5*E5*E5/2*10/9.81*10)/10)) -> 0 | O5: =IF(T5=TRUE,"",INT(L5*M5*F5*E5*E5/2/100/9.81*10)/10) -> 0 | P5: =IF(U5+V5=0,"",U5+V5) | Q5: =OR(B5="",C5="",D5="") -> FALSE | R5: =OR(H5="",I5="") -> FALSE | S5: =OR(L5="",M5="") -> FALSE | T5: =OR(Q5=TRUE,S5=TRUE) -> FALSE | U5: =IF(N5="",0,N5) -> 0 | V5: =IF(O5="",0,O5) -> 0
A6: =Mitoitus!C20 -> Casa 400 P | B6: =(Mitoitus!C16+Mitoitus!C17)/2 -> 70 | C6: =VLOOKUP(A6,Data!A3:X17,24,FALSE) -> 0 | D6: =VLOOKUP(A6,Data!A3:X15,18,FALSE) -> 10 | E6: =IF(Q6=TRUE,"",C6*(4/(D6*D6*3.14)*1000)) -> 0 | F6: =IF(B6="","",-0.0037*B6*B6-0.073*B6+1001) -> 977.76 | G6: =IF(B6="","",0.0002*B6*B6-0.03*B6+1.5564) -> 0.4364 | H6: =IF(Q6=TRUE,"",(E6*D6/G6*1000+0.01)) -> 0.01 | I6: =VLOOKUP(A6,Data!A3:X15,17,FALSE) -> 0.01 | J6: =IF(R6=TRUE,"",(-1.737*LN(0.269*I6/D6-2.185/H6*LN(0.269*I6/D6+14.5/H6)))^-2) -> #NUM! | K6: =VLOOKUP(A6,Data!A3:X15,22,FALSE) -> 0 | L6: 0.75 | M6: =VLOOKUP(A6,Data!A3:X15,21,FALSE) -> 0 | N6: =IF(K6="","",IF(H6<2300,INT(64/H6*K6/D6*F6*E6*E6/2*10/9.81*10)/10,INT(4*J6*K6/D6*F6*E6*E6/2*10/9.81*10)/10)) -> 0 | O6: =IF(T6=TRUE,"",INT(L6*M6*F6*E6*E6/2/100/9.81*10)/10) -> 0 | P6: =IF(U6+V6=0,"",U6+V6) | Q6: =OR(B6="",C6="",D6="") -> FALSE | R6: =OR(H6="",I6="") -> FALSE | S6: =OR(L6="",M6="") -> FALSE | T6: =OR(Q6=TRUE,S6=TRUE) -> FALSE | U6: =IF(N6="",0,N6) -> 0 | V6: =IF(O6="",0,O6) -> 0
M9: Summa: | N9: =N5+N6 -> 0 | O9: =O5+O6 -> 0
M10: Yht.: | N10: =N9+O9 -> 0
